BEGIN:VCALENDAR
VERSION:2.0
PRODID:-//Beth Or Miami - ECPv6.3.2//NONSGML v1.0//EN
CALSCALE:GREGORIAN
METHOD:PUBLISH
X-WR-CALNAME:Beth Or Miami
X-ORIGINAL-URL:https://staging.bethormiami.com
X-WR-CALDESC:Events for Beth Or Miami
REFRESH-INTERVAL;VALUE=DURATION:PT1H
X-Robots-Tag:noindex
X-PUBLISHED-TTL:PT1H
BEGIN:VTIMEZONE
TZID:America/New_York
BEGIN:DAYLIGHT
TZOFFSETFROM:-0500
TZOFFSETTO:-0400
TZNAME:EDT
DTSTART:20230312T070000
END:DAYLIGHT
BEGIN:STANDARD
TZOFFSETFROM:-0400
TZOFFSETTO:-0500
TZNAME:EST
DTSTART:20231105T060000
END:STANDARD
END:VTIMEZONE
BEGIN:VEVENT
DTSTART;TZID=America/New_York:20231008T130000
DTEND;TZID=America/New_York:20231008T150000
DTSTAMP:20260422T183030
CREATED:20230524T172656Z
LAST-MODIFIED:20230524T172741Z
UID:9604-1696770000-1696777200@staging.bethormiami.com
SUMMARY:Red Tent Book Club Meeting
DESCRIPTION:
URL:https://staging.bethormiami.com/event/red-tent-book-club-meeting-13/
CATEGORIES:Community
ATTACH;FMTTYPE=image/jpeg:https://staging.bethormiami.com/wp-content/uploads/2022/07/bookreview.jpg
END:VEVENT
BEGIN:VEVENT
DTSTART;TZID=America/New_York:20231006T180000
DTEND;TZID=America/New_York:20231006T200000
DTSTAMP:20260422T183030
CREATED:20230602T154519Z
LAST-MODIFIED:20230620T175658Z
UID:9662-1696615200-1696622400@staging.bethormiami.com
SUMMARY:Simchat Torah Shabbat with Oneg
DESCRIPTION:
URL:https://staging.bethormiami.com/event/simchat-torah-3/
CATEGORIES:Community
ATTACH;FMTTYPE=image/png:https://staging.bethormiami.com/wp-content/uploads/2023/06/Simchat-Torah.png
END:VEVENT
BEGIN:VEVENT
DTSTART;TZID=America/New_York:20231001T160000
DTEND;TZID=America/New_York:20231001T180000
DTSTAMP:20260422T183030
CREATED:20230612T180131Z
LAST-MODIFIED:20230619T173005Z
UID:9813-1696176000-1696183200@staging.bethormiami.com
SUMMARY:Fiddler on the Roof performed at Beth Or
DESCRIPTION:
URL:https://staging.bethormiami.com/event/fiddler-on-the-roof-performed-at-beth-or/
CATEGORIES:Community
END:VEVENT
BEGIN:VEVENT
DTSTART;TZID=America/New_York:20231001T100000
DTEND;TZID=America/New_York:20231001T100000
DTSTAMP:20260422T183030
CREATED:20230612T180030Z
LAST-MODIFIED:20230612T180030Z
UID:9811-1696154400-1696154400@staging.bethormiami.com
SUMMARY:GOL Workshop
DESCRIPTION:
URL:https://staging.bethormiami.com/event/gol-workshop/
CATEGORIES:Community
ATTACH;FMTTYPE=image/png:https://staging.bethormiami.com/wp-content/uploads/2022/08/Gallery-of-Light.png
END:VEVENT
BEGIN:VEVENT
DTSTART;TZID=America/New_York:20230929T180000
DTEND;TZID=America/New_York:20230929T200000
DTSTAMP:20260422T183030
CREATED:20230612T170540Z
LAST-MODIFIED:20230620T173910Z
UID:9808-1696010400-1696017600@staging.bethormiami.com
SUMMARY:Sukkot Shabbat with Oneg
DESCRIPTION:
URL:https://staging.bethormiami.com/event/sukkot-shabbat-with-oneg/
CATEGORIES:Community
ATTACH;FMTTYPE=image/jpeg:https://staging.bethormiami.com/wp-content/uploads/2022/06/Happy-Sukkot.jpg
END:VEVENT
BEGIN:VEVENT
DTSTART;TZID=America/New_York:20230927T180000
DTEND;TZID=America/New_York:20230927T200000
DTSTAMP:20260422T183030
CREATED:20230612T170309Z
LAST-MODIFIED:20230621T144105Z
UID:9805-1695837600-1695844800@staging.bethormiami.com
SUMMARY:Sukkah decorating and pizza party
DESCRIPTION:
URL:https://staging.bethormiami.com/event/sukkah-decorating-and-pizza-party/
CATEGORIES:Community
ATTACH;FMTTYPE=image/jpeg:https://staging.bethormiami.com/wp-content/uploads/2022/08/decorated-sukkah.jpg
END:VEVENT
BEGIN:VEVENT
DTSTART;TZID=America/New_York:20230925T170000
DTEND;TZID=America/New_York:20230925T170000
DTSTAMP:20260422T183030
CREATED:20230621T143956Z
LAST-MODIFIED:20230621T143956Z
UID:9925-1695661200-1695661200@staging.bethormiami.com
SUMMARY:Communal Break Fast (following havdalah)
DESCRIPTION:
URL:https://staging.bethormiami.com/event/communal-break-fast-following-havdalah/
END:VEVENT
BEGIN:VEVENT
DTSTART;TZID=America/New_York:20230925T160000
DTEND;TZID=America/New_York:20230925T160000
DTSTAMP:20260422T183030
CREATED:20230621T143748Z
LAST-MODIFIED:20230621T143748Z
UID:9921-1695657600-1695657600@staging.bethormiami.com
SUMMARY:Yizkor\, Neilah\, Havdalah
DESCRIPTION:
URL:https://staging.bethormiami.com/event/yizkor-neilah-havdalah/
END:VEVENT
BEGIN:VEVENT
DTSTART;TZID=America/New_York:20230925T123000
DTEND;TZID=America/New_York:20230925T140000
DTSTAMP:20260422T183030
CREATED:20230621T143654Z
LAST-MODIFIED:20230621T143654Z
UID:9919-1695645000-1695650400@staging.bethormiami.com
SUMMARY:Yom Kippur (No) lunch and Learn
DESCRIPTION:
URL:https://staging.bethormiami.com/event/yom-kippur-no-lunch-and-learn/
END:VEVENT
BEGIN:VEVENT
DTSTART;TZID=America/New_York:20230925T100000
DTEND;TZID=America/New_York:20230925T123000
DTSTAMP:20260422T183030
CREATED:20230601T173402Z
LAST-MODIFIED:20230621T143552Z
UID:9653-1695636000-1695645000@staging.bethormiami.com
SUMMARY:Yom Kippur Service
DESCRIPTION:
URL:https://staging.bethormiami.com/event/yom-kippur-4/
CATEGORIES:Community
ATTACH;FMTTYPE=image/jpeg:https://staging.bethormiami.com/wp-content/uploads/2022/06/Yom-Kippur.jpg
END:VEVENT
BEGIN:VEVENT
DTSTART;TZID=America/New_York:20230924T180000
DTEND;TZID=America/New_York:20230924T193000
DTSTAMP:20260422T183030
CREATED:20230601T173242Z
LAST-MODIFIED:20230621T143407Z
UID:9651-1695578400-1695583800@staging.bethormiami.com
SUMMARY:Kol Nidre Service
DESCRIPTION:
URL:https://staging.bethormiami.com/event/kol-nidre-2/
CATEGORIES:Community
ATTACH;FMTTYPE=image/jpeg:https://staging.bethormiami.com/wp-content/uploads/2022/06/Kol-Nidre.jpg
END:VEVENT
BEGIN:VEVENT
DTSTART;TZID=America/New_York:20230922T193000
DTEND;TZID=America/New_York:20230922T193000
DTSTAMP:20260422T183030
CREATED:20230822T151156Z
LAST-MODIFIED:20230822T151156Z
UID:9998-1695411000-1695411000@staging.bethormiami.com
SUMMARY:Shabbat Service with Mel Tenen
DESCRIPTION:https://us02web.zoom.us/meeting/register/tZIodOGuqDooHdekpX3wyWYKjD0KJKdHH97O
URL:https://staging.bethormiami.com/event/shabbat-service-with-mel-tenen-4/
CATEGORIES:Community
ATTACH;FMTTYPE=image/png:https://staging.bethormiami.com/wp-content/uploads/2020/12/Shabbat.png
END:VEVENT
BEGIN:VEVENT
DTSTART;TZID=America/New_York:20230918T193000
DTEND;TZID=America/New_York:20230918T193000
DTSTAMP:20260422T183030
CREATED:20230605T175031Z
LAST-MODIFIED:20230605T175031Z
UID:9760-1695065400-1695065400@staging.bethormiami.com
SUMMARY:Short Story – Book Talk
DESCRIPTION:
URL:https://staging.bethormiami.com/event/short-story-book-talk-6/
CATEGORIES:Community
ATTACH;FMTTYPE=image/jpeg:https://staging.bethormiami.com/wp-content/uploads/2022/07/bookreview.jpg
END:VEVENT
BEGIN:VEVENT
DTSTART;TZID=America/New_York:20230916T150000
DTEND;TZID=America/New_York:20230916T170000
DTSTAMP:20260422T183030
CREATED:20230727T180008Z
LAST-MODIFIED:20230727T180008Z
UID:9962-1694876400-1694883600@staging.bethormiami.com
SUMMARY:Tashich at Coral Reef Park
DESCRIPTION:
URL:https://staging.bethormiami.com/event/tashich-at-coral-reef-park/
CATEGORIES:Community
END:VEVENT
BEGIN:VEVENT
DTSTART;TZID=America/New_York:20230916T123000
DTEND;TZID=America/New_York:20230916T140000
DTSTAMP:20260422T183030
CREATED:20230621T143213Z
LAST-MODIFIED:20230621T143213Z
UID:9916-1694867400-1694872800@staging.bethormiami.com
SUMMARY:Lunch and Learn
DESCRIPTION:
URL:https://staging.bethormiami.com/event/lunch-and-learn/
END:VEVENT
BEGIN:VEVENT
DTSTART;TZID=America/New_York:20230916T100000
DTEND;TZID=America/New_York:20230916T123000
DTSTAMP:20260422T183030
CREATED:20230612T165636Z
LAST-MODIFIED:20230621T143052Z
UID:9798-1694858400-1694867400@staging.bethormiami.com
SUMMARY:Rosh Hashana Service
DESCRIPTION:
URL:https://staging.bethormiami.com/event/rosh-hashana-service-and-lunch-and-learn/
CATEGORIES:Community
ATTACH;FMTTYPE=image/jpeg:https://staging.bethormiami.com/wp-content/uploads/2022/06/Rosh-Hashanah.jpg
END:VEVENT
BEGIN:VEVENT
DTSTART;TZID=America/New_York:20230915T180000
DTEND;TZID=America/New_York:20230915T180000
DTSTAMP:20260422T183030
CREATED:20230601T173031Z
LAST-MODIFIED:20230621T142913Z
UID:9649-1694800800-1694800800@staging.bethormiami.com
SUMMARY:Abbreviated Erev Rosh Hashanah Service
DESCRIPTION:
URL:https://staging.bethormiami.com/event/rosh-hashanah-3/
CATEGORIES:Community
ATTACH;FMTTYPE=image/jpeg:https://staging.bethormiami.com/wp-content/uploads/2022/06/Rosh-Hashanah.jpg
END:VEVENT
BEGIN:VEVENT
DTSTART;TZID=America/New_York:20230910T140000
DTEND;TZID=America/New_York:20230910T170000
DTSTAMP:20260422T183030
CREATED:20230820T165454Z
LAST-MODIFIED:20230820T171454Z
UID:9970-1694354400-1694365200@staging.bethormiami.com
SUMMARY:Beth Or Choir Practice
DESCRIPTION:
URL:https://staging.bethormiami.com/event/beth-or-choir-practice-2/
CATEGORIES:Community
END:VEVENT
BEGIN:VEVENT
DTSTART;TZID=America/New_York:20230910T130000
DTEND;TZID=America/New_York:20230910T150000
DTSTAMP:20260422T183030
CREATED:20230524T172356Z
LAST-MODIFIED:20230524T172356Z
UID:9601-1694350800-1694358000@staging.bethormiami.com
SUMMARY:Red Tent Book club Meeting
DESCRIPTION:
URL:https://staging.bethormiami.com/event/red-tent-book-club-meeting-12/
CATEGORIES:Community
ATTACH;FMTTYPE=image/jpeg:https://staging.bethormiami.com/wp-content/uploads/2022/07/bookreview.jpg
END:VEVENT
BEGIN:VEVENT
DTSTART;TZID=America/New_York:20230910T090000
DTEND;TZID=America/New_York:20230910T210000
DTSTAMP:20260422T183030
CREATED:20230821T153518Z
LAST-MODIFIED:20230821T153652Z
UID:9977-1694336400-1694379600@staging.bethormiami.com
SUMMARY:JCS Milk & Honey
DESCRIPTION:
URL:https://staging.bethormiami.com/event/honey-milk/
CATEGORIES:Community
ATTACH;FMTTYPE=image/png:https://staging.bethormiami.com/wp-content/uploads/2023/08/milk-and-honey.png
END:VEVENT
BEGIN:VEVENT
DTSTART;TZID=America/New_York:20230909T140000
DTEND;TZID=America/New_York:20230909T180000
DTSTAMP:20260422T183030
CREATED:20230612T165337Z
LAST-MODIFIED:20230621T142732Z
UID:9795-1694268000-1694282400@staging.bethormiami.com
SUMMARY:Selichot Shabbaton - Torah Study\, Lunch\, Art Project and Havdalah
DESCRIPTION:
URL:https://staging.bethormiami.com/event/selichot-shabbaton-torah-study-lunch-art-project-and-havdalah/
CATEGORIES:Community
ATTACH;FMTTYPE=image/png:https://staging.bethormiami.com/wp-content/uploads/2022/06/Selichot.png
END:VEVENT
BEGIN:VEVENT
DTSTART;TZID=America/New_York:20230908T180000
DTEND;TZID=America/New_York:20230908T220000
DTSTAMP:20260422T183030
CREATED:20230612T165230Z
LAST-MODIFIED:20230620T173145Z
UID:9793-1694196000-1694210400@staging.bethormiami.com
SUMMARY:Selichot Shabbaton - Welcome New Members at Service
DESCRIPTION:
URL:https://staging.bethormiami.com/event/selichot-shabbaton-welcome-new-members-at-service/
CATEGORIES:Community
ATTACH;FMTTYPE=image/png:https://staging.bethormiami.com/wp-content/uploads/2022/06/Selichot.png
END:VEVENT
BEGIN:VEVENT
DTSTART;VALUE=DATE:20230904
DTEND;VALUE=DATE:20230905
DTSTAMP:20260422T183030
CREATED:20230601T172620Z
LAST-MODIFIED:20230601T172620Z
UID:9646-1693785600-1693871999@staging.bethormiami.com
SUMMARY:Labor Day
DESCRIPTION:
URL:https://staging.bethormiami.com/event/labor-day-2/
CATEGORIES:Community
ATTACH;FMTTYPE=image/png:https://staging.bethormiami.com/wp-content/uploads/2023/06/labor-day.png
END:VEVENT
BEGIN:VEVENT
DTSTART;TZID=America/New_York:20230901T193000
DTEND;TZID=America/New_York:20230901T193000
DTSTAMP:20260422T183030
CREATED:20230822T150532Z
LAST-MODIFIED:20230822T150532Z
UID:9992-1693596600-1693596600@staging.bethormiami.com
SUMMARY:Shabbat Service with Community Service
DESCRIPTION:https://us02web.zoom.us/meeting/register/tZIodOGuqDooHdekpX3wyWYKjD0KJKdHH97O
URL:https://staging.bethormiami.com/event/shabbat-service-with-community-service-2/
CATEGORIES:Community
ATTACH;FMTTYPE=image/png:https://staging.bethormiami.com/wp-content/uploads/2020/12/Shabbat.png
END:VEVENT
BEGIN:VEVENT
DTSTART;TZID=America/New_York:20230830T103000
DTEND;TZID=America/New_York:20230830T113000
DTSTAMP:20260422T183030
CREATED:20230720T145532Z
LAST-MODIFIED:20230720T145532Z
UID:9958-1693391400-1693395000@staging.bethormiami.com
SUMMARY:Social Justice Roundtable
DESCRIPTION:
URL:https://staging.bethormiami.com/event/social-justice-roundtable/
CATEGORIES:Community
ATTACH;FMTTYPE=image/jpeg:https://staging.bethormiami.com/wp-content/uploads/2022/04/26513.jpg
END:VEVENT
BEGIN:VEVENT
DTSTART;TZID=America/New_York:20230827T140000
DTEND;TZID=America/New_York:20230827T170000
DTSTAMP:20260422T183030
CREATED:20230820T164740Z
LAST-MODIFIED:20230820T171309Z
UID:9967-1693144800-1693155600@staging.bethormiami.com
SUMMARY:Beth Or Choir Practice
DESCRIPTION:
URL:https://staging.bethormiami.com/event/beth-or-choir-practice/
CATEGORIES:Community
END:VEVENT
BEGIN:VEVENT
DTSTART;TZID=America/New_York:20230825T193000
DTEND;TZID=America/New_York:20230825T193000
DTSTAMP:20260422T183030
CREATED:20230822T150326Z
LAST-MODIFIED:20230822T150326Z
UID:9990-1692991800-1692991800@staging.bethormiami.com
SUMMARY:Shabbat Service with Marcy Prince
DESCRIPTION:https://us02web.zoom.us/meeting/register/tZIodOGuqDooHdekpX3wyWYKjD0KJKdHH97O
URL:https://staging.bethormiami.com/event/shabbat-service-with-marcy-prince-3/
CATEGORIES:Community
ATTACH;FMTTYPE=image/png:https://staging.bethormiami.com/wp-content/uploads/2020/12/Shabbat.png
END:VEVENT
BEGIN:VEVENT
DTSTART;TZID=America/New_York:20230822T190000
DTEND;TZID=America/New_York:20230822T190000
DTSTAMP:20260422T183030
CREATED:20230622T165951Z
LAST-MODIFIED:20230622T170349Z
UID:9942-1692730800-1692730800@staging.bethormiami.com
SUMMARY:Climate Change Presentation
DESCRIPTION:Please contact Ellen Siegel at 305.332.5544 or Boodog301@bellsouth.net or e.siegel@ufl.edu
URL:https://staging.bethormiami.com/event/climate-change-presentation-3/
CATEGORIES:Community
END:VEVENT
BEGIN:VEVENT
DTSTART;TZID=America/New_York:20230821T193000
DTEND;TZID=America/New_York:20230821T193000
DTSTAMP:20260422T183030
CREATED:20230605T174945Z
LAST-MODIFIED:20230605T174945Z
UID:9758-1692646200-1692646200@staging.bethormiami.com
SUMMARY:Short Story – Book Talk
DESCRIPTION:
URL:https://staging.bethormiami.com/event/short-story-book-talk-5/
CATEGORIES:Community
ATTACH;FMTTYPE=image/jpeg:https://staging.bethormiami.com/wp-content/uploads/2022/07/bookreview.jpg
END:VEVENT
BEGIN:VEVENT
DTSTART;TZID=America/New_York:20230820T103000
DTEND;TZID=America/New_York:20230820T143000
DTSTAMP:20260422T183030
CREATED:20230727T180147Z
LAST-MODIFIED:20230727T180147Z
UID:9964-1692527400-1692541800@staging.bethormiami.com
SUMMARY:Social Justice Roundtable (light brunch served)
DESCRIPTION:
URL:https://staging.bethormiami.com/event/social-justice-roundtable-light-brunch-served/
CATEGORIES:Community
ATTACH;FMTTYPE=image/jpeg:https://staging.bethormiami.com/wp-content/uploads/2022/04/26513.jpg
END:VEVENT
END:VCALENDAR