BEGIN:VCALENDAR
VERSION:2.0
PRODID:-//Beth Or Miami - ECPv6.3.2//NONSGML v1.0//EN
CALSCALE:GREGORIAN
METHOD:PUBLISH
X-WR-CALNAME:Beth Or Miami
X-ORIGINAL-URL:https://staging.bethormiami.com
X-WR-CALDESC:Events for Beth Or Miami
REFRESH-INTERVAL;VALUE=DURATION:PT1H
X-Robots-Tag:noindex
X-PUBLISHED-TTL:PT1H
BEGIN:VTIMEZONE
TZID:America/New_York
BEGIN:DAYLIGHT
TZOFFSETFROM:-0500
TZOFFSETTO:-0400
TZNAME:EDT
DTSTART:20230312T070000
END:DAYLIGHT
BEGIN:STANDARD
TZOFFSETFROM:-0400
TZOFFSETTO:-0500
TZNAME:EST
DTSTART:20231105T060000
END:STANDARD
BEGIN:DAYLIGHT
TZOFFSETFROM:-0500
TZOFFSETTO:-0400
TZNAME:EDT
DTSTART:20240310T070000
END:DAYLIGHT
BEGIN:STANDARD
TZOFFSETFROM:-0400
TZOFFSETTO:-0500
TZNAME:EST
DTSTART:20241103T060000
END:STANDARD
END:VTIMEZONE
BEGIN:VEVENT
DTSTART;VALUE=DATE:20240115
DTEND;VALUE=DATE:20240116
DTSTAMP:20260422T182040
CREATED:20230602T161831Z
LAST-MODIFIED:20230602T161831Z
UID:9696-1705276800-1705363199@staging.bethormiami.com
SUMMARY:Martin Luther King\, Jr. Day
DESCRIPTION:
URL:https://staging.bethormiami.com/event/martin-luther-king-jr-day-2/
CATEGORIES:Community
ATTACH;FMTTYPE=image/png:https://staging.bethormiami.com/wp-content/uploads/2023/06/Martin-Luther-King.png
END:VEVENT
BEGIN:VEVENT
DTSTART;TZID=America/New_York:20240114T130000
DTEND;TZID=America/New_York:20240114T150000
DTSTAMP:20260422T182040
CREATED:20230524T173240Z
LAST-MODIFIED:20230524T173240Z
UID:9610-1705237200-1705244400@staging.bethormiami.com
SUMMARY:Red Tent Book Club Meeting
DESCRIPTION:
URL:https://staging.bethormiami.com/event/red-tent-book-club-meeting-16/
CATEGORIES:Community
ATTACH;FMTTYPE=image/jpeg:https://staging.bethormiami.com/wp-content/uploads/2022/07/bookreview.jpg
END:VEVENT
BEGIN:VEVENT
DTSTART;TZID=America/New_York:20240112T180000
DTEND;TZID=America/New_York:20240112T200000
DTSTAMP:20260422T182040
CREATED:20230613T144755Z
LAST-MODIFIED:20230620T175021Z
UID:9835-1705082400-1705089600@staging.bethormiami.com
SUMMARY:Martin Luther King Jr. Day Shabbat with Guest Speaker Pastor Brooks and Choir
DESCRIPTION:
URL:https://staging.bethormiami.com/event/martin-luther-king-jr-day-shabbat-with-guest-speaker-pastor-brooks-and-choir/
CATEGORIES:Community
ATTACH;FMTTYPE=image/png:https://staging.bethormiami.com/wp-content/uploads/2023/06/Martin-Luther-King.png
END:VEVENT
BEGIN:VEVENT
DTSTART;TZID=America/New_York:20240106T101500
DTEND;TZID=America/New_York:20240106T113000
DTSTAMP:20260422T182040
CREATED:20230613T144333Z
LAST-MODIFIED:20230613T144333Z
UID:9833-1704536100-1704540600@staging.bethormiami.com
SUMMARY:Torah Study
DESCRIPTION:
URL:https://staging.bethormiami.com/event/torah-study-10/
CATEGORIES:Community
ATTACH;FMTTYPE=image/png:https://staging.bethormiami.com/wp-content/uploads/2022/04/Torah5.png
END:VEVENT
BEGIN:VEVENT
DTSTART;VALUE=DATE:20240101
DTEND;VALUE=DATE:20240102
DTSTAMP:20260422T182040
CREATED:20230602T161548Z
LAST-MODIFIED:20230602T161548Z
UID:9692-1704067200-1704153599@staging.bethormiami.com
SUMMARY:New Year's Day
DESCRIPTION:
URL:https://staging.bethormiami.com/event/new-years-day/
CATEGORIES:Community
ATTACH;FMTTYPE=image/png:https://staging.bethormiami.com/wp-content/uploads/2023/06/New-Years-day.png
END:VEVENT
BEGIN:VEVENT
DTSTART;TZID=America/New_York:20231218T193000
DTEND;TZID=America/New_York:20231218T193000
DTSTAMP:20260422T182040
CREATED:20230605T175303Z
LAST-MODIFIED:20230605T175303Z
UID:9766-1702927800-1702927800@staging.bethormiami.com
SUMMARY:Short Story – Book Talk
DESCRIPTION:
URL:https://staging.bethormiami.com/event/short-story-book-talk-9/
CATEGORIES:Community
ATTACH;FMTTYPE=image/jpeg:https://staging.bethormiami.com/wp-content/uploads/2022/07/bookreview.jpg
END:VEVENT
BEGIN:VEVENT
DTSTART;TZID=America/New_York:20231210T130000
DTEND;TZID=America/New_York:20231210T150000
DTSTAMP:20260422T182040
CREATED:20230524T173147Z
LAST-MODIFIED:20230524T173147Z
UID:9608-1702213200-1702220400@staging.bethormiami.com
SUMMARY:Red Tent Book Club Meeting
DESCRIPTION:
URL:https://staging.bethormiami.com/event/red-tent-book-club-meeting-15/
CATEGORIES:Community
ATTACH;FMTTYPE=image/jpeg:https://staging.bethormiami.com/wp-content/uploads/2022/07/bookreview.jpg
END:VEVENT
BEGIN:VEVENT
DTSTART;TZID=America/New_York:20231208T180000
DTEND;TZID=America/New_York:20231208T210000
DTSTAMP:20260422T182040
CREATED:20230613T143153Z
LAST-MODIFIED:20230621T145352Z
UID:9830-1702058400-1702069200@staging.bethormiami.com
SUMMARY:Hanukkah Dinner and Shabbat Service
DESCRIPTION:
URL:https://staging.bethormiami.com/event/hanukkah-shabbat-and-dinner/
CATEGORIES:Community
ATTACH;FMTTYPE=image/png:https://staging.bethormiami.com/wp-content/uploads/2023/06/Happy-Hanukkah.png
END:VEVENT
BEGIN:VEVENT
DTSTART;VALUE=DATE:20231207
DTEND;VALUE=DATE:20231216
DTSTAMP:20260422T182040
CREATED:20230602T161311Z
LAST-MODIFIED:20230602T161311Z
UID:9684-1701907200-1702684799@staging.bethormiami.com
SUMMARY:Hanukkah
DESCRIPTION:
URL:https://staging.bethormiami.com/event/hanukkah/
CATEGORIES:Community
ATTACH;FMTTYPE=image/png:https://staging.bethormiami.com/wp-content/uploads/2023/06/Happy-Hanukkah.png
END:VEVENT
BEGIN:VEVENT
DTSTART;TZID=America/New_York:20231203T150000
DTEND;TZID=America/New_York:20231203T180000
DTSTAMP:20260422T182040
CREATED:20230613T143018Z
LAST-MODIFIED:20230613T143018Z
UID:9826-1701615600-1701626400@staging.bethormiami.com
SUMMARY:Mio the Mentalist
DESCRIPTION:
URL:https://staging.bethormiami.com/event/mio-the-mentalist/
CATEGORIES:Community
ATTACH;FMTTYPE=image/png:https://staging.bethormiami.com/wp-content/uploads/2023/06/Mio-the-mentalist.png
END:VEVENT
BEGIN:VEVENT
DTSTART;TZID=America/New_York:20231202T101500
DTEND;TZID=America/New_York:20231202T113000
DTSTAMP:20260422T182040
CREATED:20230613T142714Z
LAST-MODIFIED:20230613T142714Z
UID:9824-1701512100-1701516600@staging.bethormiami.com
SUMMARY:Torah Study
DESCRIPTION:
URL:https://staging.bethormiami.com/event/torah-study-9/
CATEGORIES:Community
ATTACH;FMTTYPE=image/png:https://staging.bethormiami.com/wp-content/uploads/2022/04/Torah5.png
END:VEVENT
BEGIN:VEVENT
DTSTART;TZID=America/New_York:20231124T193000
DTEND;TZID=America/New_York:20231124T193000
DTSTAMP:20260422T182040
CREATED:20231019T150558Z
LAST-MODIFIED:20231019T150558Z
UID:10113-1700854200-1700854200@staging.bethormiami.com
SUMMARY:No Shabbat Service Today
DESCRIPTION:
URL:https://staging.bethormiami.com/event/no-shabbat-service-today-2/
CATEGORIES:Community
ATTACH;FMTTYPE=image/png:https://staging.bethormiami.com/wp-content/uploads/2020/12/Shabbat.png
END:VEVENT
BEGIN:VEVENT
DTSTART;VALUE=DATE:20231123
DTEND;VALUE=DATE:20231124
DTSTAMP:20260422T182040
CREATED:20230602T160212Z
LAST-MODIFIED:20230602T160212Z
UID:9681-1700697600-1700783999@staging.bethormiami.com
SUMMARY:Thanksgiving
DESCRIPTION:
URL:https://staging.bethormiami.com/event/thanksgiving/
CATEGORIES:Community
ATTACH;FMTTYPE=image/png:https://staging.bethormiami.com/wp-content/uploads/2023/06/Happy-Thanksgiving.png
END:VEVENT
BEGIN:VEVENT
DTSTART;TZID=America/New_York:20231120T193000
DTEND;TZID=America/New_York:20231120T193000
DTSTAMP:20260422T182040
CREATED:20230605T175213Z
LAST-MODIFIED:20230605T175213Z
UID:9764-1700508600-1700508600@staging.bethormiami.com
SUMMARY:Short Story – Book Talk
DESCRIPTION:
URL:https://staging.bethormiami.com/event/short-story-book-talk-8/
CATEGORIES:Community
ATTACH;FMTTYPE=image/jpeg:https://staging.bethormiami.com/wp-content/uploads/2022/07/bookreview.jpg
END:VEVENT
BEGIN:VEVENT
DTSTART;TZID=America/New_York:20231117T193000
DTEND;TZID=America/New_York:20231117T193000
DTSTAMP:20260422T182040
CREATED:20231019T150508Z
LAST-MODIFIED:20231019T150508Z
UID:10111-1700249400-1700249400@staging.bethormiami.com
SUMMARY:Tisch Shabbat Service - In Person Only
DESCRIPTION:
URL:https://staging.bethormiami.com/event/tisch-shabbat-service-in-person-only/
CATEGORIES:Community
ATTACH;FMTTYPE=image/png:https://staging.bethormiami.com/wp-content/uploads/2020/12/Shabbat.png
END:VEVENT
BEGIN:VEVENT
DTSTART;TZID=America/New_York:20231112T130000
DTEND;TZID=America/New_York:20231112T150000
DTSTAMP:20260422T182040
CREATED:20230524T173034Z
LAST-MODIFIED:20230524T173034Z
UID:9606-1699794000-1699801200@staging.bethormiami.com
SUMMARY:Red Tent Book Club Meeting
DESCRIPTION:
URL:https://staging.bethormiami.com/event/red-tent-book-club-meeting-14/
CATEGORIES:Community
ATTACH;FMTTYPE=image/jpeg:https://staging.bethormiami.com/wp-content/uploads/2022/07/bookreview.jpg
END:VEVENT
BEGIN:VEVENT
DTSTART;TZID=America/New_York:20231112T100000
DTEND;TZID=America/New_York:20231112T100000
DTSTAMP:20260422T182040
CREATED:20230613T141946Z
LAST-MODIFIED:20230621T145120Z
UID:9822-1699783200-1699783200@staging.bethormiami.com
SUMMARY:BeMitzvah at Health in the Hood Time
DESCRIPTION:
URL:https://staging.bethormiami.com/event/bemitzvah-at-health-in-the-hood-time-tba/
CATEGORIES:Community
ATTACH;FMTTYPE=image/jpeg:https://staging.bethormiami.com/wp-content/uploads/2018/08/BO-Be-Mitzvah-postcard-element-1.jpg
END:VEVENT
BEGIN:VEVENT
DTSTART;VALUE=DATE:20231111
DTEND;VALUE=DATE:20231112
DTSTAMP:20260422T182040
CREATED:20230602T155903Z
LAST-MODIFIED:20230602T155903Z
UID:9678-1699660800-1699747199@staging.bethormiami.com
SUMMARY:Veteran's Day
DESCRIPTION:
URL:https://staging.bethormiami.com/event/veterans-day/
CATEGORIES:Community
ATTACH;FMTTYPE=image/png:https://staging.bethormiami.com/wp-content/uploads/2023/06/Veterans-day.png
END:VEVENT
BEGIN:VEVENT
DTSTART;TZID=America/New_York:20231110T193000
DTEND;TZID=America/New_York:20231110T193000
DTSTAMP:20260422T182040
CREATED:20231019T150323Z
LAST-MODIFIED:20231019T150323Z
UID:10109-1699644600-1699644600@staging.bethormiami.com
SUMMARY:Shabbat Service with Amy Lomaskin and Tom Gammon
DESCRIPTION:https://us02web.zoom.us/meeting/register/tZIodOGuqDooHdekpX3wyWYKjD0KJKdHH97O
URL:https://staging.bethormiami.com/event/shabbat-service-with-amy-lomaskin-and-tom-gammon/
CATEGORIES:Community
ATTACH;FMTTYPE=image/png:https://staging.bethormiami.com/wp-content/uploads/2020/12/Shabbat.png
END:VEVENT
BEGIN:VEVENT
DTSTART;VALUE=DATE:20231105
DTEND;VALUE=DATE:20231106
DTSTAMP:20260422T182040
CREATED:20230602T155421Z
LAST-MODIFIED:20230602T155421Z
UID:9669-1699142400-1699228799@staging.bethormiami.com
SUMMARY:Daylight Savings Time Ends
DESCRIPTION:
URL:https://staging.bethormiami.com/event/daylight-savings-time-ends/
CATEGORIES:Community
ATTACH;FMTTYPE=image/png:https://staging.bethormiami.com/wp-content/uploads/2023/06/Daylight-savings.png
END:VEVENT
BEGIN:VEVENT
DTSTART;TZID=America/New_York:20231104T101500
DTEND;TZID=America/New_York:20231104T113000
DTSTAMP:20260422T182040
CREATED:20230613T141815Z
LAST-MODIFIED:20230613T141815Z
UID:9820-1699092900-1699097400@staging.bethormiami.com
SUMMARY:Torah Study
DESCRIPTION:
URL:https://staging.bethormiami.com/event/torah-study-8/
CATEGORIES:Community
ATTACH;FMTTYPE=image/png:https://staging.bethormiami.com/wp-content/uploads/2022/04/Torah5.png
END:VEVENT
BEGIN:VEVENT
DTSTART;TZID=America/New_York:20231103T193000
DTEND;TZID=America/New_York:20231103T193000
DTSTAMP:20260422T182040
CREATED:20231019T150219Z
LAST-MODIFIED:20231019T150219Z
UID:10107-1699039800-1699039800@staging.bethormiami.com
SUMMARY:Shabbat Service with Kathy Fisler and Pat Barron
DESCRIPTION:https://us02web.zoom.us/meeting/register/tZIodOGuqDooHdekpX3wyWYKjD0KJKdHH97O
URL:https://staging.bethormiami.com/event/shabbat-service-with-kathy-fisler-and-pat-barron/
CATEGORIES:Community
ATTACH;FMTTYPE=image/png:https://staging.bethormiami.com/wp-content/uploads/2020/12/Shabbat.png
END:VEVENT
BEGIN:VEVENT
DTSTART;TZID=America/New_York:20231030T190000
DTEND;TZID=America/New_York:20231030T210000
DTSTAMP:20260422T182040
CREATED:20231013T145500Z
LAST-MODIFIED:20231013T145500Z
UID:10105-1698692400-1698699600@staging.bethormiami.com
SUMMARY:PACT Annual Meeting
DESCRIPTION:
URL:https://staging.bethormiami.com/event/pact-annual-meeting-3/
CATEGORIES:Community
ATTACH;FMTTYPE=image/png:https://staging.bethormiami.com/wp-content/uploads/2022/05/pact.png
END:VEVENT
BEGIN:VEVENT
DTSTART;TZID=America/New_York:20231027T180000
DTEND;TZID=America/New_York:20231027T180000
DTSTAMP:20260422T182040
CREATED:20231019T151324Z
LAST-MODIFIED:20231024T172244Z
UID:10120-1698429600-1698429600@staging.bethormiami.com
SUMMARY:Tisch Shabbat Service - In Person Only
DESCRIPTION:
URL:https://staging.bethormiami.com/event/shabbat-service-with-rabbi-robyn/
CATEGORIES:Community
ATTACH;FMTTYPE=image/png:https://staging.bethormiami.com/wp-content/uploads/2020/12/Shabbat.png
END:VEVENT
BEGIN:VEVENT
DTSTART;TZID=America/New_York:20231022T100000
DTEND;TZID=America/New_York:20231022T100000
DTSTAMP:20260422T182040
CREATED:20230612T180513Z
LAST-MODIFIED:20230621T144700Z
UID:9818-1697968800-1697968800@staging.bethormiami.com
SUMMARY:Be Mitzvah at Health in the Hood
DESCRIPTION:
URL:https://staging.bethormiami.com/event/be-mitzvah-at-health-in-the-hood/
CATEGORIES:Community
ATTACH;FMTTYPE=image/jpeg:https://staging.bethormiami.com/wp-content/uploads/2018/08/BO-Be-Mitzvah-postcard-element-1.jpg
END:VEVENT
BEGIN:VEVENT
DTSTART;TZID=America/New_York:20231020T193000
DTEND;TZID=America/New_York:20231020T193000
DTSTAMP:20260422T182040
CREATED:20231019T151155Z
LAST-MODIFIED:20231019T151155Z
UID:10117-1697830200-1697830200@staging.bethormiami.com
SUMMARY:Shabbat Service with Jen & Rob Berse
DESCRIPTION:https://us02web.zoom.us/meeting/register/tZIodOGuqDooHdekpX3wyWYKjD0KJKdHH97O
URL:https://staging.bethormiami.com/event/shabbat-service-with-jen-rob-berse-2/
CATEGORIES:Community
ATTACH;FMTTYPE=image/png:https://staging.bethormiami.com/wp-content/uploads/2020/12/Shabbat.png
END:VEVENT
BEGIN:VEVENT
DTSTART;TZID=America/New_York:20231016T193000
DTEND;TZID=America/New_York:20231016T193000
DTSTAMP:20260422T182040
CREATED:20230605T175120Z
LAST-MODIFIED:20230605T175120Z
UID:9762-1697484600-1697484600@staging.bethormiami.com
SUMMARY:Short Story – Book Talk
DESCRIPTION:
URL:https://staging.bethormiami.com/event/short-story-book-talk-7/
CATEGORIES:Community
ATTACH;FMTTYPE=image/jpeg:https://staging.bethormiami.com/wp-content/uploads/2022/07/bookreview.jpg
END:VEVENT
BEGIN:VEVENT
DTSTART;TZID=America/New_York:20231014T101500
DTEND;TZID=America/New_York:20231014T113000
DTSTAMP:20260422T182040
CREATED:20230612T180349Z
LAST-MODIFIED:20230612T180349Z
UID:9815-1697278500-1697283000@staging.bethormiami.com
SUMMARY:Torah Study
DESCRIPTION:
URL:https://staging.bethormiami.com/event/torah-study-7/
CATEGORIES:Community
ATTACH;FMTTYPE=image/png:https://staging.bethormiami.com/wp-content/uploads/2022/04/Torah5.png
END:VEVENT
BEGIN:VEVENT
DTSTART;TZID=America/New_York:20231013T193000
DTEND;TZID=America/New_York:20231013T193000
DTSTAMP:20260422T182040
CREATED:20231019T151057Z
LAST-MODIFIED:20231019T151057Z
UID:10115-1697225400-1697225400@staging.bethormiami.com
SUMMARY:Community Shabbat Service
DESCRIPTION:https://us02web.zoom.us/meeting/register/tZIodOGuqDooHdekpX3wyWYKjD0KJKdHH97O
URL:https://staging.bethormiami.com/event/community-shabbat-service-2/
CATEGORIES:Community
ATTACH;FMTTYPE=image/png:https://staging.bethormiami.com/wp-content/uploads/2020/12/Shabbat.png
END:VEVENT
BEGIN:VEVENT
DTSTART;VALUE=DATE:20231009
DTEND;VALUE=DATE:20231010
DTSTAMP:20260422T182040
CREATED:20230602T154854Z
LAST-MODIFIED:20230602T154854Z
UID:9665-1696809600-1696895999@staging.bethormiami.com
SUMMARY:Indigenous Peoples' Day
DESCRIPTION:
URL:https://staging.bethormiami.com/event/indigenous-peoples-day/
CATEGORIES:Community
ATTACH;FMTTYPE=image/png:https://staging.bethormiami.com/wp-content/uploads/2023/06/Indigenous-People.png
END:VEVENT
END:VCALENDAR