BEGIN:VCALENDAR
VERSION:2.0
PRODID:-//Beth Or Miami - ECPv6.3.2//NONSGML v1.0//EN
CALSCALE:GREGORIAN
METHOD:PUBLISH
X-WR-CALNAME:Beth Or Miami
X-ORIGINAL-URL:https://staging.bethormiami.com
X-WR-CALDESC:Events for Beth Or Miami
REFRESH-INTERVAL;VALUE=DURATION:PT1H
X-Robots-Tag:noindex
X-PUBLISHED-TTL:PT1H
BEGIN:VTIMEZONE
TZID:America/New_York
BEGIN:DAYLIGHT
TZOFFSETFROM:-0500
TZOFFSETTO:-0400
TZNAME:EDT
DTSTART:20210314T070000
END:DAYLIGHT
BEGIN:STANDARD
TZOFFSETFROM:-0400
TZOFFSETTO:-0500
TZNAME:EST
DTSTART:20211107T060000
END:STANDARD
END:VTIMEZONE
BEGIN:VEVENT
DTSTART;TZID=America/New_York:20210914T123000
DTEND;TZID=America/New_York:20210914T133000
DTSTAMP:20260425T100024
CREATED:20210505T143720Z
LAST-MODIFIED:20210914T151133Z
UID:8474-1631622600-1631626200@staging.bethormiami.com
SUMMARY:TUESDAYS WITH NANCY during the Month of Elul
DESCRIPTION:Join Nancy Kirsner as she leads her weekly Tuesday discussion group. \nIf you are interested in participating in this event\, please email the Temple office at bethortemple@aol.com to receive the zoom link. You will need to send your email at least 2 days ahead of the event. \n 
URL:https://staging.bethormiami.com/event/tuesdays-group-with-nancy-3-2021-09-14/
LOCATION:Zoom
END:VEVENT
BEGIN:VEVENT
DTSTART;TZID=America/New_York:20210911T190000
DTEND;TZID=America/New_York:20210911T210000
DTSTAMP:20260425T100024
CREATED:20210817T124706Z
LAST-MODIFIED:20210817T124857Z
UID:8324-1631386800-1631394000@staging.bethormiami.com
SUMMARY:Gallery Of Light - High Holidays BEGINNINGS Virtual Opening
DESCRIPTION:
URL:https://staging.bethormiami.com/event/gallery-of-light/
LOCATION:Zoom
ATTACH;FMTTYPE=image/jpeg:https://staging.bethormiami.com/wp-content/uploads/2021/08/09-11-2021-GOL-HHD20221.jpg
END:VEVENT
BEGIN:VEVENT
DTSTART;TZID=America/New_York:20210910T193000
DTEND;TZID=America/New_York:20210910T210000
DTSTAMP:20260425T100024
CREATED:20210727T211515Z
LAST-MODIFIED:20210727T211515Z
UID:8303-1631302200-1631307600@staging.bethormiami.com
SUMMARY:Kabbalat Shabbat with Mel Tenen
DESCRIPTION:Kabbalat Shabbat with
URL:https://staging.bethormiami.com/event/kabbalat-shabbat-with-mel-tenen/
LOCATION:Beth Or\, 11715 SW 87th Ave\, Miami\, FL 33176\, USA\, 8901 SW 87th Ct\, United States
END:VEVENT
BEGIN:VEVENT
DTSTART;TZID=America/New_York:20210910T120000
DTEND;TZID=America/New_York:20210910T130000
DTSTAMP:20260425T100024
CREATED:20210505T152051Z
LAST-MODIFIED:20210712T163112Z
UID:8037-1631275200-1631278800@staging.bethormiami.com
SUMMARY:Live\, Love\, Laugh with Nancy Kirsner
DESCRIPTION:April 30 @ 12:00 pm – 1:00 pm \nLive\, Love\, Laugh with Nancy Kirsner\n\nSpend time with Nancy and friends to talk about ways to improve your day. If you are interested in participating in this […]
URL:https://staging.bethormiami.com/event/live-love-laugh-with-nancy-kirsner-2-2021-09-10/
LOCATION:Beth Or\, 11715 SW 87th Ave\, Miami\, FL 33176\, USA\, 8901 SW 87th Ct\, United States
END:VEVENT
BEGIN:VEVENT
DTSTART;TZID=America/New_York:20210907T100000
DTEND;TZID=America/New_York:20210907T130000
DTSTAMP:20260425T100024
CREATED:20210827T150020Z
LAST-MODIFIED:20210827T150020Z
UID:8575-1631008800-1631019600@staging.bethormiami.com
SUMMARY:Beth Or Rosh Hashanah Service
DESCRIPTION:Beth Or Rosh Hashanah Service \nZoom Link will be provided to Members and Registered Guests of Beth Or. \nWe welcome guests to register with Susan in the office at bethortemple@aol.com or call 305-235-1419
URL:https://staging.bethormiami.com/event/beth-or-rosh-hashanah-service/
LOCATION:Zoom
ATTACH;FMTTYPE=image/jpeg:https://staging.bethormiami.com/wp-content/uploads/2021/08/2021HHIMAGETEXT-web-min-scaled.jpg
END:VEVENT
BEGIN:VEVENT
DTSTART;VALUE=DATE:20210907
DTEND;VALUE=DATE:20210909
DTSTAMP:20260425T100024
CREATED:20210505T155815Z
LAST-MODIFIED:20210505T155815Z
UID:8065-1630972800-1631145599@staging.bethormiami.com
SUMMARY:Rosh Hashanah
DESCRIPTION:
URL:https://staging.bethormiami.com/event/rosh-hashanah/
LOCATION:Beth Or\, 11715 SW 87th Ave\, Miami\, FL 33176\, USA\, 8901 SW 87th Ct\, United States
END:VEVENT
BEGIN:VEVENT
DTSTART;VALUE=DATE:20210906
DTEND;VALUE=DATE:20210907
DTSTAMP:20260425T100024
CREATED:20210505T155717Z
LAST-MODIFIED:20210712T161254Z
UID:8063-1630886400-1630972799@staging.bethormiami.com
SUMMARY:Erev Rosh Hashanah
DESCRIPTION:
URL:https://staging.bethormiami.com/event/erev-rosh-hashanah-2/
LOCATION:Beth Or\, 11715 SW 87th Ave\, Miami\, FL 33176\, USA\, 8901 SW 87th Ct\, United States
END:VEVENT
BEGIN:VEVENT
DTSTART;TZID=America/New_York:20210905T110000
DTEND;TZID=America/New_York:20210905T130000
DTSTAMP:20260425T100024
CREATED:20210825T231923Z
LAST-MODIFIED:20210825T231923Z
UID:8498-1630839600-1630846800@staging.bethormiami.com
SUMMARY:Canned Food Drive By at Temple Beth Or Parking Lot
DESCRIPTION:Canned Food Drive By at Temple Beth Or Parking Lot \nContact Andrea at andrealor@bellsouth.net
URL:https://staging.bethormiami.com/event/canned-food-drive-by-at-temple-beth-or-parking-lot/
LOCATION:Beth Or\, 11715 SW 87th Ave\, Miami\, FL 33176\, USA\, 8901 SW 87th Ct\, United States
CATEGORIES:Community
END:VEVENT
BEGIN:VEVENT
DTSTART;TZID=America/New_York:20210903T193000
DTEND;TZID=America/New_York:20210903T210000
DTSTAMP:20260425T100024
CREATED:20210727T211426Z
LAST-MODIFIED:20210827T140129Z
UID:8301-1630697400-1630702800@staging.bethormiami.com
SUMMARY:Kabbalat Shabbat with Rabbi Robyn
DESCRIPTION:
URL:https://staging.bethormiami.com/event/kabbalat-shabbat-with-rabbi-robyn-8/
LOCATION:Beth Or\, 11715 SW 87th Ave\, Miami\, FL 33176\, USA\, 8901 SW 87th Ct\, United States
END:VEVENT
BEGIN:VEVENT
DTSTART;TZID=America/New_York:20210903T120000
DTEND;TZID=America/New_York:20210903T130000
DTSTAMP:20260425T100024
CREATED:20210505T152051Z
LAST-MODIFIED:20210712T163112Z
UID:8036-1630670400-1630674000@staging.bethormiami.com
SUMMARY:Live\, Love\, Laugh with Nancy Kirsner
DESCRIPTION:April 30 @ 12:00 pm – 1:00 pm \nLive\, Love\, Laugh with Nancy Kirsner\n\nSpend time with Nancy and friends to talk about ways to improve your day. If you are interested in participating in this […]
URL:https://staging.bethormiami.com/event/live-love-laugh-with-nancy-kirsner-2-2021-09-03/
LOCATION:Beth Or\, 11715 SW 87th Ave\, Miami\, FL 33176\, USA\, 8901 SW 87th Ct\, United States
END:VEVENT
BEGIN:VEVENT
DTSTART;TZID=America/New_York:20210830T193000
DTEND;TZID=America/New_York:20210830T213000
DTSTAMP:20260425T100024
CREATED:20210825T231738Z
LAST-MODIFIED:20210825T231738Z
UID:8496-1630351800-1630359000@staging.bethormiami.com
SUMMARY:Monday Movie Night during Elul: Fiddler on The Roof
DESCRIPTION:Monday Movie Night during Elul: Fiddler on The Roof \nLink: \nhttps://us02web.zoom.us/meeting/register/tZYkdOCtrTgrE9ESM6FXnYj_wtBu_6wbxeYO
URL:https://staging.bethormiami.com/event/monday-movie-night-during-elul-fiddler-on-the-roof/
LOCATION:Beth Or\, 11715 SW 87th Ave\, Miami\, FL 33176\, USA\, 8901 SW 87th Ct\, United States
CATEGORIES:Community
END:VEVENT
BEGIN:VEVENT
DTSTART;TZID=America/New_York:20210828T191500
DTEND;TZID=America/New_York:20210828T191500
DTSTAMP:20260425T100024
CREATED:20210825T231549Z
LAST-MODIFIED:20210827T143639Z
UID:8494-1630178100-1630178100@staging.bethormiami.com
SUMMARY:Selichot Havdalah Service
DESCRIPTION:Selichot Havdalah Service\nSaturday August 28 7:15 PM\nwith\nRabbi Robyn\nThe Zoom link will be provided to members and registered guests for this service \nContact Susan at the Beth Or office at bethortemple@aol.com or call 305-235-1419. \n 
URL:https://staging.bethormiami.com/event/selichot-havdalah-service/
LOCATION:Beth Or\, 11715 SW 87th Ave\, Miami\, FL 33176\, USA\, 8901 SW 87th Ct\, United States
CATEGORIES:Community
END:VEVENT
BEGIN:VEVENT
DTSTART;TZID=America/New_York:20210827T193000
DTEND;TZID=America/New_York:20210827T210000
DTSTAMP:20260425T100024
CREATED:20210727T210937Z
LAST-MODIFIED:20210727T211055Z
UID:8299-1630092600-1630098000@staging.bethormiami.com
SUMMARY:Kabbalat Shabbat with Phyllis Winnick
DESCRIPTION:
URL:https://staging.bethormiami.com/event/kabbalat-shabbat-with-phyllis-winnick/
LOCATION:Beth Or\, 11715 SW 87th Ave\, Miami\, FL 33176\, USA\, 8901 SW 87th Ct\, United States
END:VEVENT
BEGIN:VEVENT
DTSTART;TZID=America/New_York:20210827T120000
DTEND;TZID=America/New_York:20210827T130000
DTSTAMP:20260425T100024
CREATED:20210505T152051Z
LAST-MODIFIED:20210712T163112Z
UID:8035-1630065600-1630069200@staging.bethormiami.com
SUMMARY:Live\, Love\, Laugh with Nancy Kirsner
DESCRIPTION:April 30 @ 12:00 pm – 1:00 pm \nLive\, Love\, Laugh with Nancy Kirsner\n\nSpend time with Nancy and friends to talk about ways to improve your day. If you are interested in participating in this […]
URL:https://staging.bethormiami.com/event/live-love-laugh-with-nancy-kirsner-2-2021-08-27/
LOCATION:Beth Or\, 11715 SW 87th Ave\, Miami\, FL 33176\, USA\, 8901 SW 87th Ct\, United States
END:VEVENT
BEGIN:VEVENT
DTSTART;TZID=America/New_York:20210826T193000
DTEND;TZID=America/New_York:20210826T203000
DTSTAMP:20260425T100024
CREATED:20210727T212945Z
LAST-MODIFIED:20210727T212945Z
UID:8491-1630006200-1630009800@staging.bethormiami.com
SUMMARY:The Jewels of Elul - Conversations with special guests hosted by Shep and Pat
DESCRIPTION:Jewels of Elul with Shep & Pat \nReceive a Jewel-A-Day Link inside the Jewels of Elul with Shep & Pat flyer \nLink: https://us02web.zoom.us/j/84677668767?pwd=c3VJSUZpSmFYejlKZUZkOElSOWVYUT09 \nPassword: 436154 \nMeeting ID: 846 7766 8767
URL:https://staging.bethormiami.com/event/the-jewels-of-elul-conversations-with-special-guests-hosted-by-shep-and-pat-2021-08-26/
LOCATION:Beth Or\, 11715 SW 87th Ave\, Miami\, FL 33176\, USA\, 8901 SW 87th Ct\, United States
END:VEVENT
BEGIN:VEVENT
DTSTART;TZID=America/New_York:20210825T180000
DTEND;TZID=America/New_York:20210825T190000
DTSTAMP:20260425T100024
CREATED:20210825T233602Z
LAST-MODIFIED:20210825T233602Z
UID:8514-1629914400-1629918000@staging.bethormiami.com
SUMMARY:Neilah/ Havdalah/Reflection
DESCRIPTION:Link: https://us02web.zoom.us/meeting/register/tZArcO6uqDMtHNO_RwPi9sQ_RUvoDkZivTAP?_x_zm_rtaid=ZS0a6NbMRfmEHqKRuQRe2Q.1629934295103.d87489cd4254535b62c6f19b66b8d631&_x_zm_rhtaid=759 \nPassword: 480937 \nMeeting ID: 896 1802 3065
URL:https://staging.bethormiami.com/event/neilah-havdalah-reflection/
LOCATION:Beth Or\, 11715 SW 87th Ave\, Miami\, FL 33176\, USA\, 8901 SW 87th Ct\, United States
CATEGORIES:Community
END:VEVENT
BEGIN:VEVENT
DTSTART;TZID=America/New_York:20210820T193000
DTEND;TZID=America/New_York:20210820T210000
DTSTAMP:20260425T100024
CREATED:20210727T210835Z
LAST-MODIFIED:20210727T210835Z
UID:8296-1629487800-1629493200@staging.bethormiami.com
SUMMARY:Kabbalat Shabbat with Rabbi Robyn
DESCRIPTION:
URL:https://staging.bethormiami.com/event/kabbalat-shabbat-with-rabbi-robyn-7/
LOCATION:Beth Or\, 11715 SW 87th Ave\, Miami\, FL 33176\, USA\, 8901 SW 87th Ct\, United States
END:VEVENT
BEGIN:VEVENT
DTSTART;TZID=America/New_York:20210820T120000
DTEND;TZID=America/New_York:20210820T130000
DTSTAMP:20260425T100024
CREATED:20210505T152051Z
LAST-MODIFIED:20210712T163112Z
UID:8034-1629460800-1629464400@staging.bethormiami.com
SUMMARY:Live\, Love\, Laugh with Nancy Kirsner
DESCRIPTION:April 30 @ 12:00 pm – 1:00 pm \nLive\, Love\, Laugh with Nancy Kirsner\n\nSpend time with Nancy and friends to talk about ways to improve your day. If you are interested in participating in this […]
URL:https://staging.bethormiami.com/event/live-love-laugh-with-nancy-kirsner-2-2021-08-20/
LOCATION:Beth Or\, 11715 SW 87th Ave\, Miami\, FL 33176\, USA\, 8901 SW 87th Ct\, United States
END:VEVENT
BEGIN:VEVENT
DTSTART;TZID=America/New_York:20210819T193000
DTEND;TZID=America/New_York:20210819T203000
DTSTAMP:20260425T100024
CREATED:20210727T212945Z
LAST-MODIFIED:20210727T212945Z
UID:8490-1629401400-1629405000@staging.bethormiami.com
SUMMARY:The Jewels of Elul - Conversations with special guests hosted by Shep and Pat
DESCRIPTION:Jewels of Elul with Shep & Pat \nReceive a Jewel-A-Day Link inside the Jewels of Elul with Shep & Pat flyer \nLink: https://us02web.zoom.us/j/84677668767?pwd=c3VJSUZpSmFYejlKZUZkOElSOWVYUT09 \nPassword: 436154 \nMeeting ID: 846 7766 8767
URL:https://staging.bethormiami.com/event/the-jewels-of-elul-conversations-with-special-guests-hosted-by-shep-and-pat-2021-08-19/
LOCATION:Beth Or\, 11715 SW 87th Ave\, Miami\, FL 33176\, USA\, 8901 SW 87th Ct\, United States
END:VEVENT
BEGIN:VEVENT
DTSTART;TZID=America/New_York:20210816T193000
DTEND;TZID=America/New_York:20210816T193000
DTSTAMP:20260425T100024
CREATED:20210825T231155Z
LAST-MODIFIED:20210825T231155Z
UID:8492-1629142200-1629142200@staging.bethormiami.com
SUMMARY:Monday Movie Night during Elul - YENTL
DESCRIPTION:Monday Movie Night during Elul – YENTL \nLink: https://us02web.zoom.us/meeting/register/tZYkdOCtrTgrE9ESM6FXnYj_wtBu_6wbxeYO
URL:https://staging.bethormiami.com/event/monday-movie-night-during-elul-yentl/
LOCATION:Beth Or\, 11715 SW 87th Ave\, Miami\, FL 33176\, USA\, 8901 SW 87th Ct\, United States
CATEGORIES:Community
END:VEVENT
BEGIN:VEVENT
DTSTART;TZID=America/New_York:20210813T193000
DTEND;TZID=America/New_York:20210813T210000
DTSTAMP:20260425T100024
CREATED:20210727T210418Z
LAST-MODIFIED:20210727T210418Z
UID:8294-1628883000-1628888400@staging.bethormiami.com
SUMMARY:Kabbalat Shabbat with Community-Led Service
DESCRIPTION:
URL:https://staging.bethormiami.com/event/kabbalat-shabbat-with-community-led-service/
LOCATION:Beth Or\, 11715 SW 87th Ave\, Miami\, FL 33176\, USA\, 8901 SW 87th Ct\, United States
END:VEVENT
BEGIN:VEVENT
DTSTART;TZID=America/New_York:20210813T120000
DTEND;TZID=America/New_York:20210813T130000
DTSTAMP:20260425T100024
CREATED:20210505T152051Z
LAST-MODIFIED:20210712T163112Z
UID:8033-1628856000-1628859600@staging.bethormiami.com
SUMMARY:Live\, Love\, Laugh with Nancy Kirsner
DESCRIPTION:April 30 @ 12:00 pm – 1:00 pm \nLive\, Love\, Laugh with Nancy Kirsner\n\nSpend time with Nancy and friends to talk about ways to improve your day. If you are interested in participating in this […]
URL:https://staging.bethormiami.com/event/live-love-laugh-with-nancy-kirsner-2-2021-08-13/
LOCATION:Beth Or\, 11715 SW 87th Ave\, Miami\, FL 33176\, USA\, 8901 SW 87th Ct\, United States
END:VEVENT
BEGIN:VEVENT
DTSTART;TZID=America/New_York:20210812T193000
DTEND;TZID=America/New_York:20210812T203000
DTSTAMP:20260425T100024
CREATED:20210727T212945Z
LAST-MODIFIED:20210825T230806Z
UID:8309-1628796600-1628800200@staging.bethormiami.com
SUMMARY:The Jewels of Elul - Conversations with special guests hosted by Shep and Pat
DESCRIPTION:Jewels of Elul with Shep & Pat \nReceive a Jewel-A-Day Link inside the Jewels of Elul with Shep & Pat flyer \nLink: https://us02web.zoom.us/j/84677668767?pwd=c3VJSUZpSmFYejlKZUZkOElSOWVYUT09 \nPassword: 436154 \nMeeting ID: 846 7766 8767
URL:https://staging.bethormiami.com/event/the-jewels-of-elul-conversations-with-special-guests-hosted-by-shep-and-pat/
LOCATION:Beth Or\, 11715 SW 87th Ave\, Miami\, FL 33176\, USA\, 8901 SW 87th Ct\, United States
END:VEVENT
BEGIN:VEVENT
DTSTART;TZID=America/New_York:20210810T123000
DTEND;TZID=America/New_York:20210810T133000
DTSTAMP:20260425T100024
CREATED:20210505T143720Z
LAST-MODIFIED:20210914T151132Z
UID:7868-1628598600-1628602200@staging.bethormiami.com
SUMMARY:TUESDAYS WITH NANCY during the Month of Elul
DESCRIPTION:Join Nancy Kirsner as she leads her weekly Tuesday discussion group. \nIf you are interested in participating in this event\, please email the Temple office at bethortemple@aol.com to receive the zoom link. You will need to send your email at least 2 days ahead of the event. \n 
URL:https://staging.bethormiami.com/event/tuesdays-group-with-nancy-3/
LOCATION:Zoom
END:VEVENT
BEGIN:VEVENT
DTSTART;TZID=America/New_York:20210806T193000
DTEND;TZID=America/New_York:20210806T210000
DTSTAMP:20260425T100024
CREATED:20210727T205647Z
LAST-MODIFIED:20210727T210648Z
UID:8281-1628278200-1628283600@staging.bethormiami.com
SUMMARY:Kabbalat Shabbat with Rabbi Robyn
DESCRIPTION:
URL:https://staging.bethormiami.com/event/kabbalat-shabbat-with-rabbi-robyn-6/
LOCATION:Beth Or\, 11715 SW 87th Ave\, Miami\, FL 33176\, USA\, 8901 SW 87th Ct\, United States
END:VEVENT
BEGIN:VEVENT
DTSTART;TZID=America/New_York:20210806T120000
DTEND;TZID=America/New_York:20210806T130000
DTSTAMP:20260425T100024
CREATED:20210505T152051Z
LAST-MODIFIED:20210712T163111Z
UID:8032-1628251200-1628254800@staging.bethormiami.com
SUMMARY:Live\, Love\, Laugh with Nancy Kirsner
DESCRIPTION:April 30 @ 12:00 pm – 1:00 pm \nLive\, Love\, Laugh with Nancy Kirsner\n\nSpend time with Nancy and friends to talk about ways to improve your day. If you are interested in participating in this […]
URL:https://staging.bethormiami.com/event/live-love-laugh-with-nancy-kirsner-2-2021-08-06/
LOCATION:Beth Or\, 11715 SW 87th Ave\, Miami\, FL 33176\, USA\, 8901 SW 87th Ct\, United States
END:VEVENT
BEGIN:VEVENT
DTSTART;TZID=America/New_York:20210730T193000
DTEND;TZID=America/New_York:20210730T210000
DTSTAMP:20260425T100024
CREATED:20210712T155140Z
LAST-MODIFIED:20210727T205050Z
UID:8203-1627673400-1627678800@staging.bethormiami.com
SUMMARY:Kabbalat Shabbat with Ellen Siegel
DESCRIPTION:Register Here for Kabbalat Shabbat Service
URL:https://staging.bethormiami.com/event/kabbalat-shabbat-with-tbd/
LOCATION:Beth Or\, 11715 SW 87th Ave\, Miami\, FL 33176\, USA\, 8901 SW 87th Ct\, United States
END:VEVENT
BEGIN:VEVENT
DTSTART;TZID=America/New_York:20210730T120000
DTEND;TZID=America/New_York:20210730T130000
DTSTAMP:20260425T100024
CREATED:20210505T152051Z
LAST-MODIFIED:20210712T163111Z
UID:8031-1627646400-1627650000@staging.bethormiami.com
SUMMARY:Live\, Love\, Laugh with Nancy Kirsner
DESCRIPTION:April 30 @ 12:00 pm – 1:00 pm \nLive\, Love\, Laugh with Nancy Kirsner\n\nSpend time with Nancy and friends to talk about ways to improve your day. If you are interested in participating in this […]
URL:https://staging.bethormiami.com/event/live-love-laugh-with-nancy-kirsner-2-2021-07-30/
LOCATION:Beth Or\, 11715 SW 87th Ave\, Miami\, FL 33176\, USA\, 8901 SW 87th Ct\, United States
END:VEVENT
BEGIN:VEVENT
DTSTART;TZID=America/New_York:20210723T193000
DTEND;TZID=America/New_York:20210723T210000
DTSTAMP:20260425T100024
CREATED:20210712T154957Z
LAST-MODIFIED:20210712T154957Z
UID:8201-1627068600-1627074000@staging.bethormiami.com
SUMMARY:Kabbalat Shabbat with Rabbi Robyn
DESCRIPTION:Register Here for Kabbalat Shabbat Service
URL:https://staging.bethormiami.com/event/kabbalat-shabbat-with-rabbi-robyn-5/
LOCATION:Beth Or\, 11715 SW 87th Ave\, Miami\, FL 33176\, USA\, 8901 SW 87th Ct\, United States
END:VEVENT
BEGIN:VEVENT
DTSTART;TZID=America/New_York:20210723T120000
DTEND;TZID=America/New_York:20210723T130000
DTSTAMP:20260425T100024
CREATED:20210505T152051Z
LAST-MODIFIED:20210712T163111Z
UID:8030-1627041600-1627045200@staging.bethormiami.com
SUMMARY:Live\, Love\, Laugh with Nancy Kirsner
DESCRIPTION:April 30 @ 12:00 pm – 1:00 pm \nLive\, Love\, Laugh with Nancy Kirsner\n\nSpend time with Nancy and friends to talk about ways to improve your day. If you are interested in participating in this […]
URL:https://staging.bethormiami.com/event/live-love-laugh-with-nancy-kirsner-2-2021-07-23/
LOCATION:Beth Or\, 11715 SW 87th Ave\, Miami\, FL 33176\, USA\, 8901 SW 87th Ct\, United States
END:VEVENT
END:VCALENDAR