BEGIN:VCALENDAR
VERSION:2.0
PRODID:-//Beth Or Miami - ECPv6.3.2//NONSGML v1.0//EN
CALSCALE:GREGORIAN
METHOD:PUBLISH
X-WR-CALNAME:Beth Or Miami
X-ORIGINAL-URL:https://staging.bethormiami.com
X-WR-CALDESC:Events for Beth Or Miami
REFRESH-INTERVAL;VALUE=DURATION:PT1H
X-Robots-Tag:noindex
X-PUBLISHED-TTL:PT1H
BEGIN:VTIMEZONE
TZID:America/New_York
BEGIN:DAYLIGHT
TZOFFSETFROM:-0500
TZOFFSETTO:-0400
TZNAME:EDT
DTSTART:20230312T070000
END:DAYLIGHT
BEGIN:STANDARD
TZOFFSETFROM:-0400
TZOFFSETTO:-0500
TZNAME:EST
DTSTART:20231105T060000
END:STANDARD
BEGIN:DAYLIGHT
TZOFFSETFROM:-0500
TZOFFSETTO:-0400
TZNAME:EDT
DTSTART:20240310T070000
END:DAYLIGHT
BEGIN:STANDARD
TZOFFSETFROM:-0400
TZOFFSETTO:-0500
TZNAME:EST
DTSTART:20241103T060000
END:STANDARD
END:VTIMEZONE
BEGIN:VEVENT
DTSTART;TZID=America/New_York:20240406T101500
DTEND;TZID=America/New_York:20240406T113000
DTSTAMP:20260422T182046
CREATED:20230613T151554Z
LAST-MODIFIED:20230613T151554Z
UID:9855-1712398500-1712403000@staging.bethormiami.com
SUMMARY:Torah Study
DESCRIPTION:
URL:https://staging.bethormiami.com/event/torah-study-13/
CATEGORIES:Community
ATTACH;FMTTYPE=image/png:https://staging.bethormiami.com/wp-content/uploads/2022/04/Torah5.png
END:VEVENT
BEGIN:VEVENT
DTSTART;TZID=America/New_York:20240323T180000
DTEND;TZID=America/New_York:20240323T210000
DTSTAMP:20260422T182046
CREATED:20230613T150633Z
LAST-MODIFIED:20230621T145851Z
UID:9853-1711216800-1711227600@staging.bethormiami.com
SUMMARY:Purim Shpiel and Dinner
DESCRIPTION:
URL:https://staging.bethormiami.com/event/shabbat-purim-shpiel-and-inner/
CATEGORIES:Community
ATTACH;FMTTYPE=image/png:https://staging.bethormiami.com/wp-content/uploads/2022/08/purim.png
END:VEVENT
BEGIN:VEVENT
DTSTART;TZID=America/New_York:20240318T193000
DTEND;TZID=America/New_York:20240318T203000
DTSTAMP:20260422T182046
CREATED:20230605T175522Z
LAST-MODIFIED:20230707T172018Z
UID:9772-1710790200-1710793800@staging.bethormiami.com
SUMMARY:Short Story – Book Talk
DESCRIPTION:
URL:https://staging.bethormiami.com/event/short-story-book-talk-12/
CATEGORIES:Community
ATTACH;FMTTYPE=image/jpeg:https://staging.bethormiami.com/wp-content/uploads/2022/07/bookreview.jpg
END:VEVENT
BEGIN:VEVENT
DTSTART;TZID=America/New_York:20240317T080000
DTEND;TZID=America/New_York:20240317T150000
DTSTAMP:20260422T182046
CREATED:20230614T143550Z
LAST-MODIFIED:20230620T180338Z
UID:9907-1710662400-1710687600@staging.bethormiami.com
SUMMARY:Yard Sale
DESCRIPTION:
URL:https://staging.bethormiami.com/event/yard-sale-4/
CATEGORIES:Community
ATTACH;FMTTYPE=image/png:https://staging.bethormiami.com/wp-content/uploads/2022/08/yard-sale.png
END:VEVENT
BEGIN:VEVENT
DTSTART;TZID=America/New_York:20240310T130000
DTEND;TZID=America/New_York:20240310T150000
DTSTAMP:20260422T182046
CREATED:20230524T173459Z
LAST-MODIFIED:20230524T173459Z
UID:9614-1710075600-1710082800@staging.bethormiami.com
SUMMARY:Red Tent Book Club Meeting
DESCRIPTION:
URL:https://staging.bethormiami.com/event/red-tent-book-club-meeting-18/
CATEGORIES:Community
ATTACH;FMTTYPE=image/jpeg:https://staging.bethormiami.com/wp-content/uploads/2022/07/bookreview.jpg
END:VEVENT
BEGIN:VEVENT
DTSTART;TZID=America/New_York:20240310T100000
DTEND;TZID=America/New_York:20240310T100000
DTSTAMP:20260422T182046
CREATED:20230613T150420Z
LAST-MODIFIED:20230621T144848Z
UID:9851-1710064800-1710064800@staging.bethormiami.com
SUMMARY:BeMitzvah at Health in the Hood
DESCRIPTION:
URL:https://staging.bethormiami.com/event/bemitzvah-at-health-in-the-hood-2/
CATEGORIES:Community
ATTACH;FMTTYPE=image/jpeg:https://staging.bethormiami.com/wp-content/uploads/2018/08/BO-Be-Mitzvah-postcard-element-1.jpg
END:VEVENT
BEGIN:VEVENT
DTSTART;TZID=America/New_York:20240310T080000
DTEND;TZID=America/New_York:20240310T150000
DTSTAMP:20260422T182046
CREATED:20230614T143447Z
LAST-MODIFIED:20230620T180246Z
UID:9905-1710057600-1710082800@staging.bethormiami.com
SUMMARY:Yard Sale
DESCRIPTION:
URL:https://staging.bethormiami.com/event/yard-sale-3/
CATEGORIES:Community
ATTACH;FMTTYPE=image/png:https://staging.bethormiami.com/wp-content/uploads/2022/08/yard-sale.png
END:VEVENT
BEGIN:VEVENT
DTSTART;VALUE=DATE:20240310
DTEND;VALUE=DATE:20240311
DTSTAMP:20260422T182046
CREATED:20230602T162541Z
LAST-MODIFIED:20230602T162541Z
UID:9707-1710028800-1710115199@staging.bethormiami.com
SUMMARY:Daylight Savings Time starts
DESCRIPTION:
URL:https://staging.bethormiami.com/event/daylight-savings-time-starts/
CATEGORIES:Community
ATTACH;FMTTYPE=image/png:https://staging.bethormiami.com/wp-content/uploads/2023/06/Daylight-savings.png
END:VEVENT
BEGIN:VEVENT
DTSTART;TZID=America/New_York:20240302T101500
DTEND;TZID=America/New_York:20240302T110000
DTSTAMP:20260422T182046
CREATED:20230613T150321Z
LAST-MODIFIED:20230613T150321Z
UID:9849-1709374500-1709377200@staging.bethormiami.com
SUMMARY:Torah Study
DESCRIPTION:
URL:https://staging.bethormiami.com/event/torah-study-12/
CATEGORIES:Community
ATTACH;FMTTYPE=image/png:https://staging.bethormiami.com/wp-content/uploads/2022/04/Torah5.png
END:VEVENT
BEGIN:VEVENT
DTSTART;TZID=America/New_York:20240219T193000
DTEND;TZID=America/New_York:20240219T203000
DTSTAMP:20260422T182046
CREATED:20230605T175433Z
LAST-MODIFIED:20230707T171932Z
UID:9770-1708371000-1708374600@staging.bethormiami.com
SUMMARY:Short Story – Book Talk
DESCRIPTION:
URL:https://staging.bethormiami.com/event/short-story-book-talk-11/
CATEGORIES:Community
ATTACH;FMTTYPE=image/jpeg:https://staging.bethormiami.com/wp-content/uploads/2022/07/bookreview.jpg
END:VEVENT
BEGIN:VEVENT
DTSTART;VALUE=DATE:20240219
DTEND;VALUE=DATE:20240220
DTSTAMP:20260422T182046
CREATED:20230602T162416Z
LAST-MODIFIED:20230602T162416Z
UID:9703-1708300800-1708387199@staging.bethormiami.com
SUMMARY:Presidents' Day
DESCRIPTION:
URL:https://staging.bethormiami.com/event/presidents-day/
CATEGORIES:Community
ATTACH;FMTTYPE=image/png:https://staging.bethormiami.com/wp-content/uploads/2023/06/President-day.png
END:VEVENT
BEGIN:VEVENT
DTSTART;TZID=America/New_York:20240218T140000
DTEND;TZID=America/New_York:20240218T140000
DTSTAMP:20260422T182046
CREATED:20230605T173036Z
LAST-MODIFIED:20231013T145726Z
UID:9750-1708264800-1708264800@staging.bethormiami.com
SUMMARY:Pet Blessing at Beth Or
DESCRIPTION:
URL:https://staging.bethormiami.com/event/pet-blessing-2/
CATEGORIES:Community
ATTACH;FMTTYPE=image/png:https://staging.bethormiami.com/wp-content/uploads/2023/06/Pet-Blessing.png
END:VEVENT
BEGIN:VEVENT
DTSTART;TZID=America/New_York:20240218T100000
DTEND;TZID=America/New_York:20240218T100000
DTSTAMP:20260422T182046
CREATED:20230613T150010Z
LAST-MODIFIED:20230621T144819Z
UID:9847-1708250400-1708250400@staging.bethormiami.com
SUMMARY:BeMitzvah at Health in the Hood
DESCRIPTION:
URL:https://staging.bethormiami.com/event/bemitzvah-at-health-in-the-hood/
CATEGORIES:Community
ATTACH;FMTTYPE=image/jpeg:https://staging.bethormiami.com/wp-content/uploads/2018/08/BO-Be-Mitzvah-postcard-element-1.jpg
END:VEVENT
BEGIN:VEVENT
DTSTART;TZID=America/New_York:20240217T180000
DTEND;TZID=America/New_York:20240217T220000
DTSTAMP:20260422T182046
CREATED:20230613T145904Z
LAST-MODIFIED:20230621T145617Z
UID:9845-1708192800-1708207200@staging.bethormiami.com
SUMMARY:Spaghetti Dinner
DESCRIPTION:
URL:https://staging.bethormiami.com/event/spaghetti-dinner/
CATEGORIES:Community
ATTACH;FMTTYPE=image/png:https://staging.bethormiami.com/wp-content/uploads/2022/08/spaghetti-dinner.png
END:VEVENT
BEGIN:VEVENT
DTSTART;TZID=America/New_York:20240211T130000
DTEND;TZID=America/New_York:20240211T150000
DTSTAMP:20260422T182046
CREATED:20230524T173347Z
LAST-MODIFIED:20230524T173347Z
UID:9612-1707656400-1707663600@staging.bethormiami.com
SUMMARY:Red Tent Book Club Meeting
DESCRIPTION:
URL:https://staging.bethormiami.com/event/red-tent-book-club-meeting-17/
CATEGORIES:Community
ATTACH;FMTTYPE=image/jpeg:https://staging.bethormiami.com/wp-content/uploads/2022/07/bookreview.jpg
END:VEVENT
BEGIN:VEVENT
DTSTART;TZID=America/New_York:20240204T100000
DTEND;TZID=America/New_York:20240204T150000
DTSTAMP:20260422T182046
CREATED:20230613T145727Z
LAST-MODIFIED:20230619T173211Z
UID:9843-1707040800-1707058800@staging.bethormiami.com
SUMMARY:Gallery of Light workshop
DESCRIPTION:
URL:https://staging.bethormiami.com/event/gallery-of-light-workshop/
CATEGORIES:Community
ATTACH;FMTTYPE=image/png:https://staging.bethormiami.com/wp-content/uploads/2022/08/Gallery-of-Light.png
END:VEVENT
BEGIN:VEVENT
DTSTART;TZID=America/New_York:20240203T101500
DTEND;TZID=America/New_York:20240203T110000
DTSTAMP:20260422T182046
CREATED:20230613T145604Z
LAST-MODIFIED:20230613T145604Z
UID:9839-1706955300-1706958000@staging.bethormiami.com
SUMMARY:Torah Study
DESCRIPTION:
URL:https://staging.bethormiami.com/event/torah-study-11/
CATEGORIES:Community
ATTACH;FMTTYPE=image/png:https://staging.bethormiami.com/wp-content/uploads/2022/04/Torah5.png
END:VEVENT
BEGIN:VEVENT
DTSTART;TZID=America/New_York:20240128T140000
DTEND;TZID=America/New_York:20240128T170000
DTSTAMP:20260422T182046
CREATED:20230623T154731Z
LAST-MODIFIED:20230623T154731Z
UID:9948-1706450400-1706461200@staging.bethormiami.com
SUMMARY:TBO Theater Party and Dinner @ GablesStage “Old Wicked Songs”
DESCRIPTION:
URL:https://staging.bethormiami.com/event/tbo-theater-party-and-dinner-gablesstage-old-wicked-songs/
END:VEVENT
BEGIN:VEVENT
DTSTART;TZID=America/New_York:20240126T180000
DTEND;TZID=America/New_York:20240126T200000
DTSTAMP:20260422T182046
CREATED:20230613T144938Z
LAST-MODIFIED:20230620T175136Z
UID:9837-1706292000-1706299200@staging.bethormiami.com
SUMMARY:Tu B'Shevat Shabbat with guest speaker
DESCRIPTION:
URL:https://staging.bethormiami.com/event/tu-bshevat-shabbat-with-guest-speaker/
CATEGORIES:Community
ATTACH;FMTTYPE=image/png:https://staging.bethormiami.com/wp-content/uploads/2022/08/TuBShevat.png
END:VEVENT
BEGIN:VEVENT
DTSTART;TZID=America/New_York:20240115T193000
DTEND;TZID=America/New_York:20240115T193000
DTSTAMP:20260422T182046
CREATED:20230605T175348Z
LAST-MODIFIED:20230605T175348Z
UID:9768-1705347000-1705347000@staging.bethormiami.com
SUMMARY:Short Story – Book Talk
DESCRIPTION:
URL:https://staging.bethormiami.com/event/short-story-book-talk-10/
CATEGORIES:Community
ATTACH;FMTTYPE=image/jpeg:https://staging.bethormiami.com/wp-content/uploads/2022/07/bookreview.jpg
END:VEVENT
BEGIN:VEVENT
DTSTART;VALUE=DATE:20240115
DTEND;VALUE=DATE:20240116
DTSTAMP:20260422T182046
CREATED:20230602T161831Z
LAST-MODIFIED:20230602T161831Z
UID:9696-1705276800-1705363199@staging.bethormiami.com
SUMMARY:Martin Luther King\, Jr. Day
DESCRIPTION:
URL:https://staging.bethormiami.com/event/martin-luther-king-jr-day-2/
CATEGORIES:Community
ATTACH;FMTTYPE=image/png:https://staging.bethormiami.com/wp-content/uploads/2023/06/Martin-Luther-King.png
END:VEVENT
BEGIN:VEVENT
DTSTART;TZID=America/New_York:20240114T130000
DTEND;TZID=America/New_York:20240114T150000
DTSTAMP:20260422T182046
CREATED:20230524T173240Z
LAST-MODIFIED:20230524T173240Z
UID:9610-1705237200-1705244400@staging.bethormiami.com
SUMMARY:Red Tent Book Club Meeting
DESCRIPTION:
URL:https://staging.bethormiami.com/event/red-tent-book-club-meeting-16/
CATEGORIES:Community
ATTACH;FMTTYPE=image/jpeg:https://staging.bethormiami.com/wp-content/uploads/2022/07/bookreview.jpg
END:VEVENT
BEGIN:VEVENT
DTSTART;TZID=America/New_York:20240112T180000
DTEND;TZID=America/New_York:20240112T200000
DTSTAMP:20260422T182046
CREATED:20230613T144755Z
LAST-MODIFIED:20230620T175021Z
UID:9835-1705082400-1705089600@staging.bethormiami.com
SUMMARY:Martin Luther King Jr. Day Shabbat with Guest Speaker Pastor Brooks and Choir
DESCRIPTION:
URL:https://staging.bethormiami.com/event/martin-luther-king-jr-day-shabbat-with-guest-speaker-pastor-brooks-and-choir/
CATEGORIES:Community
ATTACH;FMTTYPE=image/png:https://staging.bethormiami.com/wp-content/uploads/2023/06/Martin-Luther-King.png
END:VEVENT
BEGIN:VEVENT
DTSTART;TZID=America/New_York:20240106T101500
DTEND;TZID=America/New_York:20240106T113000
DTSTAMP:20260422T182046
CREATED:20230613T144333Z
LAST-MODIFIED:20230613T144333Z
UID:9833-1704536100-1704540600@staging.bethormiami.com
SUMMARY:Torah Study
DESCRIPTION:
URL:https://staging.bethormiami.com/event/torah-study-10/
CATEGORIES:Community
ATTACH;FMTTYPE=image/png:https://staging.bethormiami.com/wp-content/uploads/2022/04/Torah5.png
END:VEVENT
BEGIN:VEVENT
DTSTART;VALUE=DATE:20240101
DTEND;VALUE=DATE:20240102
DTSTAMP:20260422T182046
CREATED:20230602T161548Z
LAST-MODIFIED:20230602T161548Z
UID:9692-1704067200-1704153599@staging.bethormiami.com
SUMMARY:New Year's Day
DESCRIPTION:
URL:https://staging.bethormiami.com/event/new-years-day/
CATEGORIES:Community
ATTACH;FMTTYPE=image/png:https://staging.bethormiami.com/wp-content/uploads/2023/06/New-Years-day.png
END:VEVENT
BEGIN:VEVENT
DTSTART;TZID=America/New_York:20231218T193000
DTEND;TZID=America/New_York:20231218T193000
DTSTAMP:20260422T182046
CREATED:20230605T175303Z
LAST-MODIFIED:20230605T175303Z
UID:9766-1702927800-1702927800@staging.bethormiami.com
SUMMARY:Short Story – Book Talk
DESCRIPTION:
URL:https://staging.bethormiami.com/event/short-story-book-talk-9/
CATEGORIES:Community
ATTACH;FMTTYPE=image/jpeg:https://staging.bethormiami.com/wp-content/uploads/2022/07/bookreview.jpg
END:VEVENT
BEGIN:VEVENT
DTSTART;TZID=America/New_York:20231210T130000
DTEND;TZID=America/New_York:20231210T150000
DTSTAMP:20260422T182046
CREATED:20230524T173147Z
LAST-MODIFIED:20230524T173147Z
UID:9608-1702213200-1702220400@staging.bethormiami.com
SUMMARY:Red Tent Book Club Meeting
DESCRIPTION:
URL:https://staging.bethormiami.com/event/red-tent-book-club-meeting-15/
CATEGORIES:Community
ATTACH;FMTTYPE=image/jpeg:https://staging.bethormiami.com/wp-content/uploads/2022/07/bookreview.jpg
END:VEVENT
BEGIN:VEVENT
DTSTART;TZID=America/New_York:20231208T180000
DTEND;TZID=America/New_York:20231208T210000
DTSTAMP:20260422T182046
CREATED:20230613T143153Z
LAST-MODIFIED:20230621T145352Z
UID:9830-1702058400-1702069200@staging.bethormiami.com
SUMMARY:Hanukkah Dinner and Shabbat Service
DESCRIPTION:
URL:https://staging.bethormiami.com/event/hanukkah-shabbat-and-dinner/
CATEGORIES:Community
ATTACH;FMTTYPE=image/png:https://staging.bethormiami.com/wp-content/uploads/2023/06/Happy-Hanukkah.png
END:VEVENT
BEGIN:VEVENT
DTSTART;VALUE=DATE:20231207
DTEND;VALUE=DATE:20231216
DTSTAMP:20260422T182046
CREATED:20230602T161311Z
LAST-MODIFIED:20230602T161311Z
UID:9684-1701907200-1702684799@staging.bethormiami.com
SUMMARY:Hanukkah
DESCRIPTION:
URL:https://staging.bethormiami.com/event/hanukkah/
CATEGORIES:Community
ATTACH;FMTTYPE=image/png:https://staging.bethormiami.com/wp-content/uploads/2023/06/Happy-Hanukkah.png
END:VEVENT
BEGIN:VEVENT
DTSTART;TZID=America/New_York:20231203T150000
DTEND;TZID=America/New_York:20231203T180000
DTSTAMP:20260422T182046
CREATED:20230613T143018Z
LAST-MODIFIED:20230613T143018Z
UID:9826-1701615600-1701626400@staging.bethormiami.com
SUMMARY:Mio the Mentalist
DESCRIPTION:
URL:https://staging.bethormiami.com/event/mio-the-mentalist/
CATEGORIES:Community
ATTACH;FMTTYPE=image/png:https://staging.bethormiami.com/wp-content/uploads/2023/06/Mio-the-mentalist.png
END:VEVENT
END:VCALENDAR