BEGIN:VCALENDAR
VERSION:2.0
PRODID:-//Beth Or Miami - ECPv6.3.2//NONSGML v1.0//EN
CALSCALE:GREGORIAN
METHOD:PUBLISH
X-WR-CALNAME:Beth Or Miami
X-ORIGINAL-URL:https://staging.bethormiami.com
X-WR-CALDESC:Events for Beth Or Miami
REFRESH-INTERVAL;VALUE=DURATION:PT1H
X-Robots-Tag:noindex
X-PUBLISHED-TTL:PT1H
BEGIN:VTIMEZONE
TZID:America/New_York
BEGIN:DAYLIGHT
TZOFFSETFROM:-0500
TZOFFSETTO:-0400
TZNAME:EDT
DTSTART:20210314T070000
END:DAYLIGHT
BEGIN:STANDARD
TZOFFSETFROM:-0400
TZOFFSETTO:-0500
TZNAME:EST
DTSTART:20211107T060000
END:STANDARD
END:VTIMEZONE
BEGIN:VEVENT
DTSTART;TZID=America/New_York:20211012T123000
DTEND;TZID=America/New_York:20211012T133000
DTSTAMP:20260425T112508
CREATED:20210505T143720Z
LAST-MODIFIED:20210914T151134Z
UID:8478-1634041800-1634045400@staging.bethormiami.com
SUMMARY:TUESDAYS WITH NANCY during the Month of Elul
DESCRIPTION:Join Nancy Kirsner as she leads her weekly Tuesday discussion group. \nIf you are interested in participating in this event\, please email the Temple office at bethortemple@aol.com to receive the zoom link. You will need to send your email at least 2 days ahead of the event. \n 
URL:https://staging.bethormiami.com/event/tuesdays-group-with-nancy-3-2021-10-12/
LOCATION:Zoom
END:VEVENT
BEGIN:VEVENT
DTSTART;TZID=America/New_York:20211008T120000
DTEND;TZID=America/New_York:20211008T130000
DTSTAMP:20260425T112508
CREATED:20210505T152051Z
LAST-MODIFIED:20210712T163114Z
UID:8224-1633694400-1633698000@staging.bethormiami.com
SUMMARY:Live\, Love\, Laugh with Nancy Kirsner
DESCRIPTION:April 30 @ 12:00 pm – 1:00 pm \nLive\, Love\, Laugh with Nancy Kirsner\n\nSpend time with Nancy and friends to talk about ways to improve your day. If you are interested in participating in this […]
URL:https://staging.bethormiami.com/event/live-love-laugh-with-nancy-kirsner-2-2021-10-08/
LOCATION:Beth Or\, 11715 SW 87th Ave\, Miami\, FL 33176\, USA\, 8901 SW 87th Ct\, United States
END:VEVENT
BEGIN:VEVENT
DTSTART;TZID=America/New_York:20211005T123000
DTEND;TZID=America/New_York:20211005T133000
DTSTAMP:20260425T112508
CREATED:20210505T143720Z
LAST-MODIFIED:20210914T151133Z
UID:8477-1633437000-1633440600@staging.bethormiami.com
SUMMARY:TUESDAYS WITH NANCY during the Month of Elul
DESCRIPTION:Join Nancy Kirsner as she leads her weekly Tuesday discussion group. \nIf you are interested in participating in this event\, please email the Temple office at bethortemple@aol.com to receive the zoom link. You will need to send your email at least 2 days ahead of the event. \n 
URL:https://staging.bethormiami.com/event/tuesdays-group-with-nancy-3-2021-10-05/
LOCATION:Zoom
END:VEVENT
BEGIN:VEVENT
DTSTART;TZID=America/New_York:20211001T120000
DTEND;TZID=America/New_York:20211001T130000
DTSTAMP:20260425T112508
CREATED:20210505T152051Z
LAST-MODIFIED:20210712T163114Z
UID:8223-1633089600-1633093200@staging.bethormiami.com
SUMMARY:Live\, Love\, Laugh with Nancy Kirsner
DESCRIPTION:April 30 @ 12:00 pm – 1:00 pm \nLive\, Love\, Laugh with Nancy Kirsner\n\nSpend time with Nancy and friends to talk about ways to improve your day. If you are interested in participating in this […]
URL:https://staging.bethormiami.com/event/live-love-laugh-with-nancy-kirsner-2-2021-10-01/
LOCATION:Beth Or\, 11715 SW 87th Ave\, Miami\, FL 33176\, USA\, 8901 SW 87th Ct\, United States
END:VEVENT
BEGIN:VEVENT
DTSTART;VALUE=DATE:20210929
DTEND;VALUE=DATE:20210930
DTSTAMP:20260425T112508
CREATED:20210712T162012Z
LAST-MODIFIED:20210712T162012Z
UID:8215-1632873600-1632959999@staging.bethormiami.com
SUMMARY:Simchat Torah
DESCRIPTION:
URL:https://staging.bethormiami.com/event/simchat-torah/
LOCATION:Beth Or\, 11715 SW 87th Ave\, Miami\, FL 33176\, USA\, 8901 SW 87th Ct\, United States
END:VEVENT
BEGIN:VEVENT
DTSTART;TZID=America/New_York:20210928T123000
DTEND;TZID=America/New_York:20210928T133000
DTSTAMP:20260425T112508
CREATED:20210505T143720Z
LAST-MODIFIED:20210914T151133Z
UID:8476-1632832200-1632835800@staging.bethormiami.com
SUMMARY:TUESDAYS WITH NANCY during the Month of Elul
DESCRIPTION:Join Nancy Kirsner as she leads her weekly Tuesday discussion group. \nIf you are interested in participating in this event\, please email the Temple office at bethortemple@aol.com to receive the zoom link. You will need to send your email at least 2 days ahead of the event. \n 
URL:https://staging.bethormiami.com/event/tuesdays-group-with-nancy-3-2021-09-28/
LOCATION:Zoom
END:VEVENT
BEGIN:VEVENT
DTSTART;VALUE=DATE:20210928
DTEND;VALUE=DATE:20210929
DTSTAMP:20260425T112508
CREATED:20210712T161935Z
LAST-MODIFIED:20210712T161935Z
UID:8213-1632787200-1632873599@staging.bethormiami.com
SUMMARY:Shemini Atzeret
DESCRIPTION:
URL:https://staging.bethormiami.com/event/shemini-atzeret/
LOCATION:Beth Or\, 11715 SW 87th Ave\, Miami\, FL 33176\, USA\, 8901 SW 87th Ct\, United States
END:VEVENT
BEGIN:VEVENT
DTSTART;TZID=America/New_York:20210925T191500
DTEND;TZID=America/New_York:20210925T201500
DTSTAMP:20260425T112508
CREATED:20210825T234210Z
LAST-MODIFIED:20210825T234210Z
UID:8522-1632597300-1632600900@staging.bethormiami.com
SUMMARY:Jewish Jeopardy! with a HHD Twist
DESCRIPTION:Jewish Jeopardy! with a HHD Twist
URL:https://staging.bethormiami.com/event/jewish-jeopardy-with-a-hhd-twist/
LOCATION:Beth Or\, 11715 SW 87th Ave\, Miami\, FL 33176\, USA\, 8901 SW 87th Ct\, United States
CATEGORIES:Community
END:VEVENT
BEGIN:VEVENT
DTSTART;TZID=America/New_York:20210924T193000
DTEND;TZID=America/New_York:20210924T210000
DTSTAMP:20260425T112508
CREATED:20210727T211652Z
LAST-MODIFIED:20210727T211652Z
UID:8307-1632511800-1632517200@staging.bethormiami.com
SUMMARY:Kabbalat Shabbat with Rabbi Robyn
DESCRIPTION:
URL:https://staging.bethormiami.com/event/kabbalat-shabbat-with-rabbi-robyn-9/
LOCATION:Beth Or\, 11715 SW 87th Ave\, Miami\, FL 33176\, USA\, 8901 SW 87th Ct\, United States
END:VEVENT
BEGIN:VEVENT
DTSTART;TZID=America/New_York:20210924T120000
DTEND;TZID=America/New_York:20210924T130000
DTSTAMP:20260425T112508
CREATED:20210505T152051Z
LAST-MODIFIED:20210712T163113Z
UID:8039-1632484800-1632488400@staging.bethormiami.com
SUMMARY:Live\, Love\, Laugh with Nancy Kirsner
DESCRIPTION:April 30 @ 12:00 pm – 1:00 pm \nLive\, Love\, Laugh with Nancy Kirsner\n\nSpend time with Nancy and friends to talk about ways to improve your day. If you are interested in participating in this […]
URL:https://staging.bethormiami.com/event/live-love-laugh-with-nancy-kirsner-2-2021-09-24/
LOCATION:Beth Or\, 11715 SW 87th Ave\, Miami\, FL 33176\, USA\, 8901 SW 87th Ct\, United States
END:VEVENT
BEGIN:VEVENT
DTSTART;TZID=America/New_York:20210921T190000
DTEND;TZID=America/New_York:20210921T210000
DTSTAMP:20260425T112508
CREATED:20210808T191110Z
LAST-MODIFIED:20210808T191110Z
UID:8316-1632250800-1632258000@staging.bethormiami.com
SUMMARY:PACT House Listening Zoom Meeting
DESCRIPTION:Join in this exciting zoom event where each of us will be able to provide inspirational direction for PACT’s 2021-2022 social justice focus. More information\, including the zoom link\, will be forthcoming. Circle your calendars now to participate on September 21.
URL:https://staging.bethormiami.com/event/pact-house-listening-zoom-meeting/
LOCATION:Beth Or\, 11715 SW 87th Ave\, Miami\, FL 33176\, USA\, 8901 SW 87th Ct\, United States
CATEGORIES:Community
ATTACH;FMTTYPE=image/jpeg:https://staging.bethormiami.com/wp-content/uploads/2021/02/images-9.jpg
END:VEVENT
BEGIN:VEVENT
DTSTART;TZID=America/New_York:20210921T123000
DTEND;TZID=America/New_York:20210921T133000
DTSTAMP:20260425T112508
CREATED:20210505T143720Z
LAST-MODIFIED:20210914T151133Z
UID:8475-1632227400-1632231000@staging.bethormiami.com
SUMMARY:TUESDAYS WITH NANCY during the Month of Elul
DESCRIPTION:Join Nancy Kirsner as she leads her weekly Tuesday discussion group. \nIf you are interested in participating in this event\, please email the Temple office at bethortemple@aol.com to receive the zoom link. You will need to send your email at least 2 days ahead of the event. \n 
URL:https://staging.bethormiami.com/event/tuesdays-group-with-nancy-3-2021-09-21/
LOCATION:Zoom
END:VEVENT
BEGIN:VEVENT
DTSTART;VALUE=DATE:20210921
DTEND;VALUE=DATE:20210928
DTSTAMP:20260425T112508
CREATED:20210712T161833Z
LAST-MODIFIED:20210712T161833Z
UID:8211-1632182400-1632787199@staging.bethormiami.com
SUMMARY:Sukkot
DESCRIPTION:
URL:https://staging.bethormiami.com/event/sukkot/
LOCATION:Beth Or\, 11715 SW 87th Ave\, Miami\, FL 33176\, USA\, 8901 SW 87th Ct\, United States
END:VEVENT
BEGIN:VEVENT
DTSTART;VALUE=DATE:20210920
DTEND;VALUE=DATE:20210921
DTSTAMP:20260425T112508
CREATED:20210712T161739Z
LAST-MODIFIED:20210712T161739Z
UID:8209-1632096000-1632182399@staging.bethormiami.com
SUMMARY:Erev Sukkot
DESCRIPTION:
URL:https://staging.bethormiami.com/event/erev-sukkot/
LOCATION:Beth Or\, 11715 SW 87th Ave\, Miami\, FL 33176\, USA\, 8901 SW 87th Ct\, United States
END:VEVENT
BEGIN:VEVENT
DTSTART;TZID=America/New_York:20210917T193000
DTEND;TZID=America/New_York:20210917T210000
DTSTAMP:20260425T112508
CREATED:20210727T211601Z
LAST-MODIFIED:20210727T211601Z
UID:8305-1631907000-1631912400@staging.bethormiami.com
SUMMARY:Kabbalat Shabbat - NO SERVICE
DESCRIPTION:
URL:https://staging.bethormiami.com/event/kabbalat-shabbat-no-service/
LOCATION:Beth Or\, 11715 SW 87th Ave\, Miami\, FL 33176\, USA\, 8901 SW 87th Ct\, United States
END:VEVENT
BEGIN:VEVENT
DTSTART;TZID=America/New_York:20210917T120000
DTEND;TZID=America/New_York:20210917T130000
DTSTAMP:20260425T112508
CREATED:20210505T152051Z
LAST-MODIFIED:20210712T163112Z
UID:8038-1631880000-1631883600@staging.bethormiami.com
SUMMARY:Live\, Love\, Laugh with Nancy Kirsner
DESCRIPTION:April 30 @ 12:00 pm – 1:00 pm \nLive\, Love\, Laugh with Nancy Kirsner\n\nSpend time with Nancy and friends to talk about ways to improve your day. If you are interested in participating in this […]
URL:https://staging.bethormiami.com/event/live-love-laugh-with-nancy-kirsner-2-2021-09-17/
LOCATION:Beth Or\, 11715 SW 87th Ave\, Miami\, FL 33176\, USA\, 8901 SW 87th Ct\, United States
END:VEVENT
BEGIN:VEVENT
DTSTART;TZID=America/New_York:20210916T100000
DTEND;TZID=America/New_York:20210916T120000
DTSTAMP:20260425T112508
CREATED:20210827T151442Z
LAST-MODIFIED:20210827T151442Z
UID:8579-1631786400-1631793600@staging.bethormiami.com
SUMMARY:Beth Or Yom Kippur Service
DESCRIPTION:Beth Or Yom Kippur Service \nZoom Link will be provided to Members and Registered Guests of Beth Or. \nWe welcome guests to register with Susan in the office at bethortemple@aol.com or call 305-235-1419
URL:https://staging.bethormiami.com/event/beth-or-yom-kippur-service/
LOCATION:Zoom
ATTACH;FMTTYPE=image/jpeg:https://staging.bethormiami.com/wp-content/uploads/2021/08/2021HHIMAGETEXT-web-min-scaled.jpg
END:VEVENT
BEGIN:VEVENT
DTSTART;VALUE=DATE:20210916
DTEND;VALUE=DATE:20210917
DTSTAMP:20260425T112508
CREATED:20210505T160008Z
LAST-MODIFIED:20210505T160027Z
UID:8069-1631750400-1631836799@staging.bethormiami.com
SUMMARY:Yom Kippur
DESCRIPTION:
URL:https://staging.bethormiami.com/event/yom-kippur-2/
LOCATION:Beth Or\, 11715 SW 87th Ave\, Miami\, FL 33176\, USA\, 8901 SW 87th Ct\, United States
END:VEVENT
BEGIN:VEVENT
DTSTART;TZID=America/New_York:20210915T190000
DTEND;TZID=America/New_York:20210915T210000
DTSTAMP:20260425T112508
CREATED:20210827T151827Z
LAST-MODIFIED:20210827T151827Z
UID:8581-1631732400-1631739600@staging.bethormiami.com
SUMMARY:Beth Or Kol Nidre Service
DESCRIPTION:Beth Or Kol Nidre Service \nZoom link will be sent to members and registered guests. \nWe welcome guests to register by contacting Susan in the office at bethortemple/@aol.com or call 305-235-1419.
URL:https://staging.bethormiami.com/event/beth-or-kol-nidre-service/
LOCATION:Zoom
ATTACH;FMTTYPE=image/jpeg:https://staging.bethormiami.com/wp-content/uploads/2021/08/2021HHIMAGETEXT-web-min-scaled.jpg
END:VEVENT
BEGIN:VEVENT
DTSTART;VALUE=DATE:20210915
DTEND;VALUE=DATE:20210916
DTSTAMP:20260425T112508
CREATED:20210505T155922Z
LAST-MODIFIED:20210712T161352Z
UID:8067-1631664000-1631750399@staging.bethormiami.com
SUMMARY:Erev Yom Kippur
DESCRIPTION:
URL:https://staging.bethormiami.com/event/erev-yom-kippur/
LOCATION:Beth Or\, 11715 SW 87th Ave\, Miami\, FL 33176\, USA\, 8901 SW 87th Ct\, United States
END:VEVENT
BEGIN:VEVENT
DTSTART;TZID=America/New_York:20210914T123000
DTEND;TZID=America/New_York:20210914T133000
DTSTAMP:20260425T112508
CREATED:20210505T143720Z
LAST-MODIFIED:20210914T151133Z
UID:8474-1631622600-1631626200@staging.bethormiami.com
SUMMARY:TUESDAYS WITH NANCY during the Month of Elul
DESCRIPTION:Join Nancy Kirsner as she leads her weekly Tuesday discussion group. \nIf you are interested in participating in this event\, please email the Temple office at bethortemple@aol.com to receive the zoom link. You will need to send your email at least 2 days ahead of the event. \n 
URL:https://staging.bethormiami.com/event/tuesdays-group-with-nancy-3-2021-09-14/
LOCATION:Zoom
END:VEVENT
BEGIN:VEVENT
DTSTART;TZID=America/New_York:20210911T190000
DTEND;TZID=America/New_York:20210911T210000
DTSTAMP:20260425T112508
CREATED:20210817T124706Z
LAST-MODIFIED:20210817T124857Z
UID:8324-1631386800-1631394000@staging.bethormiami.com
SUMMARY:Gallery Of Light - High Holidays BEGINNINGS Virtual Opening
DESCRIPTION:
URL:https://staging.bethormiami.com/event/gallery-of-light/
LOCATION:Zoom
ATTACH;FMTTYPE=image/jpeg:https://staging.bethormiami.com/wp-content/uploads/2021/08/09-11-2021-GOL-HHD20221.jpg
END:VEVENT
BEGIN:VEVENT
DTSTART;TZID=America/New_York:20210910T193000
DTEND;TZID=America/New_York:20210910T210000
DTSTAMP:20260425T112509
CREATED:20210727T211515Z
LAST-MODIFIED:20210727T211515Z
UID:8303-1631302200-1631307600@staging.bethormiami.com
SUMMARY:Kabbalat Shabbat with Mel Tenen
DESCRIPTION:Kabbalat Shabbat with
URL:https://staging.bethormiami.com/event/kabbalat-shabbat-with-mel-tenen/
LOCATION:Beth Or\, 11715 SW 87th Ave\, Miami\, FL 33176\, USA\, 8901 SW 87th Ct\, United States
END:VEVENT
BEGIN:VEVENT
DTSTART;TZID=America/New_York:20210910T120000
DTEND;TZID=America/New_York:20210910T130000
DTSTAMP:20260425T112509
CREATED:20210505T152051Z
LAST-MODIFIED:20210712T163112Z
UID:8037-1631275200-1631278800@staging.bethormiami.com
SUMMARY:Live\, Love\, Laugh with Nancy Kirsner
DESCRIPTION:April 30 @ 12:00 pm – 1:00 pm \nLive\, Love\, Laugh with Nancy Kirsner\n\nSpend time with Nancy and friends to talk about ways to improve your day. If you are interested in participating in this […]
URL:https://staging.bethormiami.com/event/live-love-laugh-with-nancy-kirsner-2-2021-09-10/
LOCATION:Beth Or\, 11715 SW 87th Ave\, Miami\, FL 33176\, USA\, 8901 SW 87th Ct\, United States
END:VEVENT
BEGIN:VEVENT
DTSTART;TZID=America/New_York:20210907T100000
DTEND;TZID=America/New_York:20210907T130000
DTSTAMP:20260425T112509
CREATED:20210827T150020Z
LAST-MODIFIED:20210827T150020Z
UID:8575-1631008800-1631019600@staging.bethormiami.com
SUMMARY:Beth Or Rosh Hashanah Service
DESCRIPTION:Beth Or Rosh Hashanah Service \nZoom Link will be provided to Members and Registered Guests of Beth Or. \nWe welcome guests to register with Susan in the office at bethortemple@aol.com or call 305-235-1419
URL:https://staging.bethormiami.com/event/beth-or-rosh-hashanah-service/
LOCATION:Zoom
ATTACH;FMTTYPE=image/jpeg:https://staging.bethormiami.com/wp-content/uploads/2021/08/2021HHIMAGETEXT-web-min-scaled.jpg
END:VEVENT
BEGIN:VEVENT
DTSTART;VALUE=DATE:20210907
DTEND;VALUE=DATE:20210909
DTSTAMP:20260425T112509
CREATED:20210505T155815Z
LAST-MODIFIED:20210505T155815Z
UID:8065-1630972800-1631145599@staging.bethormiami.com
SUMMARY:Rosh Hashanah
DESCRIPTION:
URL:https://staging.bethormiami.com/event/rosh-hashanah/
LOCATION:Beth Or\, 11715 SW 87th Ave\, Miami\, FL 33176\, USA\, 8901 SW 87th Ct\, United States
END:VEVENT
BEGIN:VEVENT
DTSTART;VALUE=DATE:20210906
DTEND;VALUE=DATE:20210907
DTSTAMP:20260425T112509
CREATED:20210505T155717Z
LAST-MODIFIED:20210712T161254Z
UID:8063-1630886400-1630972799@staging.bethormiami.com
SUMMARY:Erev Rosh Hashanah
DESCRIPTION:
URL:https://staging.bethormiami.com/event/erev-rosh-hashanah-2/
LOCATION:Beth Or\, 11715 SW 87th Ave\, Miami\, FL 33176\, USA\, 8901 SW 87th Ct\, United States
END:VEVENT
BEGIN:VEVENT
DTSTART;TZID=America/New_York:20210905T110000
DTEND;TZID=America/New_York:20210905T130000
DTSTAMP:20260425T112509
CREATED:20210825T231923Z
LAST-MODIFIED:20210825T231923Z
UID:8498-1630839600-1630846800@staging.bethormiami.com
SUMMARY:Canned Food Drive By at Temple Beth Or Parking Lot
DESCRIPTION:Canned Food Drive By at Temple Beth Or Parking Lot \nContact Andrea at andrealor@bellsouth.net
URL:https://staging.bethormiami.com/event/canned-food-drive-by-at-temple-beth-or-parking-lot/
LOCATION:Beth Or\, 11715 SW 87th Ave\, Miami\, FL 33176\, USA\, 8901 SW 87th Ct\, United States
CATEGORIES:Community
END:VEVENT
BEGIN:VEVENT
DTSTART;TZID=America/New_York:20210903T193000
DTEND;TZID=America/New_York:20210903T210000
DTSTAMP:20260425T112509
CREATED:20210727T211426Z
LAST-MODIFIED:20210827T140129Z
UID:8301-1630697400-1630702800@staging.bethormiami.com
SUMMARY:Kabbalat Shabbat with Rabbi Robyn
DESCRIPTION:
URL:https://staging.bethormiami.com/event/kabbalat-shabbat-with-rabbi-robyn-8/
LOCATION:Beth Or\, 11715 SW 87th Ave\, Miami\, FL 33176\, USA\, 8901 SW 87th Ct\, United States
END:VEVENT
BEGIN:VEVENT
DTSTART;TZID=America/New_York:20210903T120000
DTEND;TZID=America/New_York:20210903T130000
DTSTAMP:20260425T112509
CREATED:20210505T152051Z
LAST-MODIFIED:20210712T163112Z
UID:8036-1630670400-1630674000@staging.bethormiami.com
SUMMARY:Live\, Love\, Laugh with Nancy Kirsner
DESCRIPTION:April 30 @ 12:00 pm – 1:00 pm \nLive\, Love\, Laugh with Nancy Kirsner\n\nSpend time with Nancy and friends to talk about ways to improve your day. If you are interested in participating in this […]
URL:https://staging.bethormiami.com/event/live-love-laugh-with-nancy-kirsner-2-2021-09-03/
LOCATION:Beth Or\, 11715 SW 87th Ave\, Miami\, FL 33176\, USA\, 8901 SW 87th Ct\, United States
END:VEVENT
END:VCALENDAR