BEGIN:VCALENDAR
VERSION:2.0
PRODID:-//Beth Or Miami - ECPv6.3.2//NONSGML v1.0//EN
CALSCALE:GREGORIAN
METHOD:PUBLISH
X-WR-CALNAME:Beth Or Miami
X-ORIGINAL-URL:https://staging.bethormiami.com
X-WR-CALDESC:Events for Beth Or Miami
REFRESH-INTERVAL;VALUE=DURATION:PT1H
X-Robots-Tag:noindex
X-PUBLISHED-TTL:PT1H
BEGIN:VTIMEZONE
TZID:America/New_York
BEGIN:DAYLIGHT
TZOFFSETFROM:-0500
TZOFFSETTO:-0400
TZNAME:EDT
DTSTART:20210314T070000
END:DAYLIGHT
BEGIN:STANDARD
TZOFFSETFROM:-0400
TZOFFSETTO:-0500
TZNAME:EST
DTSTART:20211107T060000
END:STANDARD
BEGIN:DAYLIGHT
TZOFFSETFROM:-0500
TZOFFSETTO:-0400
TZNAME:EDT
DTSTART:20220313T070000
END:DAYLIGHT
BEGIN:STANDARD
TZOFFSETFROM:-0400
TZOFFSETTO:-0500
TZNAME:EST
DTSTART:20221106T060000
END:STANDARD
END:VTIMEZONE
BEGIN:VEVENT
DTSTART;TZID=America/New_York:20220119T190000
DTEND;TZID=America/New_York:20220119T200000
DTSTAMP:20260425T065544
CREATED:20211022T012219Z
LAST-MODIFIED:20211022T012219Z
UID:8613-1642618800-1642622400@staging.bethormiami.com
SUMMARY:Beth Or PACT Network Members Meeting
DESCRIPTION:Our PACT Network Members will meet tonight via zoom to discuss the upcoming PACT events for the remaining of the year. A zoom link will be sent to all Network members prior to January 19.
URL:https://staging.bethormiami.com/event/beth-or-pact-network-members-meeting/
LOCATION:Beth Or\, 11715 SW 87th Ave\, Miami\, FL 33176\, USA\, 8901 SW 87th Ct\, United States
CATEGORIES:Community,Special Invitational Event
ATTACH;FMTTYPE=image/jpeg:https://staging.bethormiami.com/wp-content/uploads/2021/02/images-9.jpg
END:VEVENT
BEGIN:VEVENT
DTSTART;TZID=America/New_York:20211231T120000
DTEND;TZID=America/New_York:20211231T130000
DTSTAMP:20260425T065544
CREATED:20210505T152051Z
LAST-MODIFIED:20210712T163118Z
UID:8236-1640952000-1640955600@staging.bethormiami.com
SUMMARY:Live\, Love\, Laugh with Nancy Kirsner
DESCRIPTION:April 30 @ 12:00 pm – 1:00 pm \nLive\, Love\, Laugh with Nancy Kirsner\n\nSpend time with Nancy and friends to talk about ways to improve your day. If you are interested in participating in this […]
URL:https://staging.bethormiami.com/event/live-love-laugh-with-nancy-kirsner-2-2021-12-31/
LOCATION:Beth Or\, 11715 SW 87th Ave\, Miami\, FL 33176\, USA\, 8901 SW 87th Ct\, United States
END:VEVENT
BEGIN:VEVENT
DTSTART;TZID=America/New_York:20211228T123000
DTEND;TZID=America/New_York:20211228T133000
DTSTAMP:20260425T065544
CREATED:20210505T143720Z
LAST-MODIFIED:20210914T151143Z
UID:8489-1640694600-1640698200@staging.bethormiami.com
SUMMARY:TUESDAYS WITH NANCY during the Month of Elul
DESCRIPTION:Join Nancy Kirsner as she leads her weekly Tuesday discussion group. \nIf you are interested in participating in this event\, please email the Temple office at bethortemple@aol.com to receive the zoom link. You will need to send your email at least 2 days ahead of the event. \n 
URL:https://staging.bethormiami.com/event/tuesdays-group-with-nancy-3-2021-12-28/
LOCATION:Zoom
END:VEVENT
BEGIN:VEVENT
DTSTART;TZID=America/New_York:20211224T120000
DTEND;TZID=America/New_York:20211224T130000
DTSTAMP:20260425T065544
CREATED:20210505T152051Z
LAST-MODIFIED:20210712T163118Z
UID:8235-1640347200-1640350800@staging.bethormiami.com
SUMMARY:Live\, Love\, Laugh with Nancy Kirsner
DESCRIPTION:April 30 @ 12:00 pm – 1:00 pm \nLive\, Love\, Laugh with Nancy Kirsner\n\nSpend time with Nancy and friends to talk about ways to improve your day. If you are interested in participating in this […]
URL:https://staging.bethormiami.com/event/live-love-laugh-with-nancy-kirsner-2-2021-12-24/
LOCATION:Beth Or\, 11715 SW 87th Ave\, Miami\, FL 33176\, USA\, 8901 SW 87th Ct\, United States
END:VEVENT
BEGIN:VEVENT
DTSTART;TZID=America/New_York:20211221T123000
DTEND;TZID=America/New_York:20211221T133000
DTSTAMP:20260425T065544
CREATED:20210505T143720Z
LAST-MODIFIED:20210914T151143Z
UID:8488-1640089800-1640093400@staging.bethormiami.com
SUMMARY:TUESDAYS WITH NANCY during the Month of Elul
DESCRIPTION:Join Nancy Kirsner as she leads her weekly Tuesday discussion group. \nIf you are interested in participating in this event\, please email the Temple office at bethortemple@aol.com to receive the zoom link. You will need to send your email at least 2 days ahead of the event. \n 
URL:https://staging.bethormiami.com/event/tuesdays-group-with-nancy-3-2021-12-21/
LOCATION:Zoom
END:VEVENT
BEGIN:VEVENT
DTSTART;TZID=America/New_York:20211217T120000
DTEND;TZID=America/New_York:20211217T130000
DTSTAMP:20260425T065544
CREATED:20210505T152051Z
LAST-MODIFIED:20210712T163118Z
UID:8234-1639742400-1639746000@staging.bethormiami.com
SUMMARY:Live\, Love\, Laugh with Nancy Kirsner
DESCRIPTION:April 30 @ 12:00 pm – 1:00 pm \nLive\, Love\, Laugh with Nancy Kirsner\n\nSpend time with Nancy and friends to talk about ways to improve your day. If you are interested in participating in this […]
URL:https://staging.bethormiami.com/event/live-love-laugh-with-nancy-kirsner-2-2021-12-17/
LOCATION:Beth Or\, 11715 SW 87th Ave\, Miami\, FL 33176\, USA\, 8901 SW 87th Ct\, United States
END:VEVENT
BEGIN:VEVENT
DTSTART;TZID=America/New_York:20211214T123000
DTEND;TZID=America/New_York:20211214T133000
DTSTAMP:20260425T065544
CREATED:20210505T143720Z
LAST-MODIFIED:20210914T151143Z
UID:8487-1639485000-1639488600@staging.bethormiami.com
SUMMARY:TUESDAYS WITH NANCY during the Month of Elul
DESCRIPTION:Join Nancy Kirsner as she leads her weekly Tuesday discussion group. \nIf you are interested in participating in this event\, please email the Temple office at bethortemple@aol.com to receive the zoom link. You will need to send your email at least 2 days ahead of the event. \n 
URL:https://staging.bethormiami.com/event/tuesdays-group-with-nancy-3-2021-12-14/
LOCATION:Zoom
END:VEVENT
BEGIN:VEVENT
DTSTART;TZID=America/New_York:20211210T120000
DTEND;TZID=America/New_York:20211210T130000
DTSTAMP:20260425T065544
CREATED:20210505T152051Z
LAST-MODIFIED:20210712T163117Z
UID:8233-1639137600-1639141200@staging.bethormiami.com
SUMMARY:Live\, Love\, Laugh with Nancy Kirsner
DESCRIPTION:April 30 @ 12:00 pm – 1:00 pm \nLive\, Love\, Laugh with Nancy Kirsner\n\nSpend time with Nancy and friends to talk about ways to improve your day. If you are interested in participating in this […]
URL:https://staging.bethormiami.com/event/live-love-laugh-with-nancy-kirsner-2-2021-12-10/
LOCATION:Beth Or\, 11715 SW 87th Ave\, Miami\, FL 33176\, USA\, 8901 SW 87th Ct\, United States
END:VEVENT
BEGIN:VEVENT
DTSTART;TZID=America/New_York:20211207T123000
DTEND;TZID=America/New_York:20211207T133000
DTSTAMP:20260425T065544
CREATED:20210505T143720Z
LAST-MODIFIED:20210914T151142Z
UID:8486-1638880200-1638883800@staging.bethormiami.com
SUMMARY:TUESDAYS WITH NANCY during the Month of Elul
DESCRIPTION:Join Nancy Kirsner as she leads her weekly Tuesday discussion group. \nIf you are interested in participating in this event\, please email the Temple office at bethortemple@aol.com to receive the zoom link. You will need to send your email at least 2 days ahead of the event. \n 
URL:https://staging.bethormiami.com/event/tuesdays-group-with-nancy-3-2021-12-07/
LOCATION:Zoom
END:VEVENT
BEGIN:VEVENT
DTSTART;VALUE=DATE:20211205
DTEND;VALUE=DATE:20211206
DTSTAMP:20260425T065544
CREATED:20210712T162612Z
LAST-MODIFIED:20210712T162612Z
UID:8221-1638662400-1638748799@staging.bethormiami.com
SUMMARY:Chanukah 8th Candle
DESCRIPTION:
URL:https://staging.bethormiami.com/event/chanukah-8th-candle/
LOCATION:Beth Or\, 11715 SW 87th Ave\, Miami\, FL 33176\, USA\, 8901 SW 87th Ct\, United States
END:VEVENT
BEGIN:VEVENT
DTSTART;TZID=America/New_York:20211203T120000
DTEND;TZID=America/New_York:20211203T130000
DTSTAMP:20260425T065544
CREATED:20210505T152051Z
LAST-MODIFIED:20210712T163116Z
UID:8232-1638532800-1638536400@staging.bethormiami.com
SUMMARY:Live\, Love\, Laugh with Nancy Kirsner
DESCRIPTION:April 30 @ 12:00 pm – 1:00 pm \nLive\, Love\, Laugh with Nancy Kirsner\n\nSpend time with Nancy and friends to talk about ways to improve your day. If you are interested in participating in this […]
URL:https://staging.bethormiami.com/event/live-love-laugh-with-nancy-kirsner-2-2021-12-03/
LOCATION:Beth Or\, 11715 SW 87th Ave\, Miami\, FL 33176\, USA\, 8901 SW 87th Ct\, United States
END:VEVENT
BEGIN:VEVENT
DTSTART;TZID=America/New_York:20211130T123000
DTEND;TZID=America/New_York:20211130T133000
DTSTAMP:20260425T065544
CREATED:20210505T143720Z
LAST-MODIFIED:20210914T151142Z
UID:8485-1638275400-1638279000@staging.bethormiami.com
SUMMARY:TUESDAYS WITH NANCY during the Month of Elul
DESCRIPTION:Join Nancy Kirsner as she leads her weekly Tuesday discussion group. \nIf you are interested in participating in this event\, please email the Temple office at bethortemple@aol.com to receive the zoom link. You will need to send your email at least 2 days ahead of the event. \n 
URL:https://staging.bethormiami.com/event/tuesdays-group-with-nancy-3-2021-11-30/
LOCATION:Zoom
END:VEVENT
BEGIN:VEVENT
DTSTART;VALUE=DATE:20211129
DTEND;VALUE=DATE:20211205
DTSTAMP:20260425T065544
CREATED:20210712T162526Z
LAST-MODIFIED:20210712T162526Z
UID:8219-1638144000-1638662399@staging.bethormiami.com
SUMMARY:Chanukah
DESCRIPTION:
URL:https://staging.bethormiami.com/event/chanukah/
LOCATION:Beth Or\, 11715 SW 87th Ave\, Miami\, FL 33176\, USA\, 8901 SW 87th Ct\, United States
END:VEVENT
BEGIN:VEVENT
DTSTART;VALUE=DATE:20211128
DTEND;VALUE=DATE:20211129
DTSTAMP:20260425T065544
CREATED:20210712T162427Z
LAST-MODIFIED:20210712T162427Z
UID:8217-1638057600-1638143999@staging.bethormiami.com
SUMMARY:Chanukah -1st Candle
DESCRIPTION:
URL:https://staging.bethormiami.com/event/chanukah-1st-candle/
LOCATION:Beth Or\, 11715 SW 87th Ave\, Miami\, FL 33176\, USA\, 8901 SW 87th Ct\, United States
END:VEVENT
BEGIN:VEVENT
DTSTART;TZID=America/New_York:20211126T120000
DTEND;TZID=America/New_York:20211126T130000
DTSTAMP:20260425T065544
CREATED:20210505T152051Z
LAST-MODIFIED:20210712T163116Z
UID:8231-1637928000-1637931600@staging.bethormiami.com
SUMMARY:Live\, Love\, Laugh with Nancy Kirsner
DESCRIPTION:April 30 @ 12:00 pm – 1:00 pm \nLive\, Love\, Laugh with Nancy Kirsner\n\nSpend time with Nancy and friends to talk about ways to improve your day. If you are interested in participating in this […]
URL:https://staging.bethormiami.com/event/live-love-laugh-with-nancy-kirsner-2-2021-11-26/
LOCATION:Beth Or\, 11715 SW 87th Ave\, Miami\, FL 33176\, USA\, 8901 SW 87th Ct\, United States
END:VEVENT
BEGIN:VEVENT
DTSTART;TZID=America/New_York:20211123T123000
DTEND;TZID=America/New_York:20211123T133000
DTSTAMP:20260425T065544
CREATED:20210505T143720Z
LAST-MODIFIED:20210914T151142Z
UID:8484-1637670600-1637674200@staging.bethormiami.com
SUMMARY:TUESDAYS WITH NANCY during the Month of Elul
DESCRIPTION:Join Nancy Kirsner as she leads her weekly Tuesday discussion group. \nIf you are interested in participating in this event\, please email the Temple office at bethortemple@aol.com to receive the zoom link. You will need to send your email at least 2 days ahead of the event. \n 
URL:https://staging.bethormiami.com/event/tuesdays-group-with-nancy-3-2021-11-23/
LOCATION:Zoom
END:VEVENT
BEGIN:VEVENT
DTSTART;TZID=America/New_York:20211119T120000
DTEND;TZID=America/New_York:20211119T130000
DTSTAMP:20260425T065544
CREATED:20210505T152051Z
LAST-MODIFIED:20210712T163115Z
UID:8230-1637323200-1637326800@staging.bethormiami.com
SUMMARY:Live\, Love\, Laugh with Nancy Kirsner
DESCRIPTION:April 30 @ 12:00 pm – 1:00 pm \nLive\, Love\, Laugh with Nancy Kirsner\n\nSpend time with Nancy and friends to talk about ways to improve your day. If you are interested in participating in this […]
URL:https://staging.bethormiami.com/event/live-love-laugh-with-nancy-kirsner-2-2021-11-19/
LOCATION:Beth Or\, 11715 SW 87th Ave\, Miami\, FL 33176\, USA\, 8901 SW 87th Ct\, United States
END:VEVENT
BEGIN:VEVENT
DTSTART;TZID=America/New_York:20211116T123000
DTEND;TZID=America/New_York:20211116T133000
DTSTAMP:20260425T065544
CREATED:20210505T143720Z
LAST-MODIFIED:20210914T151135Z
UID:8483-1637065800-1637069400@staging.bethormiami.com
SUMMARY:TUESDAYS WITH NANCY during the Month of Elul
DESCRIPTION:Join Nancy Kirsner as she leads her weekly Tuesday discussion group. \nIf you are interested in participating in this event\, please email the Temple office at bethortemple@aol.com to receive the zoom link. You will need to send your email at least 2 days ahead of the event. \n 
URL:https://staging.bethormiami.com/event/tuesdays-group-with-nancy-3-2021-11-16/
LOCATION:Zoom
END:VEVENT
BEGIN:VEVENT
DTSTART;TZID=America/New_York:20211115T190000
DTEND;TZID=America/New_York:20211115T210000
DTSTAMP:20260425T065544
CREATED:20211110T202941Z
LAST-MODIFIED:20211110T202941Z
UID:8617-1637002800-1637010000@staging.bethormiami.com
SUMMARY:PACT Research Kickoff Zoom
DESCRIPTION:All Beth Orians are invited to attend the PACT Research Zoom event.  The issues being addressed include housing & the environment\, policing & arrests.  Research teams determine PACT’s approach to the problem. Watch your email for a registration flyer.
URL:https://staging.bethormiami.com/event/pact-research-kickoff-zoom/
LOCATION:Beth Or\, 11715 SW 87th Ave\, Miami\, FL 33176\, USA\, 8901 SW 87th Ct\, United States
CATEGORIES:Community
ATTACH;FMTTYPE=image/jpeg:https://staging.bethormiami.com/wp-content/uploads/2021/01/images-1.jpg
END:VEVENT
BEGIN:VEVENT
DTSTART;TZID=America/New_York:20211112T120000
DTEND;TZID=America/New_York:20211112T130000
DTSTAMP:20260425T065544
CREATED:20210505T152051Z
LAST-MODIFIED:20210712T163115Z
UID:8229-1636718400-1636722000@staging.bethormiami.com
SUMMARY:Live\, Love\, Laugh with Nancy Kirsner
DESCRIPTION:April 30 @ 12:00 pm – 1:00 pm \nLive\, Love\, Laugh with Nancy Kirsner\n\nSpend time with Nancy and friends to talk about ways to improve your day. If you are interested in participating in this […]
URL:https://staging.bethormiami.com/event/live-love-laugh-with-nancy-kirsner-2-2021-11-12/
LOCATION:Beth Or\, 11715 SW 87th Ave\, Miami\, FL 33176\, USA\, 8901 SW 87th Ct\, United States
END:VEVENT
BEGIN:VEVENT
DTSTART;TZID=America/New_York:20211109T123000
DTEND;TZID=America/New_York:20211109T133000
DTSTAMP:20260425T065544
CREATED:20210505T143720Z
LAST-MODIFIED:20210914T151135Z
UID:8482-1636461000-1636464600@staging.bethormiami.com
SUMMARY:TUESDAYS WITH NANCY during the Month of Elul
DESCRIPTION:Join Nancy Kirsner as she leads her weekly Tuesday discussion group. \nIf you are interested in participating in this event\, please email the Temple office at bethortemple@aol.com to receive the zoom link. You will need to send your email at least 2 days ahead of the event. \n 
URL:https://staging.bethormiami.com/event/tuesdays-group-with-nancy-3-2021-11-09/
LOCATION:Zoom
END:VEVENT
BEGIN:VEVENT
DTSTART;TZID=America/New_York:20211105T120000
DTEND;TZID=America/New_York:20211105T130000
DTSTAMP:20260425T065544
CREATED:20210505T152051Z
LAST-MODIFIED:20210712T163115Z
UID:8228-1636113600-1636117200@staging.bethormiami.com
SUMMARY:Live\, Love\, Laugh with Nancy Kirsner
DESCRIPTION:April 30 @ 12:00 pm – 1:00 pm \nLive\, Love\, Laugh with Nancy Kirsner\n\nSpend time with Nancy and friends to talk about ways to improve your day. If you are interested in participating in this […]
URL:https://staging.bethormiami.com/event/live-love-laugh-with-nancy-kirsner-2-2021-11-05/
LOCATION:Beth Or\, 11715 SW 87th Ave\, Miami\, FL 33176\, USA\, 8901 SW 87th Ct\, United States
END:VEVENT
BEGIN:VEVENT
DTSTART;TZID=America/New_York:20211102T123000
DTEND;TZID=America/New_York:20211102T133000
DTSTAMP:20260425T065544
CREATED:20210505T143720Z
LAST-MODIFIED:20210914T151134Z
UID:8481-1635856200-1635859800@staging.bethormiami.com
SUMMARY:TUESDAYS WITH NANCY during the Month of Elul
DESCRIPTION:Join Nancy Kirsner as she leads her weekly Tuesday discussion group. \nIf you are interested in participating in this event\, please email the Temple office at bethortemple@aol.com to receive the zoom link. You will need to send your email at least 2 days ahead of the event. \n 
URL:https://staging.bethormiami.com/event/tuesdays-group-with-nancy-3-2021-11-02/
LOCATION:Zoom
END:VEVENT
BEGIN:VEVENT
DTSTART;TZID=America/New_York:20211029T120000
DTEND;TZID=America/New_York:20211029T130000
DTSTAMP:20260425T065544
CREATED:20210505T152051Z
LAST-MODIFIED:20210712T163115Z
UID:8227-1635508800-1635512400@staging.bethormiami.com
SUMMARY:Live\, Love\, Laugh with Nancy Kirsner
DESCRIPTION:April 30 @ 12:00 pm – 1:00 pm \nLive\, Love\, Laugh with Nancy Kirsner\n\nSpend time with Nancy and friends to talk about ways to improve your day. If you are interested in participating in this […]
URL:https://staging.bethormiami.com/event/live-love-laugh-with-nancy-kirsner-2-2021-10-29/
LOCATION:Beth Or\, 11715 SW 87th Ave\, Miami\, FL 33176\, USA\, 8901 SW 87th Ct\, United States
END:VEVENT
BEGIN:VEVENT
DTSTART;TZID=America/New_York:20211026T123000
DTEND;TZID=America/New_York:20211026T133000
DTSTAMP:20260425T065544
CREATED:20210505T143720Z
LAST-MODIFIED:20210914T151134Z
UID:8480-1635251400-1635255000@staging.bethormiami.com
SUMMARY:TUESDAYS WITH NANCY during the Month of Elul
DESCRIPTION:Join Nancy Kirsner as she leads her weekly Tuesday discussion group. \nIf you are interested in participating in this event\, please email the Temple office at bethortemple@aol.com to receive the zoom link. You will need to send your email at least 2 days ahead of the event. \n 
URL:https://staging.bethormiami.com/event/tuesdays-group-with-nancy-3-2021-10-26/
LOCATION:Zoom
END:VEVENT
BEGIN:VEVENT
DTSTART;TZID=America/New_York:20211025T190000
DTEND;TZID=America/New_York:20211025T210000
DTSTAMP:20260425T065544
CREATED:20211010T214850Z
LAST-MODIFIED:20211010T214850Z
UID:8611-1635188400-1635195600@staging.bethormiami.com
SUMMARY:PACT Zoom Annual Meeting
DESCRIPTION:Beth Or PACT Network members are invited to attend this zoom event where we decide the next new focus topic for this year. Network members will receive specific details for this important event.  Meeting will be held from 7 PM – 9 PM.  Let Justice Roll!!
URL:https://staging.bethormiami.com/event/pact-zoom-annual-meeting/
LOCATION:Beth Or\, 11715 SW 87th Ave\, Miami\, FL 33176\, USA\, 8901 SW 87th Ct\, United States
CATEGORIES:Community,Special Invitational Event
ATTACH;FMTTYPE=image/jpeg:https://staging.bethormiami.com/wp-content/uploads/2021/02/images-9.jpg
END:VEVENT
BEGIN:VEVENT
DTSTART;VALUE=DATE:20211023
DTEND;VALUE=DATE:20211024
DTSTAMP:20260425T065544
CREATED:20210712T161640Z
LAST-MODIFIED:20210712T163347Z
UID:8205-1634947200-1635033599@staging.bethormiami.com
SUMMARY:Be Mitzvah Graduation Ceremony October 23\, 2021
DESCRIPTION:Details To Follow
URL:https://staging.bethormiami.com/event/be-mitzvah-graduation-ceremony-october-23-2021/
LOCATION:Beth Or\, 11715 SW 87th Ave\, Miami\, FL 33176\, USA\, 8901 SW 87th Ct\, United States
END:VEVENT
BEGIN:VEVENT
DTSTART;TZID=America/New_York:20211022T120000
DTEND;TZID=America/New_York:20211022T130000
DTSTAMP:20260425T065544
CREATED:20210505T152051Z
LAST-MODIFIED:20210712T163115Z
UID:8226-1634904000-1634907600@staging.bethormiami.com
SUMMARY:Live\, Love\, Laugh with Nancy Kirsner
DESCRIPTION:April 30 @ 12:00 pm – 1:00 pm \nLive\, Love\, Laugh with Nancy Kirsner\n\nSpend time with Nancy and friends to talk about ways to improve your day. If you are interested in participating in this […]
URL:https://staging.bethormiami.com/event/live-love-laugh-with-nancy-kirsner-2-2021-10-22/
LOCATION:Beth Or\, 11715 SW 87th Ave\, Miami\, FL 33176\, USA\, 8901 SW 87th Ct\, United States
END:VEVENT
BEGIN:VEVENT
DTSTART;TZID=America/New_York:20211019T123000
DTEND;TZID=America/New_York:20211019T133000
DTSTAMP:20260425T065544
CREATED:20210505T143720Z
LAST-MODIFIED:20210914T151134Z
UID:8479-1634646600-1634650200@staging.bethormiami.com
SUMMARY:TUESDAYS WITH NANCY during the Month of Elul
DESCRIPTION:Join Nancy Kirsner as she leads her weekly Tuesday discussion group. \nIf you are interested in participating in this event\, please email the Temple office at bethortemple@aol.com to receive the zoom link. You will need to send your email at least 2 days ahead of the event. \n 
URL:https://staging.bethormiami.com/event/tuesdays-group-with-nancy-3-2021-10-19/
LOCATION:Zoom
END:VEVENT
BEGIN:VEVENT
DTSTART;TZID=America/New_York:20211015T120000
DTEND;TZID=America/New_York:20211015T130000
DTSTAMP:20260425T065544
CREATED:20210505T152051Z
LAST-MODIFIED:20210712T163114Z
UID:8225-1634299200-1634302800@staging.bethormiami.com
SUMMARY:Live\, Love\, Laugh with Nancy Kirsner
DESCRIPTION:April 30 @ 12:00 pm – 1:00 pm \nLive\, Love\, Laugh with Nancy Kirsner\n\nSpend time with Nancy and friends to talk about ways to improve your day. If you are interested in participating in this […]
URL:https://staging.bethormiami.com/event/live-love-laugh-with-nancy-kirsner-2-2021-10-15/
LOCATION:Beth Or\, 11715 SW 87th Ave\, Miami\, FL 33176\, USA\, 8901 SW 87th Ct\, United States
END:VEVENT
END:VCALENDAR