BEGIN:VCALENDAR
VERSION:2.0
PRODID:-//Beth Or Miami - ECPv6.3.2//NONSGML v1.0//EN
CALSCALE:GREGORIAN
METHOD:PUBLISH
X-WR-CALNAME:Beth Or Miami
X-ORIGINAL-URL:https://staging.bethormiami.com
X-WR-CALDESC:Events for Beth Or Miami
REFRESH-INTERVAL;VALUE=DURATION:PT1H
X-Robots-Tag:noindex
X-PUBLISHED-TTL:PT1H
BEGIN:VTIMEZONE
TZID:America/New_York
BEGIN:DAYLIGHT
TZOFFSETFROM:-0500
TZOFFSETTO:-0400
TZNAME:EDT
DTSTART:20220313T070000
END:DAYLIGHT
BEGIN:STANDARD
TZOFFSETFROM:-0400
TZOFFSETTO:-0500
TZNAME:EST
DTSTART:20221106T060000
END:STANDARD
END:VTIMEZONE
BEGIN:VEVENT
DTSTART;TZID=America/New_York:20220427T190000
DTEND;TZID=America/New_York:20220427T210000
DTSTAMP:20260425T083158
CREATED:20220419T174108Z
LAST-MODIFIED:20220419T174108Z
UID:8899-1651086000-1651093200@staging.bethormiami.com
SUMMARY:Beth Or Board Meeting
DESCRIPTION:Join Zoom Meetinghttps://us02web.zoom.us/j/85002667378
URL:https://staging.bethormiami.com/event/beth-or-board-meeting/
LOCATION:Beth Or\, 11715 SW 87th Ave\, Miami\, FL 33176\, USA\, 8901 SW 87th Ct\, United States
CATEGORIES:Community
ATTACH;FMTTYPE=image/jpeg:https://staging.bethormiami.com/wp-content/uploads/2022/04/101575.jpg
END:VEVENT
BEGIN:VEVENT
DTSTART;TZID=America/New_York:20220426T123000
DTEND;TZID=America/New_York:20220426T133000
DTSTAMP:20260425T083158
CREATED:20220308T172253Z
LAST-MODIFIED:20220413T162224Z
UID:8669-1650976200-1650979800@staging.bethormiami.com
SUMMARY:Tuesdays with Nancy
DESCRIPTION:Every Tuesday at 12:30 PM Nancy hosts a discussion group \n  \nhttps://us02web.zoom.us/meeting/register/tZ0tcuuhrDgsH9TLytD8ihX84hp9grRYe_ix \n 
URL:https://staging.bethormiami.com/event/tuesdays-with-nancy-2-2022-04-26/
LOCATION:Beth Or\, 11715 SW 87th Ave\, Miami\, FL 33176\, USA\, 8901 SW 87th Ct\, United States
ATTACH;FMTTYPE=image/jpeg:https://staging.bethormiami.com/wp-content/uploads/2020/07/join-bethor-min.jpg
END:VEVENT
BEGIN:VEVENT
DTSTART;TZID=America/New_York:20220423T080000
DTEND;TZID=America/New_York:20220425T170000
DTSTAMP:20260425T083158
CREATED:20220323T155029Z
LAST-MODIFIED:20220323T155029Z
UID:8772-1650700800-1650906000@staging.bethormiami.com
SUMMARY:Orchid Sale is about to end
DESCRIPTION:Orders must be received by April 25. To order click: \n\nGive
URL:https://staging.bethormiami.com/event/orchid-sale-is-about-to-end/
LOCATION:Beth Or\, 11715 SW 87th Ave\, Miami\, FL 33176\, USA\, 8901 SW 87th Ct\, United States
ATTACH;FMTTYPE=image/png:https://staging.bethormiami.com/wp-content/uploads/2022/03/Mothers-day-pict.png
END:VEVENT
BEGIN:VEVENT
DTSTART;VALUE=DATE:20220423
DTEND;VALUE=DATE:20220424
DTSTAMP:20260425T083158
CREATED:20220315T154152Z
LAST-MODIFIED:20220315T154501Z
UID:8725-1650672000-1650758399@staging.bethormiami.com
SUMMARY:Passover
DESCRIPTION:
URL:https://staging.bethormiami.com/event/passover-begins-2022-04-23/
LOCATION:Beth Or\, 11715 SW 87th Ave\, Miami\, FL 33176\, USA\, 8901 SW 87th Ct\, United States
CATEGORIES:Community,Holidays
ATTACH;FMTTYPE=image/jpeg:https://staging.bethormiami.com/wp-content/uploads/2022/03/Passover.jpg
END:VEVENT
BEGIN:VEVENT
DTSTART;TZID=America/New_York:20220422T183000
DTEND;TZID=America/New_York:20220422T200000
DTSTAMP:20260425T083158
CREATED:20220308T174106Z
LAST-MODIFIED:20220308T174106Z
UID:8901-1650652200-1650657600@staging.bethormiami.com
SUMMARY:Weekly Shabbat Services
DESCRIPTION:Join Rabbi Robyn Fisher for Services beginning at 7:30 PM \nRegister in advance for this meeting:\nhttps://us02web.zoom.us/meeting/register/tZIodOGuqDooHdekpX3wyWYKjD0KJKdHH97O
URL:https://staging.bethormiami.com/event/weekly-shabbat-services-2022-04-22/
LOCATION:Beth Or\, 11715 SW 87th Ave\, Miami\, FL 33176\, USA\, 8901 SW 87th Ct\, United States
ATTACH;FMTTYPE=image/jpeg:https://staging.bethormiami.com/wp-content/uploads/2020/06/IMG_2092.jpg
END:VEVENT
BEGIN:VEVENT
DTSTART;TZID=America/New_York:20220422T120000
DTEND;TZID=America/New_York:20220422T130000
DTSTAMP:20260425T083158
CREATED:20220308T172746Z
LAST-MODIFIED:20220413T165134Z
UID:8682-1650628800-1650632400@staging.bethormiami.com
SUMMARY:Live\, Love\, Laugh With Nancy
DESCRIPTION:Nancy brings folks together for a feel good hour every Friday. \nhttps://us02web.zoom.us/j/459350347?pwd=eDA4eS9vUk42NjhJUFBaa2xxakR4Zz09#success \n 
URL:https://staging.bethormiami.com/event/live-love-laugh-with-nancy-2-2022-04-22/
LOCATION:Beth Or\, 11715 SW 87th Ave\, Miami\, FL 33176\, USA\, 8901 SW 87th Ct\, United States
CATEGORIES:Community
ATTACH;FMTTYPE=image/jpeg:https://staging.bethormiami.com/wp-content/uploads/2022/03/images.jpg
END:VEVENT
BEGIN:VEVENT
DTSTART;VALUE=DATE:20220422
DTEND;VALUE=DATE:20220423
DTSTAMP:20260425T083158
CREATED:20220315T154152Z
LAST-MODIFIED:20220315T154500Z
UID:8724-1650585600-1650671999@staging.bethormiami.com
SUMMARY:Passover
DESCRIPTION:
URL:https://staging.bethormiami.com/event/passover-begins-2022-04-22/
LOCATION:Beth Or\, 11715 SW 87th Ave\, Miami\, FL 33176\, USA\, 8901 SW 87th Ct\, United States
CATEGORIES:Community,Holidays
ATTACH;FMTTYPE=image/jpeg:https://staging.bethormiami.com/wp-content/uploads/2022/03/Passover.jpg
END:VEVENT
BEGIN:VEVENT
DTSTART;TZID=America/New_York:20220421T193000
DTEND;TZID=America/New_York:20220421T210000
DTSTAMP:20260425T083158
CREATED:20220315T153215Z
LAST-MODIFIED:20220315T153215Z
UID:8713-1650569400-1650574800@staging.bethormiami.com
SUMMARY:Morality Discussion with Shep & Pat
DESCRIPTION:Let’s join to discuss another interesting topic.
URL:https://staging.bethormiami.com/event/morality-discussion-with-shep-pat/
LOCATION:Beth Or\, 11715 SW 87th Ave\, Miami\, FL 33176\, USA\, 8901 SW 87th Ct\, United States
CATEGORIES:Community
ATTACH;FMTTYPE=image/jpeg:https://staging.bethormiami.com/wp-content/uploads/2020/05/unnamed-1.jpg
END:VEVENT
BEGIN:VEVENT
DTSTART;VALUE=DATE:20220421
DTEND;VALUE=DATE:20220422
DTSTAMP:20260425T083158
CREATED:20220315T154152Z
LAST-MODIFIED:20220315T154500Z
UID:8723-1650499200-1650585599@staging.bethormiami.com
SUMMARY:Passover
DESCRIPTION:
URL:https://staging.bethormiami.com/event/passover-begins-2022-04-21/
LOCATION:Beth Or\, 11715 SW 87th Ave\, Miami\, FL 33176\, USA\, 8901 SW 87th Ct\, United States
CATEGORIES:Community,Holidays
ATTACH;FMTTYPE=image/jpeg:https://staging.bethormiami.com/wp-content/uploads/2022/03/Passover.jpg
END:VEVENT
BEGIN:VEVENT
DTSTART;VALUE=DATE:20220420
DTEND;VALUE=DATE:20220421
DTSTAMP:20260425T083158
CREATED:20220315T154152Z
LAST-MODIFIED:20220315T154500Z
UID:8722-1650412800-1650499199@staging.bethormiami.com
SUMMARY:Passover
DESCRIPTION:
URL:https://staging.bethormiami.com/event/passover-begins-2022-04-20/
LOCATION:Beth Or\, 11715 SW 87th Ave\, Miami\, FL 33176\, USA\, 8901 SW 87th Ct\, United States
CATEGORIES:Community,Holidays
ATTACH;FMTTYPE=image/jpeg:https://staging.bethormiami.com/wp-content/uploads/2022/03/Passover.jpg
END:VEVENT
BEGIN:VEVENT
DTSTART;TZID=America/New_York:20220419T123000
DTEND;TZID=America/New_York:20220419T133000
DTSTAMP:20260425T083158
CREATED:20220308T172253Z
LAST-MODIFIED:20220413T162224Z
UID:8668-1650371400-1650375000@staging.bethormiami.com
SUMMARY:Tuesdays with Nancy
DESCRIPTION:Every Tuesday at 12:30 PM Nancy hosts a discussion group \n  \nhttps://us02web.zoom.us/meeting/register/tZ0tcuuhrDgsH9TLytD8ihX84hp9grRYe_ix \n 
URL:https://staging.bethormiami.com/event/tuesdays-with-nancy-2-2022-04-19/
LOCATION:Beth Or\, 11715 SW 87th Ave\, Miami\, FL 33176\, USA\, 8901 SW 87th Ct\, United States
ATTACH;FMTTYPE=image/jpeg:https://staging.bethormiami.com/wp-content/uploads/2020/07/join-bethor-min.jpg
END:VEVENT
BEGIN:VEVENT
DTSTART;VALUE=DATE:20220419
DTEND;VALUE=DATE:20220420
DTSTAMP:20260425T083158
CREATED:20220315T154152Z
LAST-MODIFIED:20220315T154500Z
UID:8721-1650326400-1650412799@staging.bethormiami.com
SUMMARY:Passover
DESCRIPTION:
URL:https://staging.bethormiami.com/event/passover-begins-2022-04-19/
LOCATION:Beth Or\, 11715 SW 87th Ave\, Miami\, FL 33176\, USA\, 8901 SW 87th Ct\, United States
CATEGORIES:Community,Holidays
ATTACH;FMTTYPE=image/jpeg:https://staging.bethormiami.com/wp-content/uploads/2022/03/Passover.jpg
END:VEVENT
BEGIN:VEVENT
DTSTART;VALUE=DATE:20220418
DTEND;VALUE=DATE:20220419
DTSTAMP:20260425T083158
CREATED:20220315T154152Z
LAST-MODIFIED:20220315T154459Z
UID:8720-1650240000-1650326399@staging.bethormiami.com
SUMMARY:Passover
DESCRIPTION:
URL:https://staging.bethormiami.com/event/passover-begins-2022-04-18/
LOCATION:Beth Or\, 11715 SW 87th Ave\, Miami\, FL 33176\, USA\, 8901 SW 87th Ct\, United States
CATEGORIES:Community,Holidays
ATTACH;FMTTYPE=image/jpeg:https://staging.bethormiami.com/wp-content/uploads/2022/03/Passover.jpg
END:VEVENT
BEGIN:VEVENT
DTSTART;VALUE=DATE:20220417
DTEND;VALUE=DATE:20220418
DTSTAMP:20260425T083158
CREATED:20220315T154152Z
LAST-MODIFIED:20220315T154459Z
UID:8719-1650153600-1650239999@staging.bethormiami.com
SUMMARY:Passover
DESCRIPTION:
URL:https://staging.bethormiami.com/event/passover-begins-2022-04-17/
LOCATION:Beth Or\, 11715 SW 87th Ave\, Miami\, FL 33176\, USA\, 8901 SW 87th Ct\, United States
CATEGORIES:Community,Holidays
ATTACH;FMTTYPE=image/jpeg:https://staging.bethormiami.com/wp-content/uploads/2022/03/Passover.jpg
END:VEVENT
BEGIN:VEVENT
DTSTART;VALUE=DATE:20220416
DTEND;VALUE=DATE:20220417
DTSTAMP:20260425T083159
CREATED:20220315T154152Z
LAST-MODIFIED:20220315T154459Z
UID:8718-1650067200-1650153599@staging.bethormiami.com
SUMMARY:Passover
DESCRIPTION:
URL:https://staging.bethormiami.com/event/passover-begins-2022-04-16/
LOCATION:Beth Or\, 11715 SW 87th Ave\, Miami\, FL 33176\, USA\, 8901 SW 87th Ct\, United States
CATEGORIES:Community,Holidays
ATTACH;FMTTYPE=image/jpeg:https://staging.bethormiami.com/wp-content/uploads/2022/03/Passover.jpg
END:VEVENT
BEGIN:VEVENT
DTSTART;TZID=America/New_York:20220415T180000
DTEND;TZID=America/New_York:20220415T190000
DTSTAMP:20260425T083159
CREATED:20220406T164404Z
LAST-MODIFIED:20220406T164404Z
UID:8819-1650045600-1650049200@staging.bethormiami.com
SUMMARY:Shabbat Passover Seder
DESCRIPTION:Join Rabbi Robyn for a fun and lively virtual Shabbat Seder.
URL:https://staging.bethormiami.com/event/shabbat-passover-seder/
LOCATION:Beth Or\, 11715 SW 87th Ave\, Miami\, FL 33176\, USA\, 8901 SW 87th Ct\, United States
CATEGORIES:Community,Holidays
ATTACH;FMTTYPE=image/jpeg:https://staging.bethormiami.com/wp-content/uploads/2022/04/Passover-final-scaled.jpg
END:VEVENT
BEGIN:VEVENT
DTSTART;TZID=America/New_York:20220415T120000
DTEND;TZID=America/New_York:20220415T130000
DTSTAMP:20260425T083159
CREATED:20220308T172746Z
LAST-MODIFIED:20220413T165133Z
UID:8681-1650024000-1650027600@staging.bethormiami.com
SUMMARY:Live\, Love\, Laugh With Nancy
DESCRIPTION:Nancy brings folks together for a feel good hour every Friday. \nhttps://us02web.zoom.us/j/459350347?pwd=eDA4eS9vUk42NjhJUFBaa2xxakR4Zz09#success \n 
URL:https://staging.bethormiami.com/event/live-love-laugh-with-nancy-2-2022-04-15/
LOCATION:Beth Or\, 11715 SW 87th Ave\, Miami\, FL 33176\, USA\, 8901 SW 87th Ct\, United States
CATEGORIES:Community
ATTACH;FMTTYPE=image/jpeg:https://staging.bethormiami.com/wp-content/uploads/2022/03/images.jpg
END:VEVENT
BEGIN:VEVENT
DTSTART;VALUE=DATE:20220415
DTEND;VALUE=DATE:20220416
DTSTAMP:20260425T083159
CREATED:20220315T154152Z
LAST-MODIFIED:20220315T154459Z
UID:8715-1649980800-1650067199@staging.bethormiami.com
SUMMARY:Passover
DESCRIPTION:
URL:https://staging.bethormiami.com/event/passover-begins/
LOCATION:Beth Or\, 11715 SW 87th Ave\, Miami\, FL 33176\, USA\, 8901 SW 87th Ct\, United States
CATEGORIES:Community,Holidays
ATTACH;FMTTYPE=image/jpeg:https://staging.bethormiami.com/wp-content/uploads/2022/03/Passover.jpg
END:VEVENT
BEGIN:VEVENT
DTSTART;TZID=America/New_York:20220412T123000
DTEND;TZID=America/New_York:20220412T133000
DTSTAMP:20260425T083159
CREATED:20220308T172253Z
LAST-MODIFIED:20220413T162224Z
UID:8667-1649766600-1649770200@staging.bethormiami.com
SUMMARY:Tuesdays with Nancy
DESCRIPTION:Every Tuesday at 12:30 PM Nancy hosts a discussion group \n  \nhttps://us02web.zoom.us/meeting/register/tZ0tcuuhrDgsH9TLytD8ihX84hp9grRYe_ix \n 
URL:https://staging.bethormiami.com/event/tuesdays-with-nancy-2-2022-04-12/
LOCATION:Beth Or\, 11715 SW 87th Ave\, Miami\, FL 33176\, USA\, 8901 SW 87th Ct\, United States
ATTACH;FMTTYPE=image/jpeg:https://staging.bethormiami.com/wp-content/uploads/2020/07/join-bethor-min.jpg
END:VEVENT
BEGIN:VEVENT
DTSTART;TZID=America/New_York:20220408T193000
DTEND;TZID=America/New_York:20220408T210000
DTSTAMP:20260425T083159
CREATED:20220309T015352Z
LAST-MODIFIED:20220309T015352Z
UID:8700-1649446200-1649451600@staging.bethormiami.com
SUMMARY:Shabbat Services with Jeff Tucker
DESCRIPTION:Join Jeff Tucker for this week’s Shabbat Service. Register to attend with this link: \nhttps://us02web.zoom.us/meeting/register/tZIodOGuqDooHdekpX3wyWYKjD0KJKdHH97O \n 
URL:https://staging.bethormiami.com/event/shabbat-services-with-jeff-tucker/
LOCATION:Beth Or\, 11715 SW 87th Ave\, Miami\, FL 33176\, USA\, 8901 SW 87th Ct\, United States
CATEGORIES:Community
ATTACH;FMTTYPE=image/png:https://staging.bethormiami.com/wp-content/uploads/2020/12/Shabbat.png
END:VEVENT
BEGIN:VEVENT
DTSTART;TZID=America/New_York:20220408T120000
DTEND;TZID=America/New_York:20220408T130000
DTSTAMP:20260425T083159
CREATED:20220308T172746Z
LAST-MODIFIED:20220413T165133Z
UID:8680-1649419200-1649422800@staging.bethormiami.com
SUMMARY:Live\, Love\, Laugh With Nancy
DESCRIPTION:Nancy brings folks together for a feel good hour every Friday. \nhttps://us02web.zoom.us/j/459350347?pwd=eDA4eS9vUk42NjhJUFBaa2xxakR4Zz09#success \n 
URL:https://staging.bethormiami.com/event/live-love-laugh-with-nancy-2-2022-04-08/
LOCATION:Beth Or\, 11715 SW 87th Ave\, Miami\, FL 33176\, USA\, 8901 SW 87th Ct\, United States
CATEGORIES:Community
ATTACH;FMTTYPE=image/jpeg:https://staging.bethormiami.com/wp-content/uploads/2022/03/images.jpg
END:VEVENT
BEGIN:VEVENT
DTSTART;TZID=America/New_York:20220407T193000
DTEND;TZID=America/New_York:20220407T210000
DTSTAMP:20260425T083159
CREATED:20220315T151922Z
LAST-MODIFIED:20220315T151922Z
UID:8712-1649359800-1649365200@staging.bethormiami.com
SUMMARY:Morality Discussion with Shep and Pat
DESCRIPTION:Join Shep and Pat for another bi-weekly stimulating discussion.
URL:https://staging.bethormiami.com/event/morality-discussion-with-shep-and-pat-2-2022-04-07/
LOCATION:Beth Or\, 11715 SW 87th Ave\, Miami\, FL 33176\, USA\, 8901 SW 87th Ct\, United States
CATEGORIES:Community
ATTACH;FMTTYPE=image/jpeg:https://staging.bethormiami.com/wp-content/uploads/2020/08/Psychological-help.jpeg
END:VEVENT
BEGIN:VEVENT
DTSTART;TZID=America/New_York:20220405T123000
DTEND;TZID=America/New_York:20220405T133000
DTSTAMP:20260425T083159
CREATED:20220308T172253Z
LAST-MODIFIED:20220413T162223Z
UID:8666-1649161800-1649165400@staging.bethormiami.com
SUMMARY:Tuesdays with Nancy
DESCRIPTION:Every Tuesday at 12:30 PM Nancy hosts a discussion group \n  \nhttps://us02web.zoom.us/meeting/register/tZ0tcuuhrDgsH9TLytD8ihX84hp9grRYe_ix \n 
URL:https://staging.bethormiami.com/event/tuesdays-with-nancy-2-2022-04-05/
LOCATION:Beth Or\, 11715 SW 87th Ave\, Miami\, FL 33176\, USA\, 8901 SW 87th Ct\, United States
ATTACH;FMTTYPE=image/jpeg:https://staging.bethormiami.com/wp-content/uploads/2020/07/join-bethor-min.jpg
END:VEVENT
BEGIN:VEVENT
DTSTART;TZID=America/New_York:20220404T193000
DTEND;TZID=America/New_York:20220404T203000
DTSTAMP:20260425T083159
CREATED:20220315T180838Z
LAST-MODIFIED:20220315T180838Z
UID:8737-1649100600-1649104200@staging.bethormiami.com
SUMMARY:Art Open Studio
DESCRIPTION:The Gallery of Light invites you to join to Art Open Studio
URL:https://staging.bethormiami.com/event/art-open-studio/
LOCATION:Beth Or\, 11715 SW 87th Ave\, Miami\, FL 33176\, USA\, 8901 SW 87th Ct\, United States
CATEGORIES:Community
ATTACH;FMTTYPE=image/jpeg:https://staging.bethormiami.com/wp-content/uploads/2022/03/art.jpg
END:VEVENT
BEGIN:VEVENT
DTSTART;TZID=America/New_York:20220403T180000
DTEND;TZID=America/New_York:20220403T210000
DTSTAMP:20260425T083159
CREATED:20220308T173427Z
LAST-MODIFIED:20220308T173427Z
UID:8690-1649008800-1649019600@staging.bethormiami.com
SUMMARY:Garden Party Celebrating Beth Or's Future
DESCRIPTION:This special dinner will begin at 6 PM on April 3.  Members have received a personal invitation for this event.
URL:https://staging.bethormiami.com/event/garden-party-celebrating-beth-ors-future/
LOCATION:Beth Or\, 11715 SW 87th Ave\, Miami\, FL 33176\, USA\, 8901 SW 87th Ct\, United States
CATEGORIES:Community,Special Invitational Event
ATTACH;FMTTYPE=image/jpeg:https://staging.bethormiami.com/wp-content/uploads/2021/08/Main-Hero-min.jpg
END:VEVENT
BEGIN:VEVENT
DTSTART;TZID=America/New_York:20220403T110000
DTEND;TZID=America/New_York:20220403T130000
DTSTAMP:20260425T083159
CREATED:20220325T174809Z
LAST-MODIFIED:20220325T174809Z
UID:8783-1648983600-1648990800@staging.bethormiami.com
SUMMARY:Kosher Food Bank Pesach Donation Event
DESCRIPTION:Come and donate Kosher Food @ Beth Or parking lot
URL:https://staging.bethormiami.com/event/kosher-food-bank-pesach-donation-event/
LOCATION:Beth Or\, 11715 SW 87th Ave\, Miami\, FL 33176\, USA\, 8901 SW 87th Ct\, United States
ATTACH;FMTTYPE=image/jpeg:https://staging.bethormiami.com/wp-content/uploads/2021/01/download-8.jpg
END:VEVENT
BEGIN:VEVENT
DTSTART;TZID=America/New_York:20220401T183000
DTEND;TZID=America/New_York:20220401T200000
DTSTAMP:20260425T083159
CREATED:20220308T174106Z
LAST-MODIFIED:20220426T141816Z
UID:8692-1648837800-1648843200@staging.bethormiami.com
SUMMARY:Weekly Shabbat Services
DESCRIPTION:Join Rabbi Robyn Fisher for Services beginning at 7:30 PM \nRegister in advance for this meeting:\nhttps://us02web.zoom.us/meeting/register/tZIodOGuqDooHdekpX3wyWYKjD0KJKdHH97O
URL:https://staging.bethormiami.com/event/weekly-shabbat-services/
LOCATION:Beth Or\, 11715 SW 87th Ave\, Miami\, FL 33176\, USA\, 8901 SW 87th Ct\, United States
ATTACH;FMTTYPE=image/jpeg:https://staging.bethormiami.com/wp-content/uploads/2020/06/IMG_2092.jpg
END:VEVENT
BEGIN:VEVENT
DTSTART;TZID=America/New_York:20220401T120000
DTEND;TZID=America/New_York:20220401T130000
DTSTAMP:20260425T083159
CREATED:20220308T172746Z
LAST-MODIFIED:20220413T165133Z
UID:8679-1648814400-1648818000@staging.bethormiami.com
SUMMARY:Live\, Love\, Laugh With Nancy
DESCRIPTION:Nancy brings folks together for a feel good hour every Friday. \nhttps://us02web.zoom.us/j/459350347?pwd=eDA4eS9vUk42NjhJUFBaa2xxakR4Zz09#success \n 
URL:https://staging.bethormiami.com/event/live-love-laugh-with-nancy-2-2022-04-01/
LOCATION:Beth Or\, 11715 SW 87th Ave\, Miami\, FL 33176\, USA\, 8901 SW 87th Ct\, United States
CATEGORIES:Community
ATTACH;FMTTYPE=image/jpeg:https://staging.bethormiami.com/wp-content/uploads/2022/03/images.jpg
END:VEVENT
BEGIN:VEVENT
DTSTART;TZID=America/New_York:20220329T123000
DTEND;TZID=America/New_York:20220329T133000
DTSTAMP:20260425T083159
CREATED:20220308T172253Z
LAST-MODIFIED:20220413T162223Z
UID:8665-1648557000-1648560600@staging.bethormiami.com
SUMMARY:Tuesdays with Nancy
DESCRIPTION:Every Tuesday at 12:30 PM Nancy hosts a discussion group \n  \nhttps://us02web.zoom.us/meeting/register/tZ0tcuuhrDgsH9TLytD8ihX84hp9grRYe_ix \n 
URL:https://staging.bethormiami.com/event/tuesdays-with-nancy-2-2022-03-29/
LOCATION:Beth Or\, 11715 SW 87th Ave\, Miami\, FL 33176\, USA\, 8901 SW 87th Ct\, United States
ATTACH;FMTTYPE=image/jpeg:https://staging.bethormiami.com/wp-content/uploads/2020/07/join-bethor-min.jpg
END:VEVENT
BEGIN:VEVENT
DTSTART;TZID=America/New_York:20220328T183000
DTEND;TZID=America/New_York:20220328T210000
DTSTAMP:20260425T083159
CREATED:20220308T173046Z
LAST-MODIFIED:20220308T173046Z
UID:8688-1648492200-1648501200@staging.bethormiami.com
SUMMARY:PACT Nehemiah Action
DESCRIPTION:NEHEMIA PACT\nMEETING UPDATE\nNehemiah at Dezerland Drive-In March 28th\n\nMake note of the change\n\nIn order to be as safe as possible PACT’s Executive Committee has voted to move the annual Nehemiah Action to Dezerland Drive-in movie theater.\n(14401 NE 19th Ave\, North Miami\, FL 33181)\nSign in 6:30PM  Call to order 7:30PM \n\nThis provides PACT member organizations the opportunity to still gather together but do so in a safe manner.\n\nBeth Or is recommending that folks safely group themselves in cars to drive to the event.\n\nFor those who are immunocompromised or have Covid-19\, there will be an application to receive a zoom link. We are asking everyone else to attend the Action in person to effectively demonstrate our power.
URL:https://staging.bethormiami.com/event/pact-nehemiah-action-2/
LOCATION:Beth Or\, 11715 SW 87th Ave\, Miami\, FL 33176\, USA\, 8901 SW 87th Ct\, United States
CATEGORIES:Community
ATTACH;FMTTYPE=image/jpeg:https://staging.bethormiami.com/wp-content/uploads/2021/02/images-9.jpg
END:VEVENT
END:VCALENDAR