BEGIN:VCALENDAR
VERSION:2.0
PRODID:-//Beth Or Miami - ECPv6.3.2//NONSGML v1.0//EN
CALSCALE:GREGORIAN
METHOD:PUBLISH
X-WR-CALNAME:Beth Or Miami
X-ORIGINAL-URL:https://staging.bethormiami.com
X-WR-CALDESC:Events for Beth Or Miami
REFRESH-INTERVAL;VALUE=DURATION:PT1H
X-Robots-Tag:noindex
X-PUBLISHED-TTL:PT1H
BEGIN:VTIMEZONE
TZID:America/New_York
BEGIN:DAYLIGHT
TZOFFSETFROM:-0500
TZOFFSETTO:-0400
TZNAME:EDT
DTSTART:20220313T070000
END:DAYLIGHT
BEGIN:STANDARD
TZOFFSETFROM:-0400
TZOFFSETTO:-0500
TZNAME:EST
DTSTART:20221106T060000
END:STANDARD
END:VTIMEZONE
BEGIN:VEVENT
DTSTART;TZID=America/New_York:20220926T170000
DTEND;TZID=America/New_York:20220926T170000
DTSTAMP:20260423T194656
CREATED:20220810T171630Z
LAST-MODIFIED:20220810T171630Z
UID:9194-1664211600-1664211600@staging.bethormiami.com
SUMMARY:Taslich at Coral Reef Park
DESCRIPTION:
URL:https://staging.bethormiami.com/event/taslich-at-coral-reef-park/
LOCATION:Beth Or\, 11715 SW 87th Ave\, Miami\, FL 33176\, USA\, 8901 SW 87th Ct\, United States
CATEGORIES:Community
END:VEVENT
BEGIN:VEVENT
DTSTART;TZID=America/New_York:20220926T100000
DTEND;TZID=America/New_York:20220926T100000
DTSTAMP:20260423T194656
CREATED:20220607T174039Z
LAST-MODIFIED:20220811T154035Z
UID:8982-1664186400-1664186400@staging.bethormiami.com
SUMMARY:Rosh Hashanah Service with Lunch & Learn
DESCRIPTION:https://us02web.zoom.us/meeting/register/tZIodOGuqDooHdekpX3wyWYKjD0KJKdHH97O
URL:https://staging.bethormiami.com/event/rosh-hashanah-2/
LOCATION:Beth Or\, 11715 SW 87th Ave\, Miami\, FL 33176\, USA\, 8901 SW 87th Ct\, United States
CATEGORIES:Community,Holidays
ATTACH;FMTTYPE=image/jpeg:https://staging.bethormiami.com/wp-content/uploads/2022/06/Rosh-Hashanah.jpg
END:VEVENT
BEGIN:VEVENT
DTSTART;TZID=America/New_York:20220925T180000
DTEND;TZID=America/New_York:20220925T180000
DTSTAMP:20260423T194656
CREATED:20220805T163756Z
LAST-MODIFIED:20220817T150034Z
UID:9141-1664128800-1664128800@staging.bethormiami.com
SUMMARY:Erev Rosh Hashanah
DESCRIPTION:Brief Holiday Blessings (Virtual Only)
URL:https://staging.bethormiami.com/event/erev-rosh-hashanah-briefservice-time/
LOCATION:11715 SW 87th Ave\, Miami\, FL\, 33176\, United States
CATEGORIES:Community
ATTACH;FMTTYPE=image/jpeg:https://staging.bethormiami.com/wp-content/uploads/2022/06/Rosh-Hashanah.jpg
END:VEVENT
BEGIN:VEVENT
DTSTART;TZID=America/New_York:20220923T183000
DTEND;TZID=America/New_York:20220923T200000
DTSTAMP:20260423T194656
CREATED:20220810T161153Z
LAST-MODIFIED:20220811T163634Z
UID:9163-1663957800-1663963200@staging.bethormiami.com
SUMMARY:Shabbat Service with Ellen Siegel
DESCRIPTION:https://us02web.zoom.us/meeting/register/tZIodOGuqDooHdekpX3wyWYKjD0KJKdHH97O
URL:https://staging.bethormiami.com/event/shabbat-service-with-rabbi-robyn-fisher-2/
LOCATION:Beth Or\, 11715 SW 87th Ave\, Miami\, FL 33176\, USA\, 8901 SW 87th Ct\, United States
CATEGORIES:Community
ATTACH;FMTTYPE=image/png:https://staging.bethormiami.com/wp-content/uploads/2020/12/Shabbat.png
END:VEVENT
BEGIN:VEVENT
DTSTART;TZID=America/New_York:20220920T170000
DTEND;TZID=America/New_York:20220920T170000
DTSTAMP:20260423T194656
CREATED:20220805T163313Z
LAST-MODIFIED:20220811T155454Z
UID:9139-1663693200-1663693200@staging.bethormiami.com
SUMMARY:Book Discussion: This is Real and You Are Completely Unprepared
DESCRIPTION:By Rabbi Alan Lew
URL:https://staging.bethormiami.com/event/rabbi-alan-lew-book-4/
LOCATION:Beth Or\, 11715 SW 87th Ave\, Miami\, FL 33176\, USA\, 8901 SW 87th Ct\, United States
CATEGORIES:Community
ATTACH;FMTTYPE=image/png:https://staging.bethormiami.com/wp-content/uploads/2022/04/331206.png
END:VEVENT
BEGIN:VEVENT
DTSTART;TZID=America/New_York:20220919T193000
DTEND;TZID=America/New_York:20220919T193000
DTSTAMP:20260423T194656
CREATED:20220815T152351Z
LAST-MODIFIED:20220815T153830Z
UID:9285-1663615800-1663615800@staging.bethormiami.com
SUMMARY:Short Story - Book Talk
DESCRIPTION:
URL:https://staging.bethormiami.com/event/short-story-book-talk/
LOCATION:Beth Or\, 11715 SW 87th Ave\, Miami\, FL 33176\, USA\, 8901 SW 87th Ct\, United States
CATEGORIES:Community
ATTACH;FMTTYPE=image/jpeg:https://staging.bethormiami.com/wp-content/uploads/2022/07/bookreview.jpg
END:VEVENT
BEGIN:VEVENT
DTSTART;TZID=America/New_York:20220918T090000
DTEND;TZID=America/New_York:20220918T170000
DTSTAMP:20260423T194656
CREATED:20220726T154603Z
LAST-MODIFIED:20220726T154603Z
UID:9061-1663491600-1663520400@staging.bethormiami.com
SUMMARY:GMJF Sponsored Milk and Honey
DESCRIPTION:Help pack and delivered holiday food boxes\nLocation: Temple Judea
URL:https://staging.bethormiami.com/event/gmjf-sponsored-milk-and-honey/
LOCATION:Beth Or\, 11715 SW 87th Ave\, Miami\, FL 33176\, USA\, 8901 SW 87th Ct\, United States
CATEGORIES:Community
ATTACH;FMTTYPE=image/png:https://staging.bethormiami.com/wp-content/uploads/2022/07/milk-and-honey.png
END:VEVENT
BEGIN:VEVENT
DTSTART;VALUE=DATE:20220917
DTEND;VALUE=DATE:20220918
DTSTAMP:20260423T194656
CREATED:20220607T173910Z
LAST-MODIFIED:20220607T173941Z
UID:8973-1663372800-1663459199@staging.bethormiami.com
SUMMARY:Selichot
DESCRIPTION:
URL:https://staging.bethormiami.com/event/selichot-4/
LOCATION:Beth Or\, 11715 SW 87th Ave\, Miami\, FL 33176\, USA\, 8901 SW 87th Ct\, United States
CATEGORIES:Community,Holidays
ATTACH;FMTTYPE=image/png:https://staging.bethormiami.com/wp-content/uploads/2022/06/Selichot.png
END:VEVENT
BEGIN:VEVENT
DTSTART;TZID=America/New_York:20220916T183000
DTEND;TZID=America/New_York:20220916T200000
DTSTAMP:20260423T194656
CREATED:20220810T161011Z
LAST-MODIFIED:20220817T145811Z
UID:9161-1663353000-1663358400@staging.bethormiami.com
SUMMARY:Shabbat/Selichot Service with Rabbi Robyn Fisher
DESCRIPTION:https://us02web.zoom.us/meeting/register/tZIodOGuqDooHdekpX3wyWYKjD0KJKdHH97O
URL:https://staging.bethormiami.com/event/shabbat-service-with-ellen-siegel/
LOCATION:Beth Or\, 11715 SW 87th Ave\, Miami\, FL 33176\, USA\, 8901 SW 87th Ct\, United States
CATEGORIES:Community
ATTACH;FMTTYPE=image/png:https://staging.bethormiami.com/wp-content/uploads/2020/12/Shabbat.png
END:VEVENT
BEGIN:VEVENT
DTSTART;TZID=America/New_York:20220914T193000
DTEND;TZID=America/New_York:20220914T193000
DTSTAMP:20260423T194656
CREATED:20220728T160613Z
LAST-MODIFIED:20220819T144007Z
UID:9107-1663183800-1663183800@staging.bethormiami.com
SUMMARY:Beth Or PACT Listening Meeting / Virtual Meeting
DESCRIPTION:
URL:https://staging.bethormiami.com/event/beth-or-pact-listening-meeting/
LOCATION:Beth Or\, 11715 SW 87th Ave\, Miami\, FL 33176\, USA\, 8901 SW 87th Ct\, United States
CATEGORIES:Community
ATTACH;FMTTYPE=image/png:https://staging.bethormiami.com/wp-content/uploads/2022/05/pact.png
END:VEVENT
BEGIN:VEVENT
DTSTART;TZID=America/New_York:20220913T170000
DTEND;TZID=America/New_York:20220913T170000
DTSTAMP:20260423T194656
CREATED:20220804T181611Z
LAST-MODIFIED:20220815T154647Z
UID:9137-1663088400-1663088400@staging.bethormiami.com
SUMMARY:Book Discussion: This is Real and You Are Completely Unprepared
DESCRIPTION:By Rabbi Alan Lew
URL:https://staging.bethormiami.com/event/rabbi-alan-lew-book-3/
LOCATION:Beth Or\, 11715 SW 87th Ave\, Miami\, FL 33176\, USA\, 8901 SW 87th Ct\, United States
ATTACH;FMTTYPE=image/png:https://staging.bethormiami.com/wp-content/uploads/2022/04/331206.png
END:VEVENT
BEGIN:VEVENT
DTSTART;TZID=America/New_York:20220911T130000
DTEND;TZID=America/New_York:20220911T150000
DTSTAMP:20260423T194656
CREATED:20220726T160905Z
LAST-MODIFIED:20220811T151316Z
UID:9069-1662901200-1662908400@staging.bethormiami.com
SUMMARY:Red Tent Book Club Meeting
DESCRIPTION:The club will review:\nFlorence Adler Swims Forever by Rachel Beanland
URL:https://staging.bethormiami.com/event/red-tent-book-club-meeting/
LOCATION:Beth Or\, 11715 SW 87th Ave\, Miami\, FL 33176\, USA\, 8901 SW 87th Ct\, United States
CATEGORIES:Community
ATTACH;FMTTYPE=image/jpeg:https://staging.bethormiami.com/wp-content/uploads/2022/07/bookreview.jpg
END:VEVENT
BEGIN:VEVENT
DTSTART;TZID=America/New_York:20220909T183000
DTEND;TZID=America/New_York:20220909T200000
DTSTAMP:20260423T194656
CREATED:20220810T160859Z
LAST-MODIFIED:20220810T160859Z
UID:9159-1662748200-1662753600@staging.bethormiami.com
SUMMARY:Shabbat Service with Rabbi Robyn Fisher
DESCRIPTION:https://us02web.zoom.us/meeting/register/tZIodOGuqDooHdekpX3wyWYKjD0KJKdHH97O
URL:https://staging.bethormiami.com/event/shabbat-service-with-rabbi-robyn-fisher/
LOCATION:Beth Or\, 11715 SW 87th Ave\, Miami\, FL 33176\, USA\, 8901 SW 87th Ct\, United States
CATEGORIES:Community
ATTACH;FMTTYPE=image/png:https://staging.bethormiami.com/wp-content/uploads/2020/12/Shabbat.png
END:VEVENT
BEGIN:VEVENT
DTSTART;TZID=America/New_York:20220906T193000
DTEND;TZID=America/New_York:20220906T193000
DTSTAMP:20260423T194656
CREATED:20220821T161658Z
LAST-MODIFIED:20220821T161658Z
UID:9318-1662492600-1662492600@staging.bethormiami.com
SUMMARY:Gallery Of Light - Art Talk (Virtual) High Holiday Connections
DESCRIPTION:
URL:https://staging.bethormiami.com/event/gallery-of-light-art-talk-virtual-high-holiday-connections/
LOCATION:Beth Or\, 11715 SW 87th Ave\, Miami\, FL 33176\, USA\, 8901 SW 87th Ct\, United States
CATEGORIES:Community
ATTACH;FMTTYPE=image/jpeg:https://staging.bethormiami.com/wp-content/uploads/2022/08/CONNECTIONS-VIRTUAL.jpg
END:VEVENT
BEGIN:VEVENT
DTSTART;TZID=America/New_York:20220906T170000
DTEND;TZID=America/New_York:20220906T170000
DTSTAMP:20260423T194656
CREATED:20220804T180751Z
LAST-MODIFIED:20220815T154512Z
UID:9133-1662483600-1662483600@staging.bethormiami.com
SUMMARY:Book Discussion: This is Real and You Are Completely Unprepared
DESCRIPTION:By Rabbi Alan Lew
URL:https://staging.bethormiami.com/event/rabbi-alan-lew-book-2/
LOCATION:Beth Or\, 11715 SW 87th Ave\, Miami\, FL 33176\, USA\, 8901 SW 87th Ct\, United States
CATEGORIES:Community
ATTACH;FMTTYPE=image/png:https://staging.bethormiami.com/wp-content/uploads/2022/04/331206.png
END:VEVENT
BEGIN:VEVENT
DTSTART;TZID=America/New_York:20220905T193000
DTEND;TZID=America/New_York:20220905T203000
DTSTAMP:20260423T194656
CREATED:20220829T164824Z
LAST-MODIFIED:20220829T165749Z
UID:9372-1662406200-1662409800@staging.bethormiami.com
SUMMARY:Gallery of Light Open Studio Night
DESCRIPTION:
URL:https://staging.bethormiami.com/event/open-studio/
LOCATION:Beth Or\, 11715 SW 87th Ave\, Miami\, FL 33176\, USA\, 8901 SW 87th Ct\, United States
CATEGORIES:Community
ATTACH;FMTTYPE=image/png:https://staging.bethormiami.com/wp-content/uploads/2022/08/Gallery-of-Light.png
END:VEVENT
BEGIN:VEVENT
DTSTART;VALUE=DATE:20220905
DTEND;VALUE=DATE:20220906
DTSTAMP:20260423T194656
CREATED:20220804T180505Z
LAST-MODIFIED:20220804T180505Z
UID:9131-1662336000-1662422399@staging.bethormiami.com
SUMMARY:Labor Day
DESCRIPTION:
URL:https://staging.bethormiami.com/event/labor-day/
LOCATION:Beth Or\, 11715 SW 87th Ave\, Miami\, FL 33176\, USA\, 8901 SW 87th Ct\, United States
CATEGORIES:Community
END:VEVENT
BEGIN:VEVENT
DTSTART;TZID=America/New_York:20220902T183000
DTEND;TZID=America/New_York:20220902T200000
DTSTAMP:20260423T194656
CREATED:20220810T160720Z
LAST-MODIFIED:20220810T160720Z
UID:9157-1662143400-1662148800@staging.bethormiami.com
SUMMARY:Shabbat Services with Bette & Rose Spector
DESCRIPTION:https://us02web.zoom.us/meeting/register/tZIodOGuqDooHdekpX3wyWYKjD0KJKdHH97O
URL:https://staging.bethormiami.com/event/shabbat-services-with-bette-rose-spector/
LOCATION:Beth Or\, 11715 SW 87th Ave\, Miami\, FL 33176\, USA\, 8901 SW 87th Ct\, United States
CATEGORIES:Community
ATTACH;FMTTYPE=image/png:https://staging.bethormiami.com/wp-content/uploads/2020/12/Shabbat.png
END:VEVENT
BEGIN:VEVENT
DTSTART;TZID=America/New_York:20220830T170000
DTEND;TZID=America/New_York:20220830T170000
DTSTAMP:20260423T194656
CREATED:20220804T175920Z
LAST-MODIFIED:20220815T154329Z
UID:9127-1661878800-1661878800@staging.bethormiami.com
SUMMARY:Book Discussion: This is Real and You Are Completely Unprepared
DESCRIPTION:By Rabbi Alan Lew
URL:https://staging.bethormiami.com/event/rabbi-alan-lew-book/
LOCATION:Beth Or\, 11715 SW 87th Ave\, Miami\, FL 33176\, USA\, 8901 SW 87th Ct\, United States
CATEGORIES:Community
ATTACH;FMTTYPE=image/png:https://staging.bethormiami.com/wp-content/uploads/2022/04/331206.png
END:VEVENT
BEGIN:VEVENT
DTSTART;TZID=America/New_York:20220829T190000
DTEND;TZID=America/New_York:20220829T190000
DTSTAMP:20260423T194656
CREATED:20220817T145549Z
LAST-MODIFIED:20220817T145628Z
UID:9292-1661799600-1661799600@staging.bethormiami.com
SUMMARY:PACT Training (On Zoom)
DESCRIPTION:
URL:https://staging.bethormiami.com/event/pact-training-on-zoom/
LOCATION:Beth Or\, 11715 SW 87th Ave\, Miami\, FL 33176\, USA\, 8901 SW 87th Ct\, United States
CATEGORIES:Community
ATTACH;FMTTYPE=image/png:https://staging.bethormiami.com/wp-content/uploads/2022/05/pact.png
END:VEVENT
BEGIN:VEVENT
DTSTART;TZID=America/New_York:20220826T183000
DTEND;TZID=America/New_York:20220826T200000
DTSTAMP:20260423T194656
CREATED:20220617T160756Z
LAST-MODIFIED:20220617T160756Z
UID:9029-1661538600-1661544000@staging.bethormiami.com
SUMMARY:Shabbat Services with Rabbi Robyn Fisher
DESCRIPTION:https://us02web.zoom.us/meeting/register/tZIodOGuqDooHdekpX3wyWYKjD0KJKdHH97O
URL:https://staging.bethormiami.com/event/shabbat-services-with-rabbi-robyn-fisher-6/
LOCATION:Beth Or\, 11715 SW 87th Ave\, Miami\, FL 33176\, USA\, 8901 SW 87th Ct\, United States
CATEGORIES:Community
ATTACH;FMTTYPE=image/png:https://staging.bethormiami.com/wp-content/uploads/2020/12/Shabbat.png
END:VEVENT
BEGIN:VEVENT
DTSTART;TZID=America/New_York:20220819T183000
DTEND;TZID=America/New_York:20220819T200000
DTSTAMP:20260423T194656
CREATED:20220617T160652Z
LAST-MODIFIED:20220811T162450Z
UID:9027-1660933800-1660939200@staging.bethormiami.com
SUMMARY:Shabbat Services with Jeff Tucker
DESCRIPTION:https://us02web.zoom.us/meeting/register/tZIodOGuqDooHdekpX3wyWYKjD0KJKdHH97O
URL:https://staging.bethormiami.com/event/shabbat-services-with-jeff-tucker-2/
LOCATION:Beth Or\, 11715 SW 87th Ave\, Miami\, FL 33176\, USA\, 8901 SW 87th Ct\, United States
CATEGORIES:Community
ATTACH;FMTTYPE=image/png:https://staging.bethormiami.com/wp-content/uploads/2020/12/Shabbat.png
END:VEVENT
BEGIN:VEVENT
DTSTART;TZID=America/New_York:20220815T193000
DTEND;TZID=America/New_York:20220815T203000
DTSTAMP:20260423T194656
CREATED:20220615T151736Z
LAST-MODIFIED:20220615T151736Z
UID:9008-1660591800-1660595400@staging.bethormiami.com
SUMMARY:Mindfulness Meditation at Beth Or
DESCRIPTION:Carol Kaminsky invites you to explore mindfulness meditation \nPlease let Andrea Loring know if you plan to attend any or all of Carol’s classes at andrealor@bellsouth.net
URL:https://staging.bethormiami.com/event/mindfulness-meditation-at-beth-or-4/
LOCATION:Beth Or\, 11715 SW 87th Ave\, Miami\, FL 33176\, USA\, 8901 SW 87th Ct\, United States
CATEGORIES:Community
ATTACH;FMTTYPE=image/jpeg:https://staging.bethormiami.com/wp-content/uploads/2022/06/meditation.jpg
END:VEVENT
BEGIN:VEVENT
DTSTART;TZID=America/New_York:20220814T130000
DTEND;TZID=America/New_York:20220814T150000
DTSTAMP:20260423T194656
CREATED:20220804T174838Z
LAST-MODIFIED:20220811T151227Z
UID:9124-1660482000-1660489200@staging.bethormiami.com
SUMMARY:Red Tent Book Club Meeting
DESCRIPTION:
URL:https://staging.bethormiami.com/event/red-tent-meeting/
LOCATION:Beth Or\, 11715 SW 87th Ave\, Miami\, FL 33176\, USA\, 8901 SW 87th Ct\, United States
CATEGORIES:Community
ATTACH;FMTTYPE=image/jpeg:https://staging.bethormiami.com/wp-content/uploads/2022/04/26513.jpg
END:VEVENT
BEGIN:VEVENT
DTSTART;TZID=America/New_York:20220812T183000
DTEND;TZID=America/New_York:20220812T200000
DTSTAMP:20260423T194656
CREATED:20220617T160532Z
LAST-MODIFIED:20220617T160532Z
UID:9025-1660329000-1660334400@staging.bethormiami.com
SUMMARY:Shabbat Services with Rabbi Robyn Fisher
DESCRIPTION:https://us02web.zoom.us/meeting/register/tZIodOGuqDooHdekpX3wyWYKjD0KJKdHH97O
URL:https://staging.bethormiami.com/event/shabbat-services-with-rabbi-robyn-fisher-5/
LOCATION:Beth Or\, 11715 SW 87th Ave\, Miami\, FL 33176\, USA\, 8901 SW 87th Ct\, United States
CATEGORIES:Community
ATTACH;FMTTYPE=image/png:https://staging.bethormiami.com/wp-content/uploads/2020/12/Shabbat.png
END:VEVENT
BEGIN:VEVENT
DTSTART;TZID=America/New_York:20220808T193000
DTEND;TZID=America/New_York:20220808T200000
DTSTAMP:20260423T194656
CREATED:20220615T151620Z
LAST-MODIFIED:20220615T151620Z
UID:9006-1659987000-1659988800@staging.bethormiami.com
SUMMARY:Mindfulness Meditation at Beth Or
DESCRIPTION:Carol Kaminsky invites you to explore mindfulness meditation \nPlease let Andrea Loring know if you plan to attend any or all of Carol’s classes at andrealor@bellsouth.net
URL:https://staging.bethormiami.com/event/mindfulness-meditation-at-beth-or-3/
LOCATION:Beth Or\, 11715 SW 87th Ave\, Miami\, FL 33176\, USA\, 8901 SW 87th Ct\, United States
CATEGORIES:Community
ATTACH;FMTTYPE=image/jpeg:https://staging.bethormiami.com/wp-content/uploads/2022/06/meditation.jpg
END:VEVENT
BEGIN:VEVENT
DTSTART;TZID=America/New_York:20220805T183000
DTEND;TZID=America/New_York:20220805T200000
DTSTAMP:20260423T194656
CREATED:20220617T160420Z
LAST-MODIFIED:20220719T143340Z
UID:9023-1659724200-1659729600@staging.bethormiami.com
SUMMARY:Shabbat Services with Rabbi Robyn Fisher
DESCRIPTION:https://us02web.zoom.us/meeting/register/tZIodOGuqDooHdekpX3wyWYKjD0KJKdHH97O
URL:https://staging.bethormiami.com/event/shabbat-services-with-marcy-prince-3/
LOCATION:Beth Or\, 11715 SW 87th Ave\, Miami\, FL 33176\, USA\, 8901 SW 87th Ct\, United States
CATEGORIES:Community
ATTACH;FMTTYPE=image/png:https://staging.bethormiami.com/wp-content/uploads/2020/12/Shabbat.png
END:VEVENT
BEGIN:VEVENT
DTSTART;TZID=America/New_York:20220729T183000
DTEND;TZID=America/New_York:20220729T200000
DTSTAMP:20260423T194656
CREATED:20220617T160247Z
LAST-MODIFIED:20220719T143232Z
UID:9021-1659119400-1659124800@staging.bethormiami.com
SUMMARY:Shabbat Services with Marcy Prince
DESCRIPTION:https://us02web.zoom.us/meeting/register/tZIodOGuqDooHdekpX3wyWYKjD0KJKdHH97O
URL:https://staging.bethormiami.com/event/shabbat-services-with-rabbi-robyn-fisher-4/
LOCATION:Beth Or\, 11715 SW 87th Ave\, Miami\, FL 33176\, USA\, 8901 SW 87th Ct\, United States
CATEGORIES:Community
ATTACH;FMTTYPE=image/png:https://staging.bethormiami.com/wp-content/uploads/2020/12/Shabbat.png
END:VEVENT
BEGIN:VEVENT
DTSTART;TZID=America/New_York:20220726T123000
DTEND;TZID=America/New_York:20220726T133000
DTSTAMP:20260423T194656
CREATED:20220308T172253Z
LAST-MODIFIED:20220308T172253Z
UID:8849-1658838600-1658842200@staging.bethormiami.com
SUMMARY:Tuesdays with Nancy
DESCRIPTION:Every Tuesday at 12:30 PM Nancy hosts a discussion group \n  \nhttps://us02web.zoom.us/meeting/register/tZ0tcuuhrDgsH9TLytD8ihX84hp9grRYe_ix \n 
URL:https://staging.bethormiami.com/event/tuesdays-with-nancy-2-2022-07-26/
LOCATION:Beth Or\, 11715 SW 87th Ave\, Miami\, FL 33176\, USA\, 8901 SW 87th Ct\, United States
ATTACH;FMTTYPE=image/jpeg:https://staging.bethormiami.com/wp-content/uploads/2020/07/join-bethor-min.jpg
END:VEVENT
BEGIN:VEVENT
DTSTART;TZID=America/New_York:20220722T183000
DTEND;TZID=America/New_York:20220722T200000
DTSTAMP:20260423T194656
CREATED:20220617T160124Z
LAST-MODIFIED:20220617T160124Z
UID:9019-1658514600-1658520000@staging.bethormiami.com
SUMMARY:Shabbat Services with Ellen Siegel
DESCRIPTION:https://us02web.zoom.us/meeting/register/tZIodOGuqDooHdekpX3wyWYKjD0KJKdHH97O
URL:https://staging.bethormiami.com/event/shabbat-services-with-ellen-siegel/
LOCATION:Beth Or\, 11715 SW 87th Ave\, Miami\, FL 33176\, USA\, 8901 SW 87th Ct\, United States
CATEGORIES:Community
ATTACH;FMTTYPE=image/png:https://staging.bethormiami.com/wp-content/uploads/2020/12/Shabbat.png
END:VEVENT
END:VCALENDAR