BEGIN:VCALENDAR
VERSION:2.0
PRODID:-//Beth Or Miami - ECPv6.3.2//NONSGML v1.0//EN
CALSCALE:GREGORIAN
METHOD:PUBLISH
X-WR-CALNAME:Beth Or Miami
X-ORIGINAL-URL:https://staging.bethormiami.com
X-WR-CALDESC:Events for Beth Or Miami
REFRESH-INTERVAL;VALUE=DURATION:PT1H
X-Robots-Tag:noindex
X-PUBLISHED-TTL:PT1H
BEGIN:VTIMEZONE
TZID:America/New_York
BEGIN:DAYLIGHT
TZOFFSETFROM:-0500
TZOFFSETTO:-0400
TZNAME:EDT
DTSTART:20220313T070000
END:DAYLIGHT
BEGIN:STANDARD
TZOFFSETFROM:-0400
TZOFFSETTO:-0500
TZNAME:EST
DTSTART:20221106T060000
END:STANDARD
END:VTIMEZONE
BEGIN:VEVENT
DTSTART;TZID=America/New_York:20221106T093000
DTEND;TZID=America/New_York:20221106T163000
DTSTAMP:20260423T162249
CREATED:20220701T165940Z
LAST-MODIFIED:20220908T165911Z
UID:9037-1667727000-1667752200@staging.bethormiami.com
SUMMARY:In Person Jewelry Workshop
DESCRIPTION:With Jewelry Artist Cathi Rivera
URL:https://staging.bethormiami.com/event/in-person-jewelry-workshop/
LOCATION:Beth Or\, 11715 SW 87th Ave\, Miami\, FL 33176\, USA\, 8901 SW 87th Ct\, United States
CATEGORIES:Community
ATTACH;FMTTYPE=image/jpeg:https://staging.bethormiami.com/wp-content/uploads/2022/07/cathi-workshop.jpg
END:VEVENT
BEGIN:VEVENT
DTSTART;TZID=America/New_York:20221104T183000
DTEND;TZID=America/New_York:20221104T200000
DTSTAMP:20260423T162249
CREATED:20220810T162643Z
LAST-MODIFIED:20220810T162643Z
UID:9176-1667586600-1667592000@staging.bethormiami.com
SUMMARY:Shabbat Service with Rabbi Robyn Fisher
DESCRIPTION:https://us02web.zoom.us/meeting/register/tZIodOGuqDooHdekpX3wyWYKjD0KJKdHH97O
URL:https://staging.bethormiami.com/event/shabbat-service-with-rabbi-robyn-fisher-4/
LOCATION:Beth Or\, 11715 SW 87th Ave\, Miami\, FL 33176\, USA\, 8901 SW 87th Ct\, United States
CATEGORIES:Community
ATTACH;FMTTYPE=image/png:https://staging.bethormiami.com/wp-content/uploads/2020/12/Shabbat.png
END:VEVENT
BEGIN:VEVENT
DTSTART;TZID=America/New_York:20221029T180000
DTEND;TZID=America/New_York:20221029T230000
DTSTAMP:20260423T162249
CREATED:20220811T172049Z
LAST-MODIFIED:20220815T161610Z
UID:9241-1667066400-1667084400@staging.bethormiami.com
SUMMARY:Annual Spaghetti Dinner
DESCRIPTION:
URL:https://staging.bethormiami.com/event/annual-spaghetti-dinner/
LOCATION:Beth Or\, 11715 SW 87th Ave\, Miami\, FL 33176\, USA\, 8901 SW 87th Ct\, United States
CATEGORIES:Community
ATTACH;FMTTYPE=image/png:https://staging.bethormiami.com/wp-content/uploads/2022/08/spaghetti-dinner.png
END:VEVENT
BEGIN:VEVENT
DTSTART;TZID=America/New_York:20221028T183000
DTEND;TZID=America/New_York:20221028T200000
DTSTAMP:20260423T162249
CREATED:20220810T162215Z
LAST-MODIFIED:20220810T162215Z
UID:9172-1666981800-1666987200@staging.bethormiami.com
SUMMARY:Shabbat Service with Rabbi Robyn Fisher
DESCRIPTION:https://us02web.zoom.us/meeting/register/tZIodOGuqDooHdekpX3wyWYKjD0KJKdHH97O
URL:https://staging.bethormiami.com/event/shabbat-service-with-rabbi-robyn-fisher-3/
LOCATION:Beth Or\, 11715 SW 87th Ave\, Miami\, FL 33176\, USA\, 8901 SW 87th Ct\, United States
CATEGORIES:Community
ATTACH;FMTTYPE=image/png:https://staging.bethormiami.com/wp-content/uploads/2020/12/Shabbat.png
END:VEVENT
BEGIN:VEVENT
DTSTART;TZID=America/New_York:20221024T190000
DTEND;TZID=America/New_York:20221024T190000
DTSTAMP:20260423T162249
CREATED:20220728T162018Z
LAST-MODIFIED:20220728T162018Z
UID:9111-1666638000-1666638000@staging.bethormiami.com
SUMMARY:PACT Annual Assembly
DESCRIPTION:PACT Annual Assembly
URL:https://staging.bethormiami.com/event/pact-annual-assembly/
LOCATION:Beth Or\, 11715 SW 87th Ave\, Miami\, FL 33176\, USA\, 8901 SW 87th Ct\, United States
CATEGORIES:Community
ATTACH;FMTTYPE=image/png:https://staging.bethormiami.com/wp-content/uploads/2022/05/pact.png
END:VEVENT
BEGIN:VEVENT
DTSTART;TZID=America/New_York:20221022T100000
DTEND;TZID=America/New_York:20221022T113000
DTSTAMP:20260423T162249
CREATED:20220826T171311Z
LAST-MODIFIED:20221018T163545Z
UID:9362-1666432800-1666438200@staging.bethormiami.com
SUMMARY:Torah Study with Rabbi Robyn. In-Person and Virtual
DESCRIPTION:
URL:https://staging.bethormiami.com/event/torah-study-with-rabbi-robyn-4/
LOCATION:Beth Or\, 11715 SW 87th Ave\, Miami\, FL 33176\, USA\, 8901 SW 87th Ct\, United States
CATEGORIES:Community
ATTACH;FMTTYPE=image/jpeg:https://staging.bethormiami.com/wp-content/uploads/2022/08/Final1.jpg
END:VEVENT
BEGIN:VEVENT
DTSTART;TZID=America/New_York:20221021T183000
DTEND;TZID=America/New_York:20221021T200000
DTSTAMP:20260423T162249
CREATED:20220810T161850Z
LAST-MODIFIED:20221004T164857Z
UID:9170-1666377000-1666382400@staging.bethormiami.com
SUMMARY:Shabbat Service / Community Service
DESCRIPTION:https://us02web.zoom.us/meeting/register/tZIodOGuqDooHdekpX3wyWYKjD0KJKdHH97O
URL:https://staging.bethormiami.com/event/shabbat-service-with-phyllis-winnick/
LOCATION:Beth Or\, 11715 SW 87th Ave\, Miami\, FL 33176\, USA\, 8901 SW 87th Ct\, United States
CATEGORIES:Community
ATTACH;FMTTYPE=image/png:https://staging.bethormiami.com/wp-content/uploads/2020/12/Shabbat.png
END:VEVENT
BEGIN:VEVENT
DTSTART;VALUE=DATE:20221017
DTEND;VALUE=DATE:20221018
DTSTAMP:20260423T162249
CREATED:20220607T174714Z
LAST-MODIFIED:20220608T150121Z
UID:8997-1665964800-1666051199@staging.bethormiami.com
SUMMARY:Simchat Torah
DESCRIPTION:
URL:https://staging.bethormiami.com/event/simchat-torah-2/
LOCATION:Beth Or\, 11715 SW 87th Ave\, Miami\, FL 33176\, USA\, 8901 SW 87th Ct\, United States
CATEGORIES:Community,Holidays
ATTACH;FMTTYPE=image/jpeg:https://staging.bethormiami.com/wp-content/uploads/2022/06/simchat_torah.jpg
END:VEVENT
BEGIN:VEVENT
DTSTART;TZID=America/New_York:20221014T193000
DTEND;TZID=America/New_York:20221014T200000
DTSTAMP:20260423T162249
CREATED:20220607T174620Z
LAST-MODIFIED:20221008T190630Z
UID:8995-1665775800-1665777600@staging.bethormiami.com
SUMMARY:Simchat Torah  Shabbat
DESCRIPTION:https://us02web.zoom.us/meeting/register/tZIodOGuqDooHdekpX3wyWYKjD0KJKdHH97O
URL:https://staging.bethormiami.com/event/chol-hamoed-sukkot-shabbat/
LOCATION:Beth Or\, 11715 SW 87th Ave\, Miami\, FL 33176\, USA\, 8901 SW 87th Ct\, United States
CATEGORIES:Community,Holidays
ATTACH;FMTTYPE=image/jpeg:https://staging.bethormiami.com/wp-content/uploads/2022/06/Shabbat-Chol-Hamoed.jpg
END:VEVENT
BEGIN:VEVENT
DTSTART;TZID=America/New_York:20221014T180000
DTEND;TZID=America/New_York:20221014T193000
DTSTAMP:20260423T162249
CREATED:20221008T190321Z
LAST-MODIFIED:20221008T190540Z
UID:9401-1665770400-1665775800@staging.bethormiami.com
SUMMARY:New members dinner
DESCRIPTION:
URL:https://staging.bethormiami.com/event/new-members-dinner/
LOCATION:Beth Or\, 11715 SW 87th Ave\, Miami\, FL 33176\, USA\, 8901 SW 87th Ct\, United States
CATEGORIES:Community
ATTACH;FMTTYPE=image/jpeg:https://staging.bethormiami.com/wp-content/uploads/2022/10/Shabbat-Simchat-Torah-.jpg
END:VEVENT
BEGIN:VEVENT
DTSTART;TZID=America/New_York:20221010T190000
DTEND;TZID=America/New_York:20221010T210000
DTSTAMP:20260423T162249
CREATED:20220308T171028Z
LAST-MODIFIED:20220830T142203Z
UID:8658-1665428400-1665435600@staging.bethormiami.com
SUMMARY:Movie Night - Film: Hester Street
DESCRIPTION:
URL:https://staging.bethormiami.com/event/movie-night/
LOCATION:Beth Or\, 11715 SW 87th Ave\, Miami\, FL 33176\, USA\, 8901 SW 87th Ct\, United States
CATEGORIES:Community
ATTACH;FMTTYPE=image/jpeg:https://staging.bethormiami.com/wp-content/uploads/2020/08/download.jpeg
END:VEVENT
BEGIN:VEVENT
DTSTART;TZID=America/New_York:20221009T130000
DTEND;TZID=America/New_York:20221009T150000
DTSTAMP:20260423T162249
CREATED:20220726T162830Z
LAST-MODIFIED:20220811T151441Z
UID:9075-1665320400-1665327600@staging.bethormiami.com
SUMMARY:Red Tent Book Club Meeting
DESCRIPTION:The club will review:\nThe Bookwoman of Troublesome Creek by Kim Michelle Richardson
URL:https://staging.bethormiami.com/event/red-tent-book-club-meeting-2/
LOCATION:Beth Or\, 11715 SW 87th Ave\, Miami\, FL 33176\, USA\, 8901 SW 87th Ct\, United States
CATEGORIES:Community
ATTACH;FMTTYPE=image/jpeg:https://staging.bethormiami.com/wp-content/uploads/2022/07/bookreview.jpg
END:VEVENT
BEGIN:VEVENT
DTSTART;TZID=America/New_York:20221009T100000
DTEND;TZID=America/New_York:20221009T123000
DTSTAMP:20260423T162249
CREATED:20220607T174438Z
LAST-MODIFIED:20220811T154615Z
UID:8992-1665309600-1665318600@staging.bethormiami.com
SUMMARY:Decorating & Building the Sukkah
DESCRIPTION:
URL:https://staging.bethormiami.com/event/building-the-sukkah/
LOCATION:Beth Or\, 11715 SW 87th Ave\, Miami\, FL 33176\, USA\, 8901 SW 87th Ct\, United States
CATEGORIES:Community,Holidays
ATTACH;FMTTYPE=image/jpeg:https://staging.bethormiami.com/wp-content/uploads/2022/06/Happy-Sukkot.jpg
END:VEVENT
BEGIN:VEVENT
DTSTART;TZID=America/New_York:20221007T183000
DTEND;TZID=America/New_York:20221007T200000
DTSTAMP:20260423T162249
CREATED:20220810T161445Z
LAST-MODIFIED:20220916T162910Z
UID:9167-1665167400-1665172800@staging.bethormiami.com
SUMMARY:No Shabbat Service today
DESCRIPTION:
URL:https://staging.bethormiami.com/event/shabbat-service-with-community-service/
LOCATION:Beth Or\, 11715 SW 87th Ave\, Miami\, FL 33176\, USA\, 8901 SW 87th Ct\, United States
CATEGORIES:Community
END:VEVENT
BEGIN:VEVENT
DTSTART;TZID=America/New_York:20221005T100000
DTEND;TZID=America/New_York:20221005T100000
DTSTAMP:20260423T162249
CREATED:20220607T174315Z
LAST-MODIFIED:20220817T151223Z
UID:8990-1664964000-1664964000@staging.bethormiami.com
SUMMARY:Yom Kippur Service Followed by Study Session / 4:00 pm Yizkor\, Neilah and Havdalah
DESCRIPTION:
URL:https://staging.bethormiami.com/event/yom-kippur-3/
LOCATION:Beth Or\, 11715 SW 87th Ave\, Miami\, FL 33176\, USA\, 8901 SW 87th Ct\, United States
CATEGORIES:Community,Holidays
ATTACH;FMTTYPE=image/jpeg:https://staging.bethormiami.com/wp-content/uploads/2022/06/Yom-Kippur.jpg
END:VEVENT
BEGIN:VEVENT
DTSTART;TZID=America/New_York:20221004T183000
DTEND;TZID=America/New_York:20221004T183000
DTSTAMP:20260423T162249
CREATED:20220607T174138Z
LAST-MODIFIED:20220817T150354Z
UID:8984-1664908200-1664908200@staging.bethormiami.com
SUMMARY:Kol Nidre Service
DESCRIPTION:
URL:https://staging.bethormiami.com/event/kol-nidre/
LOCATION:Beth Or\, 11715 SW 87th Ave\, Miami\, FL 33176\, USA\, 8901 SW 87th Ct\, United States
CATEGORIES:Community,Holidays
ATTACH;FMTTYPE=image/jpeg:https://staging.bethormiami.com/wp-content/uploads/2022/06/Kol-Nidre.jpg
END:VEVENT
BEGIN:VEVENT
DTSTART;TZID=America/New_York:20221003T193000
DTEND;TZID=America/New_York:20221003T203000
DTSTAMP:20260423T162249
CREATED:20220826T170101Z
LAST-MODIFIED:20220826T170101Z
UID:9335-1664825400-1664829000@staging.bethormiami.com
SUMMARY:Gallery of Light Open Studio Night
DESCRIPTION:
URL:https://staging.bethormiami.com/event/gallery-of-light-open-studio-night/
LOCATION:Beth Or\, 11715 SW 87th Ave\, Miami\, FL 33176\, USA\, 8901 SW 87th Ct\, United States
CATEGORIES:Community
ATTACH;FMTTYPE=image/png:https://staging.bethormiami.com/wp-content/uploads/2022/08/Gallery-of-Light.png
END:VEVENT
BEGIN:VEVENT
DTSTART;TZID=America/New_York:20221002T090000
DTEND;TZID=America/New_York:20221002T090000
DTSTAMP:20260423T162249
CREATED:20220701T165202Z
LAST-MODIFIED:20220817T154135Z
UID:9035-1664701200-1664701200@staging.bethormiami.com
SUMMARY:Photography Lesson & Field trip with Lisa Oberlander
DESCRIPTION:Field trip and Photo Shoot. \nLocation TBA
URL:https://staging.bethormiami.com/event/field-trip-with-lisa-oberlander/
LOCATION:Beth Or\, 11715 SW 87th Ave\, Miami\, FL 33176\, USA\, 8901 SW 87th Ct\, United States
CATEGORIES:Community
ATTACH;FMTTYPE=image/jpeg:https://staging.bethormiami.com/wp-content/uploads/2019/05/9-Houghton-Garden-Furniture-house-16may16-pr_b.jpg
END:VEVENT
BEGIN:VEVENT
DTSTART;TZID=America/New_York:20220930T183000
DTEND;TZID=America/New_York:20220930T200000
DTSTAMP:20260423T162249
CREATED:20220810T161304Z
LAST-MODIFIED:20220916T162731Z
UID:9165-1664562600-1664568000@staging.bethormiami.com
SUMMARY:Shabbat Service with Rabbi Robyn
DESCRIPTION:https://us02web.zoom.us/meeting/register/tZIodOGuqDooHdekpX3wyWYKjD0KJKdHH97O
URL:https://staging.bethormiami.com/event/shabbat-service-with-amy-lomaskin/
LOCATION:Beth Or\, 11715 SW 87th Ave\, Miami\, FL 33176\, USA\, 8901 SW 87th Ct\, United States
CATEGORIES:Community
ATTACH;FMTTYPE=image/png:https://staging.bethormiami.com/wp-content/uploads/2020/12/Shabbat.png
END:VEVENT
BEGIN:VEVENT
DTSTART;TZID=America/New_York:20220927T093000
DTEND;TZID=America/New_York:20220927T093000
DTSTAMP:20260423T162249
CREATED:20220805T164100Z
LAST-MODIFIED:20220817T152007Z
UID:9143-1664271000-1664271000@staging.bethormiami.com
SUMMARY:Reverse Tashlich Matheson Hammock / Registration Required
DESCRIPTION:
URL:https://staging.bethormiami.com/event/reverse-tashlich-matheson-hammock/
LOCATION:Beth Or\, 11715 SW 87th Ave\, Miami\, FL 33176\, USA\, 8901 SW 87th Ct\, United States
CATEGORIES:Community
END:VEVENT
BEGIN:VEVENT
DTSTART;TZID=America/New_York:20220926T170000
DTEND;TZID=America/New_York:20220926T170000
DTSTAMP:20260423T162249
CREATED:20220810T171630Z
LAST-MODIFIED:20220810T171630Z
UID:9194-1664211600-1664211600@staging.bethormiami.com
SUMMARY:Taslich at Coral Reef Park
DESCRIPTION:
URL:https://staging.bethormiami.com/event/taslich-at-coral-reef-park/
LOCATION:Beth Or\, 11715 SW 87th Ave\, Miami\, FL 33176\, USA\, 8901 SW 87th Ct\, United States
CATEGORIES:Community
END:VEVENT
BEGIN:VEVENT
DTSTART;TZID=America/New_York:20220926T100000
DTEND;TZID=America/New_York:20220926T100000
DTSTAMP:20260423T162249
CREATED:20220607T174039Z
LAST-MODIFIED:20220811T154035Z
UID:8982-1664186400-1664186400@staging.bethormiami.com
SUMMARY:Rosh Hashanah Service with Lunch & Learn
DESCRIPTION:https://us02web.zoom.us/meeting/register/tZIodOGuqDooHdekpX3wyWYKjD0KJKdHH97O
URL:https://staging.bethormiami.com/event/rosh-hashanah-2/
LOCATION:Beth Or\, 11715 SW 87th Ave\, Miami\, FL 33176\, USA\, 8901 SW 87th Ct\, United States
CATEGORIES:Community,Holidays
ATTACH;FMTTYPE=image/jpeg:https://staging.bethormiami.com/wp-content/uploads/2022/06/Rosh-Hashanah.jpg
END:VEVENT
BEGIN:VEVENT
DTSTART;TZID=America/New_York:20220925T180000
DTEND;TZID=America/New_York:20220925T180000
DTSTAMP:20260423T162249
CREATED:20220805T163756Z
LAST-MODIFIED:20220817T150034Z
UID:9141-1664128800-1664128800@staging.bethormiami.com
SUMMARY:Erev Rosh Hashanah
DESCRIPTION:Brief Holiday Blessings (Virtual Only)
URL:https://staging.bethormiami.com/event/erev-rosh-hashanah-briefservice-time/
LOCATION:11715 SW 87th Ave\, Miami\, FL\, 33176\, United States
CATEGORIES:Community
ATTACH;FMTTYPE=image/jpeg:https://staging.bethormiami.com/wp-content/uploads/2022/06/Rosh-Hashanah.jpg
END:VEVENT
BEGIN:VEVENT
DTSTART;TZID=America/New_York:20220923T183000
DTEND;TZID=America/New_York:20220923T200000
DTSTAMP:20260423T162249
CREATED:20220810T161153Z
LAST-MODIFIED:20220811T163634Z
UID:9163-1663957800-1663963200@staging.bethormiami.com
SUMMARY:Shabbat Service with Ellen Siegel
DESCRIPTION:https://us02web.zoom.us/meeting/register/tZIodOGuqDooHdekpX3wyWYKjD0KJKdHH97O
URL:https://staging.bethormiami.com/event/shabbat-service-with-rabbi-robyn-fisher-2/
LOCATION:Beth Or\, 11715 SW 87th Ave\, Miami\, FL 33176\, USA\, 8901 SW 87th Ct\, United States
CATEGORIES:Community
ATTACH;FMTTYPE=image/png:https://staging.bethormiami.com/wp-content/uploads/2020/12/Shabbat.png
END:VEVENT
BEGIN:VEVENT
DTSTART;TZID=America/New_York:20220920T170000
DTEND;TZID=America/New_York:20220920T170000
DTSTAMP:20260423T162249
CREATED:20220805T163313Z
LAST-MODIFIED:20220811T155454Z
UID:9139-1663693200-1663693200@staging.bethormiami.com
SUMMARY:Book Discussion: This is Real and You Are Completely Unprepared
DESCRIPTION:By Rabbi Alan Lew
URL:https://staging.bethormiami.com/event/rabbi-alan-lew-book-4/
LOCATION:Beth Or\, 11715 SW 87th Ave\, Miami\, FL 33176\, USA\, 8901 SW 87th Ct\, United States
CATEGORIES:Community
ATTACH;FMTTYPE=image/png:https://staging.bethormiami.com/wp-content/uploads/2022/04/331206.png
END:VEVENT
BEGIN:VEVENT
DTSTART;TZID=America/New_York:20220919T193000
DTEND;TZID=America/New_York:20220919T193000
DTSTAMP:20260423T162249
CREATED:20220815T152351Z
LAST-MODIFIED:20220815T153830Z
UID:9285-1663615800-1663615800@staging.bethormiami.com
SUMMARY:Short Story - Book Talk
DESCRIPTION:
URL:https://staging.bethormiami.com/event/short-story-book-talk/
LOCATION:Beth Or\, 11715 SW 87th Ave\, Miami\, FL 33176\, USA\, 8901 SW 87th Ct\, United States
CATEGORIES:Community
ATTACH;FMTTYPE=image/jpeg:https://staging.bethormiami.com/wp-content/uploads/2022/07/bookreview.jpg
END:VEVENT
BEGIN:VEVENT
DTSTART;TZID=America/New_York:20220918T090000
DTEND;TZID=America/New_York:20220918T170000
DTSTAMP:20260423T162249
CREATED:20220726T154603Z
LAST-MODIFIED:20220726T154603Z
UID:9061-1663491600-1663520400@staging.bethormiami.com
SUMMARY:GMJF Sponsored Milk and Honey
DESCRIPTION:Help pack and delivered holiday food boxes\nLocation: Temple Judea
URL:https://staging.bethormiami.com/event/gmjf-sponsored-milk-and-honey/
LOCATION:Beth Or\, 11715 SW 87th Ave\, Miami\, FL 33176\, USA\, 8901 SW 87th Ct\, United States
CATEGORIES:Community
ATTACH;FMTTYPE=image/png:https://staging.bethormiami.com/wp-content/uploads/2022/07/milk-and-honey.png
END:VEVENT
BEGIN:VEVENT
DTSTART;VALUE=DATE:20220917
DTEND;VALUE=DATE:20220918
DTSTAMP:20260423T162249
CREATED:20220607T173910Z
LAST-MODIFIED:20220607T173941Z
UID:8973-1663372800-1663459199@staging.bethormiami.com
SUMMARY:Selichot
DESCRIPTION:
URL:https://staging.bethormiami.com/event/selichot-4/
LOCATION:Beth Or\, 11715 SW 87th Ave\, Miami\, FL 33176\, USA\, 8901 SW 87th Ct\, United States
CATEGORIES:Community,Holidays
ATTACH;FMTTYPE=image/png:https://staging.bethormiami.com/wp-content/uploads/2022/06/Selichot.png
END:VEVENT
BEGIN:VEVENT
DTSTART;TZID=America/New_York:20220916T183000
DTEND;TZID=America/New_York:20220916T200000
DTSTAMP:20260423T162249
CREATED:20220810T161011Z
LAST-MODIFIED:20220817T145811Z
UID:9161-1663353000-1663358400@staging.bethormiami.com
SUMMARY:Shabbat/Selichot Service with Rabbi Robyn Fisher
DESCRIPTION:https://us02web.zoom.us/meeting/register/tZIodOGuqDooHdekpX3wyWYKjD0KJKdHH97O
URL:https://staging.bethormiami.com/event/shabbat-service-with-ellen-siegel/
LOCATION:Beth Or\, 11715 SW 87th Ave\, Miami\, FL 33176\, USA\, 8901 SW 87th Ct\, United States
CATEGORIES:Community
ATTACH;FMTTYPE=image/png:https://staging.bethormiami.com/wp-content/uploads/2020/12/Shabbat.png
END:VEVENT
BEGIN:VEVENT
DTSTART;TZID=America/New_York:20220914T193000
DTEND;TZID=America/New_York:20220914T193000
DTSTAMP:20260423T162249
CREATED:20220728T160613Z
LAST-MODIFIED:20220819T144007Z
UID:9107-1663183800-1663183800@staging.bethormiami.com
SUMMARY:Beth Or PACT Listening Meeting / Virtual Meeting
DESCRIPTION:
URL:https://staging.bethormiami.com/event/beth-or-pact-listening-meeting/
LOCATION:Beth Or\, 11715 SW 87th Ave\, Miami\, FL 33176\, USA\, 8901 SW 87th Ct\, United States
CATEGORIES:Community
ATTACH;FMTTYPE=image/png:https://staging.bethormiami.com/wp-content/uploads/2022/05/pact.png
END:VEVENT
END:VCALENDAR