BEGIN:VCALENDAR
VERSION:2.0
PRODID:-//Beth Or Miami - ECPv6.3.2//NONSGML v1.0//EN
CALSCALE:GREGORIAN
METHOD:PUBLISH
X-WR-CALNAME:Beth Or Miami
X-ORIGINAL-URL:https://staging.bethormiami.com
X-WR-CALDESC:Events for Beth Or Miami
REFRESH-INTERVAL;VALUE=DURATION:PT1H
X-Robots-Tag:noindex
X-PUBLISHED-TTL:PT1H
BEGIN:VTIMEZONE
TZID:America/New_York
BEGIN:DAYLIGHT
TZOFFSETFROM:-0500
TZOFFSETTO:-0400
TZNAME:EDT
DTSTART:20220313T070000
END:DAYLIGHT
BEGIN:STANDARD
TZOFFSETFROM:-0400
TZOFFSETTO:-0500
TZNAME:EST
DTSTART:20221106T060000
END:STANDARD
END:VTIMEZONE
BEGIN:VEVENT
DTSTART;TZID=America/New_York:20221219T193000
DTEND;TZID=America/New_York:20221219T193000
DTSTAMP:20260423T181550
CREATED:20220819T145744Z
LAST-MODIFIED:20220819T145744Z
UID:9314-1671478200-1671478200@staging.bethormiami.com
SUMMARY:Short Story - Book Talk
DESCRIPTION:
URL:https://staging.bethormiami.com/event/short-story-book-talk-3/
LOCATION:Beth Or\, 11715 SW 87th Ave\, Miami\, FL 33176\, USA\, 8901 SW 87th Ct\, United States
ATTACH;FMTTYPE=image/jpeg:https://staging.bethormiami.com/wp-content/uploads/2022/07/bookreview.jpg
END:VEVENT
BEGIN:VEVENT
DTSTART;TZID=America/New_York:20221216T183000
DTEND;TZID=America/New_York:20221216T200000
DTSTAMP:20260423T181550
CREATED:20220810T163449Z
LAST-MODIFIED:20220810T163449Z
UID:9186-1671215400-1671220800@staging.bethormiami.com
SUMMARY:Shabbat Service with Kathy Fisler
DESCRIPTION:https://us02web.zoom.us/meeting/register/tZIodOGuqDooHdekpX3wyWYKjD0KJKdHH97O
URL:https://staging.bethormiami.com/event/shabbat-service-with-kathy-fisler/
LOCATION:Beth Or\, 11715 SW 87th Ave\, Miami\, FL 33176\, USA\, 8901 SW 87th Ct\, United States
CATEGORIES:Community
ATTACH;FMTTYPE=image/png:https://staging.bethormiami.com/wp-content/uploads/2020/12/Shabbat.png
END:VEVENT
BEGIN:VEVENT
DTSTART;TZID=America/New_York:20221211T130000
DTEND;TZID=America/New_York:20221211T150000
DTSTAMP:20260423T181550
CREATED:20220726T164306Z
LAST-MODIFIED:20220811T152115Z
UID:9084-1670763600-1670770800@staging.bethormiami.com
SUMMARY:Red Tent Book Club Meeting
DESCRIPTION:The club will review:\nThe Vanishing Half by Brit Bennet
URL:https://staging.bethormiami.com/event/red-tent-book-club-meeting-4/
LOCATION:Beth Or\, 11715 SW 87th Ave\, Miami\, FL 33176\, USA\, 8901 SW 87th Ct\, United States
CATEGORIES:Community
ATTACH;FMTTYPE=image/jpeg:https://staging.bethormiami.com/wp-content/uploads/2022/07/bookreview.jpg
END:VEVENT
BEGIN:VEVENT
DTSTART;TZID=America/New_York:20221210T080000
DTEND;TZID=America/New_York:20221210T170000
DTSTAMP:20260423T181550
CREATED:20220922T155249Z
LAST-MODIFIED:20220922T155249Z
UID:9393-1670659200-1670691600@staging.bethormiami.com
SUMMARY:Mistery Trip Details to follow
DESCRIPTION:
URL:https://staging.bethormiami.com/event/mistery-trip-details-to-follow/
LOCATION:Beth Or\, 11715 SW 87th Ave\, Miami\, FL 33176\, USA\, 8901 SW 87th Ct\, United States
CATEGORIES:Community
ATTACH;FMTTYPE=image/jpeg:https://staging.bethormiami.com/wp-content/uploads/2022/09/mistery-clip-art.jpg
END:VEVENT
BEGIN:VEVENT
DTSTART;TZID=America/New_York:20221209T183000
DTEND;TZID=America/New_York:20221209T200000
DTSTAMP:20260423T181550
CREATED:20220810T163259Z
LAST-MODIFIED:20220810T163259Z
UID:9184-1670610600-1670616000@staging.bethormiami.com
SUMMARY:Shabbat Service with Rabbi Robyn Fisher
DESCRIPTION:https://us02web.zoom.us/meeting/register/tZIodOGuqDooHdekpX3wyWYKjD0KJKdHH97O
URL:https://staging.bethormiami.com/event/shabbat-service-with-rabbi-robyn-fisher-6/
LOCATION:Beth Or\, 11715 SW 87th Ave\, Miami\, FL 33176\, USA\, 8901 SW 87th Ct\, United States
CATEGORIES:Community
ATTACH;FMTTYPE=image/png:https://staging.bethormiami.com/wp-content/uploads/2020/12/Shabbat.png
END:VEVENT
BEGIN:VEVENT
DTSTART;TZID=America/New_York:20221205T193000
DTEND;TZID=America/New_York:20221205T203000
DTSTAMP:20260423T181550
CREATED:20220826T170319Z
LAST-MODIFIED:20220826T170319Z
UID:9341-1670268600-1670272200@staging.bethormiami.com
SUMMARY:Gallery of Light Open Studio Night
DESCRIPTION:
URL:https://staging.bethormiami.com/event/gallery-of-light-open-studio-night-3/
LOCATION:Beth Or\, 11715 SW 87th Ave\, Miami\, FL 33176\, USA\, 8901 SW 87th Ct\, United States
CATEGORIES:Community
ATTACH;FMTTYPE=image/png:https://staging.bethormiami.com/wp-content/uploads/2022/08/Gallery-of-Light.png
END:VEVENT
BEGIN:VEVENT
DTSTART;TZID=America/New_York:20221202T183000
DTEND;TZID=America/New_York:20221202T200000
DTSTAMP:20260423T181550
CREATED:20220810T163054Z
LAST-MODIFIED:20220810T163054Z
UID:9182-1670005800-1670011200@staging.bethormiami.com
SUMMARY:Shabbat Service with Mel Tenen
DESCRIPTION:https://us02web.zoom.us/meeting/register/tZIodOGuqDooHdekpX3wyWYKjD0KJKdHH97O
URL:https://staging.bethormiami.com/event/shabbat-service-with-mel-tenen/
LOCATION:Beth Or\, 11715 SW 87th Ave\, Miami\, FL 33176\, USA\, 8901 SW 87th Ct\, United States
CATEGORIES:Community
ATTACH;FMTTYPE=image/png:https://staging.bethormiami.com/wp-content/uploads/2020/12/Shabbat.png
END:VEVENT
BEGIN:VEVENT
DTSTART;TZID=America/New_York:20221127T110000
DTEND;TZID=America/New_York:20221127T130000
DTSTAMP:20260423T181550
CREATED:20220701T170920Z
LAST-MODIFIED:20220817T154344Z
UID:9040-1669546800-1669554000@staging.bethormiami.com
SUMMARY:Gallery of Light Opening
DESCRIPTION:Celebrating photographer Andy Sweet’s birthday and photographs
URL:https://staging.bethormiami.com/event/gl-opening-2/
LOCATION:Beth Or\, 11715 SW 87th Ave\, Miami\, FL 33176\, USA\, 8901 SW 87th Ct\, United States
CATEGORIES:Community
ATTACH;FMTTYPE=image/jpeg:https://staging.bethormiami.com/wp-content/uploads/2022/07/andy.jpg
END:VEVENT
BEGIN:VEVENT
DTSTART;TZID=America/New_York:20221125T183000
DTEND;TZID=America/New_York:20221125T183000
DTSTAMP:20260423T181550
CREATED:20220810T162916Z
LAST-MODIFIED:20220810T162916Z
UID:9180-1669401000-1669401000@staging.bethormiami.com
SUMMARY:No Shabbat Service today
DESCRIPTION:
URL:https://staging.bethormiami.com/event/no-shabbat-service-today/
LOCATION:Beth Or\, 11715 SW 87th Ave\, Miami\, FL 33176\, USA\, 8901 SW 87th Ct\, United States
CATEGORIES:Community
END:VEVENT
BEGIN:VEVENT
DTSTART;TZID=America/New_York:20221121T193000
DTEND;TZID=America/New_York:20221121T193000
DTSTAMP:20260423T181550
CREATED:20220815T153408Z
LAST-MODIFIED:20221027T172117Z
UID:9289-1669059000-1669059000@staging.bethormiami.com
SUMMARY:Short Story - Book Talk
DESCRIPTION:
URL:https://staging.bethormiami.com/event/short-story-book-talk-2/
LOCATION:Beth Or\, 11715 SW 87th Ave\, Miami\, FL 33176\, USA\, 8901 SW 87th Ct\, United States
CATEGORIES:Community
ATTACH;FMTTYPE=image/jpeg:https://staging.bethormiami.com/wp-content/uploads/2022/07/bookreview.jpg
END:VEVENT
BEGIN:VEVENT
DTSTART;TZID=America/New_York:20221120T000000
DTEND;TZID=America/New_York:20221120T000000
DTSTAMP:20260423T181550
CREATED:20220726T154938Z
LAST-MODIFIED:20220811T154706Z
UID:9065-1668902400-1668902400@staging.bethormiami.com
SUMMARY:GMJF Sponsored Everything But the Turkey
DESCRIPTION:Help prepare holiday meals for residents on homeless shelter\nLocation: Alper JCC\n(Time TBA)
URL:https://staging.bethormiami.com/event/gmjf-sponsored-everything-but-the-turkey/
LOCATION:Beth Or\, 11715 SW 87th Ave\, Miami\, FL 33176\, USA\, 8901 SW 87th Ct\, United States
CATEGORIES:Community
ATTACH;FMTTYPE=image/png:https://staging.bethormiami.com/wp-content/uploads/2022/07/turkey.png
END:VEVENT
BEGIN:VEVENT
DTSTART;TZID=America/New_York:20221119T100000
DTEND;TZID=America/New_York:20221119T113000
DTSTAMP:20260423T181550
CREATED:20220826T171416Z
LAST-MODIFIED:20221018T164651Z
UID:9364-1668852000-1668857400@staging.bethormiami.com
SUMMARY:Torah Study with Rabbi Robyn. In-Person and Virtual
DESCRIPTION:
URL:https://staging.bethormiami.com/event/torah-study-with-rabbi-robyn-5/
LOCATION:Beth Or\, 11715 SW 87th Ave\, Miami\, FL 33176\, USA\, 8901 SW 87th Ct\, United States
CATEGORIES:Community
ATTACH;FMTTYPE=image/jpeg:https://staging.bethormiami.com/wp-content/uploads/2022/08/Final1.jpg
END:VEVENT
BEGIN:VEVENT
DTSTART;TZID=America/New_York:20221118T183000
DTEND;TZID=America/New_York:20221118T200000
DTSTAMP:20260423T181550
CREATED:20220810T162802Z
LAST-MODIFIED:20220810T162802Z
UID:9178-1668796200-1668801600@staging.bethormiami.com
SUMMARY:Shabbat Service with Rabbi Robyn Fisher
DESCRIPTION:https://us02web.zoom.us/meeting/register/tZIodOGuqDooHdekpX3wyWYKjD0KJKdHH97O
URL:https://staging.bethormiami.com/event/shabbat-service-with-rabbi-robyn-fisher-5/
LOCATION:Beth Or\, 11715 SW 87th Ave\, Miami\, FL 33176\, USA\, 8901 SW 87th Ct\, United States
CATEGORIES:Community
ATTACH;FMTTYPE=image/png:https://staging.bethormiami.com/wp-content/uploads/2020/12/Shabbat.png
END:VEVENT
BEGIN:VEVENT
DTSTART;VALUE=DATE:20221117
DTEND;VALUE=DATE:20221118
DTSTAMP:20260423T181550
CREATED:20220811T172510Z
LAST-MODIFIED:20220811T172510Z
UID:9244-1668643200-1668729599@staging.bethormiami.com
SUMMARY:Give Miami Day
DESCRIPTION:
URL:https://staging.bethormiami.com/event/give-miami-day-2/
LOCATION:Beth Or\, 11715 SW 87th Ave\, Miami\, FL 33176\, USA\, 8901 SW 87th Ct\, United States
ATTACH;FMTTYPE=image/png:https://staging.bethormiami.com/wp-content/uploads/2022/08/Give-Miami-Day.png
END:VEVENT
BEGIN:VEVENT
DTSTART;TZID=America/New_York:20221114T193000
DTEND;TZID=America/New_York:20221114T210000
DTSTAMP:20260423T181550
CREATED:20220726T144624Z
LAST-MODIFIED:20220726T144624Z
UID:9056-1668454200-1668459600@staging.bethormiami.com
SUMMARY:Workshop on Ambiguous Loss
DESCRIPTION:Workshop on Ambiguous Loss: Recognizing and Working with Amorphous Grief\, presented by Dr. Nancy Kirsner 
URL:https://staging.bethormiami.com/event/workshop-on-ambiguous-loss/
LOCATION:Beth Or\, 11715 SW 87th Ave\, Miami\, FL 33176\, USA\, 8901 SW 87th Ct\, United States
CATEGORIES:Community
ATTACH;FMTTYPE=image/jpeg:https://staging.bethormiami.com/wp-content/uploads/2022/03/26513.jpg
END:VEVENT
BEGIN:VEVENT
DTSTART;TZID=America/New_York:20221113T130000
DTEND;TZID=America/New_York:20221113T150000
DTSTAMP:20260423T181550
CREATED:20220726T163134Z
LAST-MODIFIED:20220811T152158Z
UID:9078-1668344400-1668351600@staging.bethormiami.com
SUMMARY:Red Tent Book Club Meeting
DESCRIPTION:Lessons from Lucy by Dave Barry
URL:https://staging.bethormiami.com/event/red-tent-book-club-meeting-3/
LOCATION:Beth Or\, 11715 SW 87th Ave\, Miami\, FL 33176\, USA\, 8901 SW 87th Ct\, United States
CATEGORIES:Community
ATTACH;FMTTYPE=image/jpeg:https://staging.bethormiami.com/wp-content/uploads/2022/07/bookreview.jpg
END:VEVENT
BEGIN:VEVENT
DTSTART;TZID=America/New_York:20221112T100000
DTEND;TZID=America/New_York:20221112T100000
DTSTAMP:20260423T181550
CREATED:20220826T163731Z
LAST-MODIFIED:20220826T163731Z
UID:9328-1668247200-1668247200@staging.bethormiami.com
SUMMARY:Military Museum Tour
DESCRIPTION:
URL:https://staging.bethormiami.com/event/military-museum-tour/
LOCATION:Beth Or\, 11715 SW 87th Ave\, Miami\, FL 33176\, USA\, 8901 SW 87th Ct\, United States
CATEGORIES:Community
ATTACH;FMTTYPE=image/png:https://staging.bethormiami.com/wp-content/uploads/2022/08/Military-Museum.png
END:VEVENT
BEGIN:VEVENT
DTSTART;TZID=America/New_York:20221111T183000
DTEND;TZID=America/New_York:20221111T200000
DTSTAMP:20260423T181550
CREATED:20220810T162427Z
LAST-MODIFIED:20220922T154822Z
UID:9174-1668191400-1668196800@staging.bethormiami.com
SUMMARY:Veterans Day Shabbat Service with Amy Lomaskin & Tom Gammon
DESCRIPTION:https://us02web.zoom.us/meeting/register/tZIodOGuqDooHdekpX3wyWYKjD0KJKdHH97O
URL:https://staging.bethormiami.com/event/shabbat-service-with-amy-lomaskin-tom-gammon/
LOCATION:Beth Or\, 11715 SW 87th Ave\, Miami\, FL 33176\, USA\, 8901 SW 87th Ct\, United States
CATEGORIES:Community
ATTACH;FMTTYPE=image/png:https://staging.bethormiami.com/wp-content/uploads/2020/12/Shabbat.png
END:VEVENT
BEGIN:VEVENT
DTSTART;VALUE=DATE:20221108
DTEND;VALUE=DATE:20221109
DTSTAMP:20260423T181550
CREATED:20220811T175355Z
LAST-MODIFIED:20220811T175355Z
UID:9273-1667865600-1667951999@staging.bethormiami.com
SUMMARY:Election Day
DESCRIPTION:
URL:https://staging.bethormiami.com/event/election-day-2/
LOCATION:Beth Or\, 11715 SW 87th Ave\, Miami\, FL 33176\, USA\, 8901 SW 87th Ct\, United States
CATEGORIES:Community
END:VEVENT
BEGIN:VEVENT
DTSTART;TZID=America/New_York:20221107T193000
DTEND;TZID=America/New_York:20221107T203000
DTSTAMP:20260423T181550
CREATED:20220826T170204Z
LAST-MODIFIED:20220826T170204Z
UID:9338-1667849400-1667853000@staging.bethormiami.com
SUMMARY:Gallery of Light Open Studio Night
DESCRIPTION:
URL:https://staging.bethormiami.com/event/gallery-of-light-open-studio-night-2/
LOCATION:Beth Or\, 11715 SW 87th Ave\, Miami\, FL 33176\, USA\, 8901 SW 87th Ct\, United States
CATEGORIES:Community
ATTACH;FMTTYPE=image/png:https://staging.bethormiami.com/wp-content/uploads/2022/08/Gallery-of-Light.png
END:VEVENT
BEGIN:VEVENT
DTSTART;TZID=America/New_York:20221106T093000
DTEND;TZID=America/New_York:20221106T163000
DTSTAMP:20260423T181550
CREATED:20220701T165940Z
LAST-MODIFIED:20220908T165911Z
UID:9037-1667727000-1667752200@staging.bethormiami.com
SUMMARY:In Person Jewelry Workshop
DESCRIPTION:With Jewelry Artist Cathi Rivera
URL:https://staging.bethormiami.com/event/in-person-jewelry-workshop/
LOCATION:Beth Or\, 11715 SW 87th Ave\, Miami\, FL 33176\, USA\, 8901 SW 87th Ct\, United States
CATEGORIES:Community
ATTACH;FMTTYPE=image/jpeg:https://staging.bethormiami.com/wp-content/uploads/2022/07/cathi-workshop.jpg
END:VEVENT
BEGIN:VEVENT
DTSTART;TZID=America/New_York:20221104T183000
DTEND;TZID=America/New_York:20221104T200000
DTSTAMP:20260423T181550
CREATED:20220810T162643Z
LAST-MODIFIED:20220810T162643Z
UID:9176-1667586600-1667592000@staging.bethormiami.com
SUMMARY:Shabbat Service with Rabbi Robyn Fisher
DESCRIPTION:https://us02web.zoom.us/meeting/register/tZIodOGuqDooHdekpX3wyWYKjD0KJKdHH97O
URL:https://staging.bethormiami.com/event/shabbat-service-with-rabbi-robyn-fisher-4/
LOCATION:Beth Or\, 11715 SW 87th Ave\, Miami\, FL 33176\, USA\, 8901 SW 87th Ct\, United States
CATEGORIES:Community
ATTACH;FMTTYPE=image/png:https://staging.bethormiami.com/wp-content/uploads/2020/12/Shabbat.png
END:VEVENT
BEGIN:VEVENT
DTSTART;TZID=America/New_York:20221029T180000
DTEND;TZID=America/New_York:20221029T230000
DTSTAMP:20260423T181550
CREATED:20220811T172049Z
LAST-MODIFIED:20220815T161610Z
UID:9241-1667066400-1667084400@staging.bethormiami.com
SUMMARY:Annual Spaghetti Dinner
DESCRIPTION:
URL:https://staging.bethormiami.com/event/annual-spaghetti-dinner/
LOCATION:Beth Or\, 11715 SW 87th Ave\, Miami\, FL 33176\, USA\, 8901 SW 87th Ct\, United States
CATEGORIES:Community
ATTACH;FMTTYPE=image/png:https://staging.bethormiami.com/wp-content/uploads/2022/08/spaghetti-dinner.png
END:VEVENT
BEGIN:VEVENT
DTSTART;TZID=America/New_York:20221028T183000
DTEND;TZID=America/New_York:20221028T200000
DTSTAMP:20260423T181550
CREATED:20220810T162215Z
LAST-MODIFIED:20220810T162215Z
UID:9172-1666981800-1666987200@staging.bethormiami.com
SUMMARY:Shabbat Service with Rabbi Robyn Fisher
DESCRIPTION:https://us02web.zoom.us/meeting/register/tZIodOGuqDooHdekpX3wyWYKjD0KJKdHH97O
URL:https://staging.bethormiami.com/event/shabbat-service-with-rabbi-robyn-fisher-3/
LOCATION:Beth Or\, 11715 SW 87th Ave\, Miami\, FL 33176\, USA\, 8901 SW 87th Ct\, United States
CATEGORIES:Community
ATTACH;FMTTYPE=image/png:https://staging.bethormiami.com/wp-content/uploads/2020/12/Shabbat.png
END:VEVENT
BEGIN:VEVENT
DTSTART;TZID=America/New_York:20221024T190000
DTEND;TZID=America/New_York:20221024T190000
DTSTAMP:20260423T181550
CREATED:20220728T162018Z
LAST-MODIFIED:20220728T162018Z
UID:9111-1666638000-1666638000@staging.bethormiami.com
SUMMARY:PACT Annual Assembly
DESCRIPTION:PACT Annual Assembly
URL:https://staging.bethormiami.com/event/pact-annual-assembly/
LOCATION:Beth Or\, 11715 SW 87th Ave\, Miami\, FL 33176\, USA\, 8901 SW 87th Ct\, United States
CATEGORIES:Community
ATTACH;FMTTYPE=image/png:https://staging.bethormiami.com/wp-content/uploads/2022/05/pact.png
END:VEVENT
BEGIN:VEVENT
DTSTART;TZID=America/New_York:20221022T100000
DTEND;TZID=America/New_York:20221022T113000
DTSTAMP:20260423T181550
CREATED:20220826T171311Z
LAST-MODIFIED:20221018T163545Z
UID:9362-1666432800-1666438200@staging.bethormiami.com
SUMMARY:Torah Study with Rabbi Robyn. In-Person and Virtual
DESCRIPTION:
URL:https://staging.bethormiami.com/event/torah-study-with-rabbi-robyn-4/
LOCATION:Beth Or\, 11715 SW 87th Ave\, Miami\, FL 33176\, USA\, 8901 SW 87th Ct\, United States
CATEGORIES:Community
ATTACH;FMTTYPE=image/jpeg:https://staging.bethormiami.com/wp-content/uploads/2022/08/Final1.jpg
END:VEVENT
BEGIN:VEVENT
DTSTART;TZID=America/New_York:20221021T183000
DTEND;TZID=America/New_York:20221021T200000
DTSTAMP:20260423T181550
CREATED:20220810T161850Z
LAST-MODIFIED:20221004T164857Z
UID:9170-1666377000-1666382400@staging.bethormiami.com
SUMMARY:Shabbat Service / Community Service
DESCRIPTION:https://us02web.zoom.us/meeting/register/tZIodOGuqDooHdekpX3wyWYKjD0KJKdHH97O
URL:https://staging.bethormiami.com/event/shabbat-service-with-phyllis-winnick/
LOCATION:Beth Or\, 11715 SW 87th Ave\, Miami\, FL 33176\, USA\, 8901 SW 87th Ct\, United States
CATEGORIES:Community
ATTACH;FMTTYPE=image/png:https://staging.bethormiami.com/wp-content/uploads/2020/12/Shabbat.png
END:VEVENT
BEGIN:VEVENT
DTSTART;VALUE=DATE:20221017
DTEND;VALUE=DATE:20221018
DTSTAMP:20260423T181550
CREATED:20220607T174714Z
LAST-MODIFIED:20220608T150121Z
UID:8997-1665964800-1666051199@staging.bethormiami.com
SUMMARY:Simchat Torah
DESCRIPTION:
URL:https://staging.bethormiami.com/event/simchat-torah-2/
LOCATION:Beth Or\, 11715 SW 87th Ave\, Miami\, FL 33176\, USA\, 8901 SW 87th Ct\, United States
CATEGORIES:Community,Holidays
ATTACH;FMTTYPE=image/jpeg:https://staging.bethormiami.com/wp-content/uploads/2022/06/simchat_torah.jpg
END:VEVENT
BEGIN:VEVENT
DTSTART;TZID=America/New_York:20221014T193000
DTEND;TZID=America/New_York:20221014T200000
DTSTAMP:20260423T181550
CREATED:20220607T174620Z
LAST-MODIFIED:20221008T190630Z
UID:8995-1665775800-1665777600@staging.bethormiami.com
SUMMARY:Simchat Torah  Shabbat
DESCRIPTION:https://us02web.zoom.us/meeting/register/tZIodOGuqDooHdekpX3wyWYKjD0KJKdHH97O
URL:https://staging.bethormiami.com/event/chol-hamoed-sukkot-shabbat/
LOCATION:Beth Or\, 11715 SW 87th Ave\, Miami\, FL 33176\, USA\, 8901 SW 87th Ct\, United States
CATEGORIES:Community,Holidays
ATTACH;FMTTYPE=image/jpeg:https://staging.bethormiami.com/wp-content/uploads/2022/06/Shabbat-Chol-Hamoed.jpg
END:VEVENT
BEGIN:VEVENT
DTSTART;TZID=America/New_York:20221014T180000
DTEND;TZID=America/New_York:20221014T193000
DTSTAMP:20260423T181550
CREATED:20221008T190321Z
LAST-MODIFIED:20221008T190540Z
UID:9401-1665770400-1665775800@staging.bethormiami.com
SUMMARY:New members dinner
DESCRIPTION:
URL:https://staging.bethormiami.com/event/new-members-dinner/
LOCATION:Beth Or\, 11715 SW 87th Ave\, Miami\, FL 33176\, USA\, 8901 SW 87th Ct\, United States
CATEGORIES:Community
ATTACH;FMTTYPE=image/jpeg:https://staging.bethormiami.com/wp-content/uploads/2022/10/Shabbat-Simchat-Torah-.jpg
END:VEVENT
END:VCALENDAR