BEGIN:VCALENDAR
VERSION:2.0
PRODID:-//Beth Or Miami - ECPv6.3.2//NONSGML v1.0//EN
CALSCALE:GREGORIAN
METHOD:PUBLISH
X-WR-CALNAME:Beth Or Miami
X-ORIGINAL-URL:https://staging.bethormiami.com
X-WR-CALDESC:Events for Beth Or Miami
REFRESH-INTERVAL;VALUE=DURATION:PT1H
X-Robots-Tag:noindex
X-PUBLISHED-TTL:PT1H
BEGIN:VTIMEZONE
TZID:America/New_York
BEGIN:DAYLIGHT
TZOFFSETFROM:-0500
TZOFFSETTO:-0400
TZNAME:EDT
DTSTART:20240310T070000
END:DAYLIGHT
BEGIN:STANDARD
TZOFFSETFROM:-0400
TZOFFSETTO:-0500
TZNAME:EST
DTSTART:20241103T060000
END:STANDARD
END:VTIMEZONE
BEGIN:VEVENT
DTSTART;VALUE=DATE:20240611
DTEND;VALUE=DATE:20240613
DTSTAMP:20260422T181004
CREATED:20230602T170145Z
LAST-MODIFIED:20230602T170145Z
UID:9733-1718064000-1718236799@staging.bethormiami.com
SUMMARY:Shavuot
DESCRIPTION:
URL:https://staging.bethormiami.com/event/shavuot-2/
CATEGORIES:Community
ATTACH;FMTTYPE=image/png:https://staging.bethormiami.com/wp-content/uploads/2023/06/Shavuot.png
END:VEVENT
BEGIN:VEVENT
DTSTART;TZID=America/New_York:20240609T130000
DTEND;TZID=America/New_York:20240609T150000
DTSTAMP:20260422T181004
CREATED:20230524T173806Z
LAST-MODIFIED:20230524T173806Z
UID:9620-1717938000-1717945200@staging.bethormiami.com
SUMMARY:Red Tent Book Club Meeting
DESCRIPTION:
URL:https://staging.bethormiami.com/event/red-tent-book-club-meeting-21/
CATEGORIES:Community
ATTACH;FMTTYPE=image/jpeg:https://staging.bethormiami.com/wp-content/uploads/2022/07/bookreview.jpg
END:VEVENT
BEGIN:VEVENT
DTSTART;TZID=America/New_York:20240608T101500
DTEND;TZID=America/New_York:20240608T113000
DTSTAMP:20260422T181004
CREATED:20230613T154215Z
LAST-MODIFIED:20230613T154215Z
UID:9868-1717841700-1717846200@staging.bethormiami.com
SUMMARY:Torah Study
DESCRIPTION:
URL:https://staging.bethormiami.com/event/torah-study-15/
CATEGORIES:Community
ATTACH;FMTTYPE=image/png:https://staging.bethormiami.com/wp-content/uploads/2022/04/Torah5.png
END:VEVENT
BEGIN:VEVENT
DTSTART;TZID=America/New_York:20240601T160000
DTEND;TZID=America/New_York:20240601T180000
DTSTAMP:20260422T181004
CREATED:20230613T154037Z
LAST-MODIFIED:20230621T150439Z
UID:9866-1717257600-1717264800@staging.bethormiami.com
SUMMARY:Be Mitzvah Service
DESCRIPTION:
URL:https://staging.bethormiami.com/event/bemitzvah-service/
CATEGORIES:Community
ATTACH;FMTTYPE=image/jpeg:https://staging.bethormiami.com/wp-content/uploads/2018/08/BO-Be-Mitzvah-postcard-element-1.jpg
END:VEVENT
BEGIN:VEVENT
DTSTART;VALUE=DATE:20240527
DTEND;VALUE=DATE:20240528
DTSTAMP:20260422T181004
CREATED:20230605T173555Z
LAST-MODIFIED:20230605T173555Z
UID:9753-1716768000-1716854399@staging.bethormiami.com
SUMMARY:Memorial Day
DESCRIPTION:
URL:https://staging.bethormiami.com/event/memorial-day/
CATEGORIES:Community
ATTACH;FMTTYPE=image/png:https://staging.bethormiami.com/wp-content/uploads/2023/06/Memorial-day.png
END:VEVENT
BEGIN:VEVENT
DTSTART;VALUE=DATE:20240525
DTEND;VALUE=DATE:20240527
DTSTAMP:20260422T181004
CREATED:20230602T165723Z
LAST-MODIFIED:20230602T165723Z
UID:9731-1716595200-1716767999@staging.bethormiami.com
SUMMARY:LAG BaOMER
DESCRIPTION:
URL:https://staging.bethormiami.com/event/lag-baomer/
CATEGORIES:Community
ATTACH;FMTTYPE=image/jpeg:https://staging.bethormiami.com/wp-content/uploads/2022/03/download.jpg
END:VEVENT
BEGIN:VEVENT
DTSTART;TZID=America/New_York:20240520T193000
DTEND;TZID=America/New_York:20240520T203000
DTSTAMP:20260422T181004
CREATED:20230605T175835Z
LAST-MODIFIED:20230707T172140Z
UID:9778-1716233400-1716237000@staging.bethormiami.com
SUMMARY:Short Story – Book Talk
DESCRIPTION:
URL:https://staging.bethormiami.com/event/short-story-book-talk-15/
CATEGORIES:Community
ATTACH;FMTTYPE=image/jpeg:https://staging.bethormiami.com/wp-content/uploads/2022/07/bookreview.jpg
END:VEVENT
BEGIN:VEVENT
DTSTART;VALUE=DATE:20240514
DTEND;VALUE=DATE:20240515
DTSTAMP:20260422T181004
CREATED:20230613T153938Z
LAST-MODIFIED:20230613T153938Z
UID:9864-1715644800-1715731199@staging.bethormiami.com
SUMMARY:Israel Independence Day
DESCRIPTION:
URL:https://staging.bethormiami.com/event/israel-independence-day/
CATEGORIES:Community
ATTACH;FMTTYPE=image/jpeg:https://staging.bethormiami.com/wp-content/uploads/2020/04/israel.jpg
END:VEVENT
BEGIN:VEVENT
DTSTART;VALUE=DATE:20240512
DTEND;VALUE=DATE:20240513
DTSTAMP:20260422T181004
CREATED:20230602T165543Z
LAST-MODIFIED:20230602T165543Z
UID:9728-1715472000-1715558399@staging.bethormiami.com
SUMMARY:Mother's Day
DESCRIPTION:
URL:https://staging.bethormiami.com/event/mothers-day/
CATEGORIES:Community
ATTACH;FMTTYPE=image/png:https://staging.bethormiami.com/wp-content/uploads/2023/06/Mothers-Day.png
END:VEVENT
BEGIN:VEVENT
DTSTART;VALUE=DATE:20240512
DTEND;VALUE=DATE:20240514
DTSTAMP:20260422T181004
CREATED:20230602T165321Z
LAST-MODIFIED:20230602T165321Z
UID:9723-1715472000-1715644799@staging.bethormiami.com
SUMMARY:Israel Memorial Day
DESCRIPTION:
URL:https://staging.bethormiami.com/event/israel-memorial-day/
CATEGORIES:Community
ATTACH;FMTTYPE=image/png:https://staging.bethormiami.com/wp-content/uploads/2023/06/Israel-Memorial-Day.png
END:VEVENT
BEGIN:VEVENT
DTSTART;VALUE=DATE:20240506
DTEND;VALUE=DATE:20240507
DTSTAMP:20260422T181004
CREATED:20230602T164626Z
LAST-MODIFIED:20230602T164626Z
UID:9718-1714953600-1715039999@staging.bethormiami.com
SUMMARY:Holocaust Remembrance Day
DESCRIPTION:
URL:https://staging.bethormiami.com/event/holocaust-remembrance-day/
CATEGORIES:Community
ATTACH;FMTTYPE=image/png:https://staging.bethormiami.com/wp-content/uploads/2023/06/Holocaust-Remembrance-Day.png
END:VEVENT
BEGIN:VEVENT
DTSTART;TZID=America/New_York:20240505T130000
DTEND;TZID=America/New_York:20240505T150000
DTSTAMP:20260422T181004
CREATED:20230524T173708Z
LAST-MODIFIED:20230524T173708Z
UID:9618-1714914000-1714921200@staging.bethormiami.com
SUMMARY:Red Tent Book Club Meeting
DESCRIPTION:
URL:https://staging.bethormiami.com/event/red-tent-book-club-meeting-20/
CATEGORIES:Community
ATTACH;FMTTYPE=image/jpeg:https://staging.bethormiami.com/wp-content/uploads/2022/07/bookreview.jpg
END:VEVENT
BEGIN:VEVENT
DTSTART;TZID=America/New_York:20240504T101500
DTEND;TZID=America/New_York:20240504T113000
DTSTAMP:20260422T181004
CREATED:20230613T152850Z
LAST-MODIFIED:20230613T152850Z
UID:9862-1714817700-1714822200@staging.bethormiami.com
SUMMARY:Torah Study
DESCRIPTION:
URL:https://staging.bethormiami.com/event/torah-study-14/
CATEGORIES:Community
ATTACH;FMTTYPE=image/png:https://staging.bethormiami.com/wp-content/uploads/2022/04/Torah5.png
END:VEVENT
BEGIN:VEVENT
DTSTART;TZID=America/New_York:20240428T100000
DTEND;TZID=America/New_York:20240428T100000
DTSTAMP:20260422T181004
CREATED:20230613T151948Z
LAST-MODIFIED:20230621T144929Z
UID:9860-1714298400-1714298400@staging.bethormiami.com
SUMMARY:BeMitzvah at Health in the Hood
DESCRIPTION:
URL:https://staging.bethormiami.com/event/bemitzvah-at-health-in-the-hood-3/
CATEGORIES:Community
ATTACH;FMTTYPE=image/jpeg:https://staging.bethormiami.com/wp-content/uploads/2018/08/BO-Be-Mitzvah-postcard-element-1.jpg
END:VEVENT
BEGIN:VEVENT
DTSTART;TZID=America/New_York:20240423T180000
DTEND;TZID=America/New_York:20240423T203000
DTSTAMP:20260422T181004
CREATED:20230602T163642Z
LAST-MODIFIED:20230621T150300Z
UID:9716-1713895200-1713904200@staging.bethormiami.com
SUMMARY:Community Passover Seder at Beth Or
DESCRIPTION:
URL:https://staging.bethormiami.com/event/passover/
CATEGORIES:Community
ATTACH;FMTTYPE=image/png:https://staging.bethormiami.com/wp-content/uploads/2023/06/Happy-passover.png
END:VEVENT
BEGIN:VEVENT
DTSTART;VALUE=DATE:20240422
DTEND;VALUE=DATE:20240423
DTSTAMP:20260422T181004
CREATED:20230602T163432Z
LAST-MODIFIED:20230602T163432Z
UID:9711-1713744000-1713830399@staging.bethormiami.com
SUMMARY:Passover First Seder
DESCRIPTION:
URL:https://staging.bethormiami.com/event/passover-first-seder-2/
CATEGORIES:Community
ATTACH;FMTTYPE=image/png:https://staging.bethormiami.com/wp-content/uploads/2023/06/Happy-passover.png
END:VEVENT
BEGIN:VEVENT
DTSTART;TZID=America/New_York:20240415T193000
DTEND;TZID=America/New_York:20240415T193000
DTSTAMP:20260422T181004
CREATED:20230605T175615Z
LAST-MODIFIED:20230605T175615Z
UID:9774-1713209400-1713209400@staging.bethormiami.com
SUMMARY:Short Story – Book Talk
DESCRIPTION:
URL:https://staging.bethormiami.com/event/short-story-book-talk-13/
CATEGORIES:Community
ATTACH;FMTTYPE=image/jpeg:https://staging.bethormiami.com/wp-content/uploads/2022/07/bookreview.jpg
END:VEVENT
BEGIN:VEVENT
DTSTART;TZID=America/New_York:20240414T130000
DTEND;TZID=America/New_York:20240414T150000
DTSTAMP:20260422T181004
CREATED:20230524T173611Z
LAST-MODIFIED:20230524T173611Z
UID:9616-1713099600-1713106800@staging.bethormiami.com
SUMMARY:Red Tent Book Club Meeting
DESCRIPTION:
URL:https://staging.bethormiami.com/event/red-tent-book-club-meeting-19/
CATEGORIES:Community
ATTACH;FMTTYPE=image/jpeg:https://staging.bethormiami.com/wp-content/uploads/2022/07/bookreview.jpg
END:VEVENT
BEGIN:VEVENT
DTSTART;TZID=America/New_York:20240407T180000
DTEND;TZID=America/New_York:20240407T220000
DTSTAMP:20260422T181004
CREATED:20230621T150120Z
LAST-MODIFIED:20230621T150120Z
UID:9933-1712512800-1712527200@staging.bethormiami.com
SUMMARY:Community Dinner with Musical Guest/Sing Along
DESCRIPTION:
URL:https://staging.bethormiami.com/event/community-dinner-with-musical-guest-sing-along/
CATEGORIES:Community
END:VEVENT
BEGIN:VEVENT
DTSTART;TZID=America/New_York:20240407T100000
DTEND;TZID=America/New_York:20240407T150000
DTSTAMP:20260422T181004
CREATED:20230613T151752Z
LAST-MODIFIED:20230621T150022Z
UID:9857-1712484000-1712502000@staging.bethormiami.com
SUMMARY:Gallery of Light Workshop
DESCRIPTION:
URL:https://staging.bethormiami.com/event/gallery-of-light-workshop-and-community-dinner-with-musical-guest-sing-along/
CATEGORIES:Community
ATTACH;FMTTYPE=image/png:https://staging.bethormiami.com/wp-content/uploads/2022/08/Gallery-of-Light.png
END:VEVENT
BEGIN:VEVENT
DTSTART;TZID=America/New_York:20240406T101500
DTEND;TZID=America/New_York:20240406T113000
DTSTAMP:20260422T181004
CREATED:20230613T151554Z
LAST-MODIFIED:20230613T151554Z
UID:9855-1712398500-1712403000@staging.bethormiami.com
SUMMARY:Torah Study
DESCRIPTION:
URL:https://staging.bethormiami.com/event/torah-study-13/
CATEGORIES:Community
ATTACH;FMTTYPE=image/png:https://staging.bethormiami.com/wp-content/uploads/2022/04/Torah5.png
END:VEVENT
BEGIN:VEVENT
DTSTART;TZID=America/New_York:20240323T180000
DTEND;TZID=America/New_York:20240323T210000
DTSTAMP:20260422T181004
CREATED:20230613T150633Z
LAST-MODIFIED:20230621T145851Z
UID:9853-1711216800-1711227600@staging.bethormiami.com
SUMMARY:Purim Shpiel and Dinner
DESCRIPTION:
URL:https://staging.bethormiami.com/event/shabbat-purim-shpiel-and-inner/
CATEGORIES:Community
ATTACH;FMTTYPE=image/png:https://staging.bethormiami.com/wp-content/uploads/2022/08/purim.png
END:VEVENT
BEGIN:VEVENT
DTSTART;TZID=America/New_York:20240318T193000
DTEND;TZID=America/New_York:20240318T203000
DTSTAMP:20260422T181004
CREATED:20230605T175522Z
LAST-MODIFIED:20230707T172018Z
UID:9772-1710790200-1710793800@staging.bethormiami.com
SUMMARY:Short Story – Book Talk
DESCRIPTION:
URL:https://staging.bethormiami.com/event/short-story-book-talk-12/
CATEGORIES:Community
ATTACH;FMTTYPE=image/jpeg:https://staging.bethormiami.com/wp-content/uploads/2022/07/bookreview.jpg
END:VEVENT
BEGIN:VEVENT
DTSTART;TZID=America/New_York:20240317T080000
DTEND;TZID=America/New_York:20240317T150000
DTSTAMP:20260422T181004
CREATED:20230614T143550Z
LAST-MODIFIED:20230620T180338Z
UID:9907-1710662400-1710687600@staging.bethormiami.com
SUMMARY:Yard Sale
DESCRIPTION:
URL:https://staging.bethormiami.com/event/yard-sale-4/
CATEGORIES:Community
ATTACH;FMTTYPE=image/png:https://staging.bethormiami.com/wp-content/uploads/2022/08/yard-sale.png
END:VEVENT
BEGIN:VEVENT
DTSTART;TZID=America/New_York:20240310T130000
DTEND;TZID=America/New_York:20240310T150000
DTSTAMP:20260422T181004
CREATED:20230524T173459Z
LAST-MODIFIED:20230524T173459Z
UID:9614-1710075600-1710082800@staging.bethormiami.com
SUMMARY:Red Tent Book Club Meeting
DESCRIPTION:
URL:https://staging.bethormiami.com/event/red-tent-book-club-meeting-18/
CATEGORIES:Community
ATTACH;FMTTYPE=image/jpeg:https://staging.bethormiami.com/wp-content/uploads/2022/07/bookreview.jpg
END:VEVENT
BEGIN:VEVENT
DTSTART;TZID=America/New_York:20240310T100000
DTEND;TZID=America/New_York:20240310T100000
DTSTAMP:20260422T181004
CREATED:20230613T150420Z
LAST-MODIFIED:20230621T144848Z
UID:9851-1710064800-1710064800@staging.bethormiami.com
SUMMARY:BeMitzvah at Health in the Hood
DESCRIPTION:
URL:https://staging.bethormiami.com/event/bemitzvah-at-health-in-the-hood-2/
CATEGORIES:Community
ATTACH;FMTTYPE=image/jpeg:https://staging.bethormiami.com/wp-content/uploads/2018/08/BO-Be-Mitzvah-postcard-element-1.jpg
END:VEVENT
BEGIN:VEVENT
DTSTART;TZID=America/New_York:20240310T080000
DTEND;TZID=America/New_York:20240310T150000
DTSTAMP:20260422T181004
CREATED:20230614T143447Z
LAST-MODIFIED:20230620T180246Z
UID:9905-1710057600-1710082800@staging.bethormiami.com
SUMMARY:Yard Sale
DESCRIPTION:
URL:https://staging.bethormiami.com/event/yard-sale-3/
CATEGORIES:Community
ATTACH;FMTTYPE=image/png:https://staging.bethormiami.com/wp-content/uploads/2022/08/yard-sale.png
END:VEVENT
BEGIN:VEVENT
DTSTART;VALUE=DATE:20240310
DTEND;VALUE=DATE:20240311
DTSTAMP:20260422T181004
CREATED:20230602T162541Z
LAST-MODIFIED:20230602T162541Z
UID:9707-1710028800-1710115199@staging.bethormiami.com
SUMMARY:Daylight Savings Time starts
DESCRIPTION:
URL:https://staging.bethormiami.com/event/daylight-savings-time-starts/
CATEGORIES:Community
ATTACH;FMTTYPE=image/png:https://staging.bethormiami.com/wp-content/uploads/2023/06/Daylight-savings.png
END:VEVENT
BEGIN:VEVENT
DTSTART;TZID=America/New_York:20240302T101500
DTEND;TZID=America/New_York:20240302T110000
DTSTAMP:20260422T181004
CREATED:20230613T150321Z
LAST-MODIFIED:20230613T150321Z
UID:9849-1709374500-1709377200@staging.bethormiami.com
SUMMARY:Torah Study
DESCRIPTION:
URL:https://staging.bethormiami.com/event/torah-study-12/
CATEGORIES:Community
ATTACH;FMTTYPE=image/png:https://staging.bethormiami.com/wp-content/uploads/2022/04/Torah5.png
END:VEVENT
BEGIN:VEVENT
DTSTART;TZID=America/New_York:20240219T193000
DTEND;TZID=America/New_York:20240219T203000
DTSTAMP:20260422T181004
CREATED:20230605T175433Z
LAST-MODIFIED:20230707T171932Z
UID:9770-1708371000-1708374600@staging.bethormiami.com
SUMMARY:Short Story – Book Talk
DESCRIPTION:
URL:https://staging.bethormiami.com/event/short-story-book-talk-11/
CATEGORIES:Community
ATTACH;FMTTYPE=image/jpeg:https://staging.bethormiami.com/wp-content/uploads/2022/07/bookreview.jpg
END:VEVENT
END:VCALENDAR