BEGIN:VCALENDAR
VERSION:2.0
PRODID:-//Beth Or Miami - ECPv6.3.2//NONSGML v1.0//EN
CALSCALE:GREGORIAN
METHOD:PUBLISH
X-WR-CALNAME:Beth Or Miami
X-ORIGINAL-URL:https://staging.bethormiami.com
X-WR-CALDESC:Events for Beth Or Miami
REFRESH-INTERVAL;VALUE=DURATION:PT1H
X-Robots-Tag:noindex
X-PUBLISHED-TTL:PT1H
BEGIN:VTIMEZONE
TZID:America/New_York
BEGIN:DAYLIGHT
TZOFFSETFROM:-0500
TZOFFSETTO:-0400
TZNAME:EDT
DTSTART:20230312T070000
END:DAYLIGHT
BEGIN:STANDARD
TZOFFSETFROM:-0400
TZOFFSETTO:-0500
TZNAME:EST
DTSTART:20231105T060000
END:STANDARD
END:VTIMEZONE
BEGIN:VEVENT
DTSTART;TZID=America/New_York:20230818T180000
DTEND;TZID=America/New_York:20230818T180000
DTSTAMP:20260423T053111
CREATED:20230822T145803Z
LAST-MODIFIED:20230822T150206Z
UID:9988-1692381600-1692381600@staging.bethormiami.com
SUMMARY:Shabbat Service with Rabbi Robyn Fisher
DESCRIPTION:https://us02web.zoom.us/meeting/register/tZIodOGuqDooHdekpX3wyWYKjD0KJKdHH97O
URL:https://staging.bethormiami.com/event/shabbat-service-with-rabbi-robyn-fisher-18/
CATEGORIES:Community
ATTACH;FMTTYPE=image/png:https://staging.bethormiami.com/wp-content/uploads/2020/12/Shabbat.png
END:VEVENT
BEGIN:VEVENT
DTSTART;TZID=America/New_York:20230813T130000
DTEND;TZID=America/New_York:20230813T150000
DTSTAMP:20260423T053111
CREATED:20220726T171720Z
LAST-MODIFIED:20220811T151737Z
UID:9103-1691931600-1691938800@staging.bethormiami.com
SUMMARY:Red Tent Book Club Meeting
DESCRIPTION:The club will review:\nLincoln Highway by Amor Towles
URL:https://staging.bethormiami.com/event/red-tent-book-club-meeting-11/
LOCATION:Beth Or\, 11715 SW 87th Ave\, Miami\, FL 33176\, USA\, 8901 SW 87th Ct\, United States
CATEGORIES:Community
ATTACH;FMTTYPE=image/jpeg:https://staging.bethormiami.com/wp-content/uploads/2022/07/bookreview.jpg
END:VEVENT
BEGIN:VEVENT
DTSTART;TZID=America/New_York:20230811T193000
DTEND;TZID=America/New_York:20230811T193000
DTSTAMP:20260423T053111
CREATED:20230822T145651Z
LAST-MODIFIED:20230822T145651Z
UID:9985-1691782200-1691782200@staging.bethormiami.com
SUMMARY:Shabbat Service with Kathy Fisler
DESCRIPTION:https://us02web.zoom.us/meeting/register/tZIodOGuqDooHdekpX3wyWYKjD0KJKdHH97O
URL:https://staging.bethormiami.com/event/shabbat-service-with-kathy-fisler-2/
CATEGORIES:Community
ATTACH;FMTTYPE=image/png:https://staging.bethormiami.com/wp-content/uploads/2020/12/Shabbat.png
END:VEVENT
BEGIN:VEVENT
DTSTART;TZID=America/New_York:20230808T190000
DTEND;TZID=America/New_York:20230808T190000
DTSTAMP:20260423T053111
CREATED:20230622T165851Z
LAST-MODIFIED:20230622T170323Z
UID:9940-1691521200-1691521200@staging.bethormiami.com
SUMMARY:Climate Change Presentation
DESCRIPTION:Please contact Ellen Siegel at 305.332.5544 or Boodog301@bellsouth.net or e.siegel@ufl.edu
URL:https://staging.bethormiami.com/event/climate-change-presentation-2/
CATEGORIES:Community
END:VEVENT
BEGIN:VEVENT
DTSTART;TZID=America/New_York:20230804T193000
DTEND;TZID=America/New_York:20230804T193000
DTSTAMP:20260423T053111
CREATED:20230822T144402Z
LAST-MODIFIED:20230822T145545Z
UID:9983-1691177400-1691177400@staging.bethormiami.com
SUMMARY:Shabbat Services with Bette & Rose Spector
DESCRIPTION:https://us02web.zoom.us/meeting/register/tZIodOGuqDooHdekpX3wyWYKjD0KJKdHH97O
URL:https://staging.bethormiami.com/event/shabbat-services-with-bette-rose-spector-2/
CATEGORIES:Community
ATTACH;FMTTYPE=image/png:https://staging.bethormiami.com/wp-content/uploads/2020/12/Shabbat.png
END:VEVENT
BEGIN:VEVENT
DTSTART;TZID=America/New_York:20230728T203000
DTEND;TZID=America/New_York:20230728T213000
DTSTAMP:20260423T053111
CREATED:20230613T163139Z
LAST-MODIFIED:20230613T163139Z
UID:9889-1690576200-1690579800@staging.bethormiami.com
SUMMARY:Shabbat Service with Jen & Rob Berse
DESCRIPTION:https://us02web.zoom.us/meeting/register/tZIodOGuqDooHdekpX3wyWYKjD0KJKdHH97O
URL:https://staging.bethormiami.com/event/shabbat-service-with-jen-rob-berse/
CATEGORIES:Community
ATTACH;FMTTYPE=image/png:https://staging.bethormiami.com/wp-content/uploads/2020/12/Shabbat.png
END:VEVENT
BEGIN:VEVENT
DTSTART;TZID=America/New_York:20230726T190000
DTEND;TZID=America/New_York:20230726T210000
DTSTAMP:20260423T053111
CREATED:20230601T172406Z
LAST-MODIFIED:20230620T175440Z
UID:9642-1690398000-1690405200@staging.bethormiami.com
SUMMARY:Tisha B'Av community-wide service at Temple Judea
DESCRIPTION:
URL:https://staging.bethormiami.com/event/tisha-bav-2/
CATEGORIES:Community
ATTACH;FMTTYPE=image/png:https://staging.bethormiami.com/wp-content/uploads/2023/06/Tisha-Bav.png
END:VEVENT
BEGIN:VEVENT
DTSTART;TZID=America/New_York:20230725T190000
DTEND;TZID=America/New_York:20230725T190000
DTSTAMP:20260423T053111
CREATED:20230622T165749Z
LAST-MODIFIED:20230622T170247Z
UID:9937-1690311600-1690311600@staging.bethormiami.com
SUMMARY:Climate Change Presentation
DESCRIPTION:Please contact Ellen Siegel at 305.332.5544 or Boodog301@bellsouth.net or e.siegel@ufl.edu
URL:https://staging.bethormiami.com/event/climate-change-presentation/
CATEGORIES:Community
END:VEVENT
BEGIN:VEVENT
DTSTART;TZID=America/New_York:20230721T180000
DTEND;TZID=America/New_York:20230721T190000
DTSTAMP:20260423T053111
CREATED:20230613T171237Z
LAST-MODIFIED:20230613T171237Z
UID:9897-1689962400-1689966000@staging.bethormiami.com
SUMMARY:Shabbat Service with Rabbi Robyn Fisher
DESCRIPTION:https://us02web.zoom.us/meeting/register/tZIodOGuqDooHdekpX3wyWYKjD0KJKdHH97O
URL:https://staging.bethormiami.com/event/shabbat-service-with-rabbi-robyn-fisher-16/
CATEGORIES:Community
ATTACH;FMTTYPE=image/png:https://staging.bethormiami.com/wp-content/uploads/2020/12/Shabbat.png
END:VEVENT
BEGIN:VEVENT
DTSTART;TZID=America/New_York:20230717T193000
DTEND;TZID=America/New_York:20230717T193000
DTSTAMP:20260423T053111
CREATED:20230605T174857Z
LAST-MODIFIED:20230605T174857Z
UID:9756-1689622200-1689622200@staging.bethormiami.com
SUMMARY:Short Story – Book Talk
DESCRIPTION:
URL:https://staging.bethormiami.com/event/short-story-book-talk-4/
CATEGORIES:Community
ATTACH;FMTTYPE=image/jpeg:https://staging.bethormiami.com/wp-content/uploads/2022/07/bookreview.jpg
END:VEVENT
BEGIN:VEVENT
DTSTART;TZID=America/New_York:20230714T193000
DTEND;TZID=America/New_York:20230714T203000
DTSTAMP:20260423T053111
CREATED:20230613T163031Z
LAST-MODIFIED:20230613T163031Z
UID:9887-1689363000-1689366600@staging.bethormiami.com
SUMMARY:Shabbat Service with Jeff Tucker
DESCRIPTION:https://us02web.zoom.us/meeting/register/tZIodOGuqDooHdekpX3wyWYKjD0KJKdHH97O
URL:https://staging.bethormiami.com/event/shabbat-service-with-jeff-tucker-2/
CATEGORIES:Community
ATTACH;FMTTYPE=image/png:https://staging.bethormiami.com/wp-content/uploads/2020/12/Shabbat.png
END:VEVENT
BEGIN:VEVENT
DTSTART;TZID=America/New_York:20230709T130000
DTEND;TZID=America/New_York:20230709T150000
DTSTAMP:20260423T053111
CREATED:20220726T171531Z
LAST-MODIFIED:20220811T151814Z
UID:9101-1688907600-1688914800@staging.bethormiami.com
SUMMARY:Red Tent Book Club Meeting
DESCRIPTION:The club will review:\nAn Observant Wife by Naomi Ragen
URL:https://staging.bethormiami.com/event/red-tent-book-club-meeting-10/
LOCATION:Beth Or\, 11715 SW 87th Ave\, Miami\, FL 33176\, USA\, 8901 SW 87th Ct\, United States
CATEGORIES:Community
ATTACH;FMTTYPE=image/jpeg:https://staging.bethormiami.com/wp-content/uploads/2022/07/bookreview.jpg
END:VEVENT
BEGIN:VEVENT
DTSTART;TZID=America/New_York:20230707T180000
DTEND;TZID=America/New_York:20230707T190000
DTSTAMP:20260423T053111
CREATED:20230613T170833Z
LAST-MODIFIED:20230613T170833Z
UID:9895-1688752800-1688756400@staging.bethormiami.com
SUMMARY:Shabbat Service with Rabbi Robyn Fisher
DESCRIPTION:https://us02web.zoom.us/meeting/register/tZIodOGuqDooHdekpX3wyWYKjD0KJKdHH97O
URL:https://staging.bethormiami.com/event/shabbat-service-with-rabbi-robyn-fisher-15/
CATEGORIES:Community
ATTACH;FMTTYPE=image/png:https://staging.bethormiami.com/wp-content/uploads/2020/12/Shabbat.png
END:VEVENT
BEGIN:VEVENT
DTSTART;VALUE=DATE:20230704
DTEND;VALUE=DATE:20230705
DTSTAMP:20260423T053111
CREATED:20230601T172045Z
LAST-MODIFIED:20230601T172045Z
UID:9638-1688428800-1688515199@staging.bethormiami.com
SUMMARY:Independence Day
DESCRIPTION:
URL:https://staging.bethormiami.com/event/independence-day/
CATEGORIES:Community
ATTACH;FMTTYPE=image/png:https://staging.bethormiami.com/wp-content/uploads/2023/06/Independence-Day.png
END:VEVENT
BEGIN:VEVENT
DTSTART;TZID=America/New_York:20230630T180000
DTEND;TZID=America/New_York:20230630T193000
DTSTAMP:20260423T053111
CREATED:20230613T171712Z
LAST-MODIFIED:20230621T142153Z
UID:9902-1688148000-1688153400@staging.bethormiami.com
SUMMARY:Shabbat Service with Rabbi Robyn Fisher
DESCRIPTION:https://us02web.zoom.us/meeting/register/tZIodOGuqDooHdekpX3wyWYKjD0KJKdHH97O
URL:https://staging.bethormiami.com/event/shabbat-service-with-mel-tenen-3/
CATEGORIES:Community
ATTACH;FMTTYPE=image/png:https://staging.bethormiami.com/wp-content/uploads/2020/12/Shabbat.png
END:VEVENT
BEGIN:VEVENT
DTSTART;TZID=America/New_York:20230624T100000
DTEND;TZID=America/New_York:20230624T113000
DTSTAMP:20260423T053111
CREATED:20220826T171604Z
LAST-MODIFIED:20220826T171604Z
UID:9412-1687600800-1687606200@staging.bethormiami.com
SUMMARY:Torah Study with Rabbi Robyn. In-Person and Virtual
DESCRIPTION:
URL:https://staging.bethormiami.com/event/torah-study-with-rabbi-robyn-in-person-and-virtual-2023-06-24/
LOCATION:Beth Or\, 11715 SW 87th Ave\, Miami\, FL 33176\, USA\, 8901 SW 87th Ct\, United States
CATEGORIES:Community
ATTACH;FMTTYPE=image/jpeg:https://staging.bethormiami.com/wp-content/uploads/2022/08/Final1.jpg
END:VEVENT
BEGIN:VEVENT
DTSTART;TZID=America/New_York:20230623T193000
DTEND;TZID=America/New_York:20230623T210000
DTSTAMP:20260423T053111
CREATED:20230613T162920Z
LAST-MODIFIED:20230621T141957Z
UID:9884-1687548600-1687554000@staging.bethormiami.com
SUMMARY:Shabbat Service with Mel Tenen
DESCRIPTION:https://us02web.zoom.us/meeting/register/tZIodOGuqDooHdekpX3wyWYKjD0KJKdHH97O
URL:https://staging.bethormiami.com/event/shabbat-service-with-mel-tenen-2/
CATEGORIES:Community
ATTACH;FMTTYPE=image/png:https://staging.bethormiami.com/wp-content/uploads/2020/12/Shabbat.png
END:VEVENT
BEGIN:VEVENT
DTSTART;TZID=America/New_York:20230622T190000
DTEND;TZID=America/New_York:20230622T190000
DTSTAMP:20260423T053111
CREATED:20230530T142301Z
LAST-MODIFIED:20230612T163540Z
UID:9635-1687460400-1687460400@staging.bethormiami.com
SUMMARY:TBO Annual Meeting
DESCRIPTION:
URL:https://staging.bethormiami.com/event/tbo-annual-meeting/
CATEGORIES:Community
ATTACH;FMTTYPE=image/jpeg:https://staging.bethormiami.com/wp-content/uploads/2022/04/101575.jpg
END:VEVENT
BEGIN:VEVENT
DTSTART;TZID=America/New_York:20230619T193000
DTEND;TZID=America/New_York:20230619T193000
DTSTAMP:20260423T053111
CREATED:20220815T153408Z
LAST-MODIFIED:20220815T153408Z
UID:9420-1687203000-1687203000@staging.bethormiami.com
SUMMARY:Short Story - Book Talk
DESCRIPTION:
URL:https://staging.bethormiami.com/event/short-story-book-talk-2-2023-06-19/
LOCATION:Beth Or\, 11715 SW 87th Ave\, Miami\, FL 33176\, USA\, 8901 SW 87th Ct\, United States
CATEGORIES:Community
ATTACH;FMTTYPE=image/jpeg:https://staging.bethormiami.com/wp-content/uploads/2022/07/bookreview.jpg
END:VEVENT
BEGIN:VEVENT
DTSTART;TZID=America/New_York:20230616T193000
DTEND;TZID=America/New_York:20230616T203000
DTSTAMP:20260423T053111
CREATED:20230613T161315Z
LAST-MODIFIED:20230613T162350Z
UID:9882-1686943800-1686947400@staging.bethormiami.com
SUMMARY:Shabbat Service with Adrienne & Howard Hochman
DESCRIPTION:https://us02web.zoom.us/meeting/register/tZIodOGuqDooHdekpX3wyWYKjD0KJKdHH97O
URL:https://staging.bethormiami.com/event/shabbat-service-with-adrienne-howard-hochman/
CATEGORIES:Community
ATTACH;FMTTYPE=image/png:https://staging.bethormiami.com/wp-content/uploads/2020/12/Shabbat.png
END:VEVENT
BEGIN:VEVENT
DTSTART;TZID=America/New_York:20230611T130000
DTEND;TZID=America/New_York:20230611T150000
DTSTAMP:20260423T053111
CREATED:20220726T171356Z
LAST-MODIFIED:20220811T151838Z
UID:9099-1686488400-1686495600@staging.bethormiami.com
SUMMARY:Red Tent Book Club Meeting
DESCRIPTION:The club will review:\nSignature of All Things by Elizabeth Gilbert
URL:https://staging.bethormiami.com/event/red-tent-book-club-meeting-9/
LOCATION:Beth Or\, 11715 SW 87th Ave\, Miami\, FL 33176\, USA\, 8901 SW 87th Ct\, United States
CATEGORIES:Community
ATTACH;FMTTYPE=image/jpeg:https://staging.bethormiami.com/wp-content/uploads/2022/07/bookreview.jpg
END:VEVENT
BEGIN:VEVENT
DTSTART;TZID=America/New_York:20230609T193000
DTEND;TZID=America/New_York:20230609T203000
DTSTAMP:20260423T053111
CREATED:20230613T161203Z
LAST-MODIFIED:20230613T161203Z
UID:9880-1686339000-1686342600@staging.bethormiami.com
SUMMARY:Shabbat Services with Ossie Hanauer
DESCRIPTION:https://us02web.zoom.us/meeting/register/tZIodOGuqDooHdekpX3wyWYKjD0KJKdHH97O
URL:https://staging.bethormiami.com/event/shabbat-services-with-ossie-hanauer/
CATEGORIES:Community
ATTACH;FMTTYPE=image/png:https://staging.bethormiami.com/wp-content/uploads/2020/12/Shabbat.png
END:VEVENT
BEGIN:VEVENT
DTSTART;TZID=America/New_York:20230602T180000
DTEND;TZID=America/New_York:20230602T190000
DTSTAMP:20260423T053111
CREATED:20230613T171555Z
LAST-MODIFIED:20230613T171555Z
UID:9899-1685728800-1685732400@staging.bethormiami.com
SUMMARY:Shabbat Service with Rabbi Robyn Fisher
DESCRIPTION:https://us02web.zoom.us/meeting/register/tZIodOGuqDooHdekpX3wyWYKjD0KJKdHH97O
URL:https://staging.bethormiami.com/event/shabbat-service-with-rabbi-robyn-fisher-17/
CATEGORIES:Community
ATTACH;FMTTYPE=image/png:https://staging.bethormiami.com/wp-content/uploads/2020/12/Shabbat.png
END:VEVENT
BEGIN:VEVENT
DTSTART;TZID=America/New_York:20230526T180000
DTEND;TZID=America/New_York:20230526T190000
DTSTAMP:20260423T053111
CREATED:20230613T170711Z
LAST-MODIFIED:20230613T170711Z
UID:9893-1685124000-1685127600@staging.bethormiami.com
SUMMARY:Shabbat Service with Rabbi Robyn Fisher
DESCRIPTION:https://us02web.zoom.us/meeting/register/tZIodOGuqDooHdekpX3wyWYKjD0KJKdHH97O
URL:https://staging.bethormiami.com/event/shabbat-service-with-rabbi-robyn-fisher-14/
CATEGORIES:Community
ATTACH;FMTTYPE=image/png:https://staging.bethormiami.com/wp-content/uploads/2020/12/Shabbat.png
END:VEVENT
BEGIN:VEVENT
DTSTART;VALUE=DATE:20230526
DTEND;VALUE=DATE:20230527
DTSTAMP:20260423T053111
CREATED:20220811T175249Z
LAST-MODIFIED:20220811T175249Z
UID:9269-1685059200-1685145599@staging.bethormiami.com
SUMMARY:Shavout Shabbat & Dairy Oneg
DESCRIPTION:
URL:https://staging.bethormiami.com/event/shavout-shabbat-dairy-oneg/
LOCATION:Beth Or\, 11715 SW 87th Ave\, Miami\, FL 33176\, USA\, 8901 SW 87th Ct\, United States
CATEGORIES:Community
ATTACH;FMTTYPE=image/png:https://staging.bethormiami.com/wp-content/uploads/2022/08/shavout.png
END:VEVENT
BEGIN:VEVENT
DTSTART;TZID=America/New_York:20230520T100000
DTEND;TZID=America/New_York:20230520T113000
DTSTAMP:20260423T053111
CREATED:20220826T171604Z
LAST-MODIFIED:20220826T171604Z
UID:9411-1684576800-1684582200@staging.bethormiami.com
SUMMARY:Torah Study with Rabbi Robyn. In-Person and Virtual
DESCRIPTION:
URL:https://staging.bethormiami.com/event/torah-study-with-rabbi-robyn-in-person-and-virtual-2023-05-20/
LOCATION:Beth Or\, 11715 SW 87th Ave\, Miami\, FL 33176\, USA\, 8901 SW 87th Ct\, United States
CATEGORIES:Community
ATTACH;FMTTYPE=image/jpeg:https://staging.bethormiami.com/wp-content/uploads/2022/08/Final1.jpg
END:VEVENT
BEGIN:VEVENT
DTSTART;TZID=America/New_York:20230519T193000
DTEND;TZID=America/New_York:20230519T203000
DTSTAMP:20260423T053111
CREATED:20230613T160929Z
LAST-MODIFIED:20230613T160929Z
UID:9878-1684524600-1684528200@staging.bethormiami.com
SUMMARY:Shabbat Service with Kathy Fisler & Pat Barron
DESCRIPTION:https://us02web.zoom.us/meeting/register/tZIodOGuqDooHdekpX3wyWYKjD0KJKdHH97O
URL:https://staging.bethormiami.com/event/shabbat-service-with-kathy-fisler-pat-barron-2/
CATEGORIES:Community
ATTACH;FMTTYPE=image/png:https://staging.bethormiami.com/wp-content/uploads/2020/12/Shabbat.png
END:VEVENT
BEGIN:VEVENT
DTSTART;TZID=America/New_York:20230516T080000
DTEND;TZID=America/New_York:20230516T170000
DTSTAMP:20260423T053111
CREATED:20220802T164126Z
LAST-MODIFIED:20220802T164126Z
UID:9120-1684224000-1684256400@staging.bethormiami.com
SUMMARY:PACT South Dade Celebration
DESCRIPTION:
URL:https://staging.bethormiami.com/event/pact-south-dade-celebration/
LOCATION:Beth Or\, 11715 SW 87th Ave\, Miami\, FL 33176\, USA\, 8901 SW 87th Ct\, United States
CATEGORIES:Community
ATTACH;FMTTYPE=image/png:https://staging.bethormiami.com/wp-content/uploads/2022/05/pact.png
END:VEVENT
BEGIN:VEVENT
DTSTART;VALUE=DATE:20230516
DTEND;VALUE=DATE:20230517
DTSTAMP:20260423T053111
CREATED:20220701T172628Z
LAST-MODIFIED:20220701T172628Z
UID:9049-1684195200-1684281599@staging.bethormiami.com
SUMMARY:Art Talk
DESCRIPTION:Featuring the Isaiah Scholars of 2023
URL:https://staging.bethormiami.com/event/art-talk/
LOCATION:Beth Or\, 11715 SW 87th Ave\, Miami\, FL 33176\, USA\, 8901 SW 87th Ct\, United States
CATEGORIES:Community
END:VEVENT
BEGIN:VEVENT
DTSTART;TZID=America/New_York:20230515T193000
DTEND;TZID=America/New_York:20230515T193000
DTSTAMP:20260423T053111
CREATED:20220815T153408Z
LAST-MODIFIED:20220815T153408Z
UID:9419-1684179000-1684179000@staging.bethormiami.com
SUMMARY:Short Story - Book Talk
DESCRIPTION:
URL:https://staging.bethormiami.com/event/short-story-book-talk-2-2023-05-15/
LOCATION:Beth Or\, 11715 SW 87th Ave\, Miami\, FL 33176\, USA\, 8901 SW 87th Ct\, United States
CATEGORIES:Community
ATTACH;FMTTYPE=image/jpeg:https://staging.bethormiami.com/wp-content/uploads/2022/07/bookreview.jpg
END:VEVENT
END:VCALENDAR