BEGIN:VCALENDAR
VERSION:2.0
PRODID:-//Beth Or Miami - ECPv6.3.2//NONSGML v1.0//EN
CALSCALE:GREGORIAN
METHOD:PUBLISH
X-WR-CALNAME:Beth Or Miami
X-ORIGINAL-URL:https://staging.bethormiami.com
X-WR-CALDESC:Events for Beth Or Miami
REFRESH-INTERVAL;VALUE=DURATION:PT1H
X-Robots-Tag:noindex
X-PUBLISHED-TTL:PT1H
BEGIN:VTIMEZONE
TZID:America/New_York
BEGIN:DAYLIGHT
TZOFFSETFROM:-0500
TZOFFSETTO:-0400
TZNAME:EDT
DTSTART:20200308T070000
END:DAYLIGHT
BEGIN:STANDARD
TZOFFSETFROM:-0400
TZOFFSETTO:-0500
TZNAME:EST
DTSTART:20201101T060000
END:STANDARD
BEGIN:DAYLIGHT
TZOFFSETFROM:-0500
TZOFFSETTO:-0400
TZNAME:EDT
DTSTART:20210314T070000
END:DAYLIGHT
BEGIN:STANDARD
TZOFFSETFROM:-0400
TZOFFSETTO:-0500
TZNAME:EST
DTSTART:20211107T060000
END:STANDARD
BEGIN:DAYLIGHT
TZOFFSETFROM:-0500
TZOFFSETTO:-0400
TZNAME:EDT
DTSTART:20220313T070000
END:DAYLIGHT
BEGIN:STANDARD
TZOFFSETFROM:-0400
TZOFFSETTO:-0500
TZNAME:EST
DTSTART:20221106T060000
END:STANDARD
END:VTIMEZONE
BEGIN:VEVENT
DTSTART;TZID=America/New_York:20220515T103000
DTEND;TZID=America/New_York:20220515T133000
DTSTAMP:20260424T095529
CREATED:20220413T153856Z
LAST-MODIFIED:20220413T153856Z
UID:8825-1652610600-1652621400@staging.bethormiami.com
SUMMARY:GL\, McKinley's Closing Reception
DESCRIPTION:
URL:https://staging.bethormiami.com/event/gl-mckinleys-closing-reception/
LOCATION:Beth Or\, 11715 SW 87th Ave\, Miami\, FL 33176\, USA\, 8901 SW 87th Ct\, United States
CATEGORIES:Community,Special Invitational Event
ATTACH;FMTTYPE=image/jpeg:https://staging.bethormiami.com/wp-content/uploads/2022/04/MCKINLEYNODS-small.jpg
END:VEVENT
BEGIN:VEVENT
DTSTART;TZID=America/New_York:20220501T180000
DTEND;TZID=America/New_York:20220501T190000
DTSTAMP:20260424T095529
CREATED:20220429T184056Z
LAST-MODIFIED:20220429T184056Z
UID:8934-1651428000-1651431600@staging.bethormiami.com
SUMMARY:Holocaust Memorial
DESCRIPTION:Join us in person at 1933-1945 Meridian Av. Miami Beach
URL:https://staging.bethormiami.com/event/holocaust-memorial/
LOCATION:Beth Or\, 11715 SW 87th Ave\, Miami\, FL 33176\, USA\, 8901 SW 87th Ct\, United States
CATEGORIES:Community,Special Invitational Event
ATTACH;FMTTYPE=image/png:https://staging.bethormiami.com/wp-content/uploads/2022/04/holocaust-memorial2.png
END:VEVENT
BEGIN:VEVENT
DTSTART;TZID=America/New_York:20220403T180000
DTEND;TZID=America/New_York:20220403T210000
DTSTAMP:20260424T095529
CREATED:20220308T173427Z
LAST-MODIFIED:20220308T173427Z
UID:8690-1649008800-1649019600@staging.bethormiami.com
SUMMARY:Garden Party Celebrating Beth Or's Future
DESCRIPTION:This special dinner will begin at 6 PM on April 3.  Members have received a personal invitation for this event.
URL:https://staging.bethormiami.com/event/garden-party-celebrating-beth-ors-future/
LOCATION:Beth Or\, 11715 SW 87th Ave\, Miami\, FL 33176\, USA\, 8901 SW 87th Ct\, United States
CATEGORIES:Community,Special Invitational Event
ATTACH;FMTTYPE=image/jpeg:https://staging.bethormiami.com/wp-content/uploads/2021/08/Main-Hero-min.jpg
END:VEVENT
BEGIN:VEVENT
DTSTART;TZID=America/New_York:20220312T191500
DTEND;TZID=America/New_York:20220312T210000
DTSTAMP:20260424T095529
CREATED:20220308T165606Z
LAST-MODIFIED:20220308T165606Z
UID:8655-1647112500-1647118800@staging.bethormiami.com
SUMMARY:Gallery of Light Virtual Opening
DESCRIPTION:Return with us to the nostalgic and radical days of Miami Beach in the 1960’s and 70’s through the rare and stunning photos in the Dr. Marvin Dunn Collection at FIU. With Special Guest Ed Christian.\nRegister in advance for this meeting: After registering\, you will receive a confirmation email containing information about joining the meeting.\nhttps://us02web.zoom.us/meeting/register/tZ0tcuuhrDgsH9TLytD8ihX84hp9grRYe_ix
URL:https://staging.bethormiami.com/event/gallery-of-light-virtual-opening-2/
LOCATION:Beth Or\, 11715 SW 87th Ave\, Miami\, FL 33176\, USA\, 8901 SW 87th Ct\, United States
CATEGORIES:Community,Special Invitational Event
ATTACH;FMTTYPE=image/jpeg:https://staging.bethormiami.com/wp-content/uploads/2022/03/d5e0da_f214c2413a014a55a7d4c7a2189da7c1mv2.jpg
END:VEVENT
BEGIN:VEVENT
DTSTART;TZID=America/New_York:20220119T190000
DTEND;TZID=America/New_York:20220119T200000
DTSTAMP:20260424T095529
CREATED:20211022T012219Z
LAST-MODIFIED:20211022T012219Z
UID:8613-1642618800-1642622400@staging.bethormiami.com
SUMMARY:Beth Or PACT Network Members Meeting
DESCRIPTION:Our PACT Network Members will meet tonight via zoom to discuss the upcoming PACT events for the remaining of the year. A zoom link will be sent to all Network members prior to January 19.
URL:https://staging.bethormiami.com/event/beth-or-pact-network-members-meeting/
LOCATION:Beth Or\, 11715 SW 87th Ave\, Miami\, FL 33176\, USA\, 8901 SW 87th Ct\, United States
CATEGORIES:Community,Special Invitational Event
ATTACH;FMTTYPE=image/jpeg:https://staging.bethormiami.com/wp-content/uploads/2021/02/images-9.jpg
END:VEVENT
BEGIN:VEVENT
DTSTART;TZID=America/New_York:20211025T190000
DTEND;TZID=America/New_York:20211025T210000
DTSTAMP:20260424T095529
CREATED:20211010T214850Z
LAST-MODIFIED:20211010T214850Z
UID:8611-1635188400-1635195600@staging.bethormiami.com
SUMMARY:PACT Zoom Annual Meeting
DESCRIPTION:Beth Or PACT Network members are invited to attend this zoom event where we decide the next new focus topic for this year. Network members will receive specific details for this important event.  Meeting will be held from 7 PM – 9 PM.  Let Justice Roll!!
URL:https://staging.bethormiami.com/event/pact-zoom-annual-meeting/
LOCATION:Beth Or\, 11715 SW 87th Ave\, Miami\, FL 33176\, USA\, 8901 SW 87th Ct\, United States
CATEGORIES:Community,Special Invitational Event
ATTACH;FMTTYPE=image/jpeg:https://staging.bethormiami.com/wp-content/uploads/2021/02/images-9.jpg
END:VEVENT
BEGIN:VEVENT
DTSTART;TZID=America/New_York:20201024T183000
DTEND;TZID=America/New_York:20201024T213000
DTSTAMP:20260424T095529
CREATED:20200514T175952Z
LAST-MODIFIED:20200903T234255Z
UID:6344-1603564200-1603575000@staging.bethormiami.com
SUMMARY:Be Mitzvah Service and Celebration
DESCRIPTION:Beth Or’s Be Mitzvah students and their families share a service and celebration.
URL:https://staging.bethormiami.com/event/be-mitzvah-service-and-celebration/
LOCATION:Beth Or\, 11715 SW 87th Ave\, Miami\, FL 33176\, USA\, 8901 SW 87th Ct\, United States
CATEGORIES:Special Invitational Event
ATTACH;FMTTYPE=image/jpeg:https://staging.bethormiami.com/wp-content/uploads/2018/08/BO-Be-Mitzvah-postcard-element.jpg
END:VEVENT
END:VCALENDAR