BEGIN:VCALENDAR
VERSION:2.0
PRODID:-//Beth Or Miami - ECPv6.3.2//NONSGML v1.0//EN
CALSCALE:GREGORIAN
METHOD:PUBLISH
X-ORIGINAL-URL:https://staging.bethormiami.com
X-WR-CALDESC:Events for Beth Or Miami
REFRESH-INTERVAL;VALUE=DURATION:PT1H
X-Robots-Tag:noindex
X-PUBLISHED-TTL:PT1H
BEGIN:VTIMEZONE
TZID:America/New_York
BEGIN:DAYLIGHT
TZOFFSETFROM:-0500
TZOFFSETTO:-0400
TZNAME:EDT
DTSTART:20200308T070000
END:DAYLIGHT
BEGIN:STANDARD
TZOFFSETFROM:-0400
TZOFFSETTO:-0500
TZNAME:EST
DTSTART:20201101T060000
END:STANDARD
BEGIN:DAYLIGHT
TZOFFSETFROM:-0500
TZOFFSETTO:-0400
TZNAME:EDT
DTSTART:20210314T070000
END:DAYLIGHT
BEGIN:STANDARD
TZOFFSETFROM:-0400
TZOFFSETTO:-0500
TZNAME:EST
DTSTART:20211107T060000
END:STANDARD
END:VTIMEZONE
BEGIN:VEVENT
DTSTART;TZID=America/New_York:20210630T190000
DTEND;TZID=America/New_York:20210630T210000
DTSTAMP:20260424T200935
CREATED:20200514T193306Z
LAST-MODIFIED:20200811T172921Z
UID:6404-1625079600-1625086800@staging.bethormiami.com
SUMMARY:Executive Committee Meeting
DESCRIPTION:Zoom information will be transmitted to Executive Committee members prior to the meeting.
URL:https://staging.bethormiami.com/event/executive-committee-meeting-12/
LOCATION:Beth Or\, 11715 SW 87th Ave\, Miami\, FL 33176\, USA\, 8901 SW 87th Ct\, United States
CATEGORIES:Governance
END:VEVENT
BEGIN:VEVENT
DTSTART;TZID=America/New_York:20210526T190000
DTEND;TZID=America/New_York:20210526T210000
DTSTAMP:20260424T200935
CREATED:20200514T175327Z
LAST-MODIFIED:20200514T175327Z
UID:6340-1622055600-1622062800@staging.bethormiami.com
SUMMARY:Board of Directors Meeting
DESCRIPTION:
URL:https://staging.bethormiami.com/event/board-of-directors-meeting-10/
LOCATION:Beth Or\, 11715 SW 87th Ave\, Miami\, FL 33176\, USA\, 8901 SW 87th Ct\, United States
CATEGORIES:Governance
END:VEVENT
BEGIN:VEVENT
DTSTART;TZID=America/New_York:20210428T190000
DTEND;TZID=America/New_York:20210428T210000
DTSTAMP:20260424T200935
CREATED:20200514T193147Z
LAST-MODIFIED:20200811T172811Z
UID:6402-1619636400-1619643600@staging.bethormiami.com
SUMMARY:Executive Committee Meeting
DESCRIPTION:Zoom information will be transmitted to Executive Committee members prior to the meeting.
URL:https://staging.bethormiami.com/event/executive-committee-meeting-11/
LOCATION:Beth Or\, 11715 SW 87th Ave\, Miami\, FL 33176\, USA\, 8901 SW 87th Ct\, United States
CATEGORIES:Governance
END:VEVENT
BEGIN:VEVENT
DTSTART;TZID=America/New_York:20201118T190000
DTEND;TZID=America/New_York:20201118T210000
DTSTAMP:20260424T200935
CREATED:20200514T174804Z
LAST-MODIFIED:20200811T184907Z
UID:6334-1605726000-1605733200@staging.bethormiami.com
SUMMARY:Board of Directors Meeting
DESCRIPTION:Zoom information to follow. Please note meeting moved from usual date due to Thanksgiving Holiday.
URL:https://staging.bethormiami.com/event/board-of-directors-meeting-7/
LOCATION:Beth Or\, 11715 SW 87th Ave\, Miami\, FL 33176\, USA\, 8901 SW 87th Ct\, United States
CATEGORIES:Governance
END:VEVENT
BEGIN:VEVENT
DTSTART;TZID=America/New_York:20201028T190000
DTEND;TZID=America/New_York:20201028T210000
DTSTAMP:20260424T200935
CREATED:20200514T192230Z
LAST-MODIFIED:20200811T172425Z
UID:6392-1603911600-1603918800@staging.bethormiami.com
SUMMARY:Executive Committee Meeting
DESCRIPTION:Zoom information will be transmitted to Executive Committee members prior to the meeting.
URL:https://staging.bethormiami.com/event/executive-committee-meeting-8/
LOCATION:Beth Or\, 11715 SW 87th Ave\, Miami\, FL 33176\, USA\, 8901 SW 87th Ct\, United States
CATEGORIES:Governance
END:VEVENT
BEGIN:VEVENT
DTSTART;TZID=America/New_York:20200826T190000
DTEND;TZID=America/New_York:20200826T210000
DTSTAMP:20260424T200935
CREATED:20200514T192046Z
LAST-MODIFIED:20200811T172252Z
UID:6390-1598468400-1598475600@staging.bethormiami.com
SUMMARY:Executive Committee Meeting
DESCRIPTION:Zoom information will be transmitted to Executive Committee members prior to the meeting.
URL:https://staging.bethormiami.com/event/executive-committee-meeting-7/
LOCATION:Beth Or\, 11715 SW 87th Ave\, Miami\, FL 33176\, USA\, 8901 SW 87th Ct\, United States
CATEGORIES:Governance
END:VEVENT
BEGIN:VEVENT
DTSTART;TZID=America/New_York:20200624T190000
DTEND;TZID=America/New_York:20200624T210000
DTSTAMP:20260424T200935
CREATED:20200514T191923Z
LAST-MODIFIED:20200531T014137Z
UID:6388-1593025200-1593032400@staging.bethormiami.com
SUMMARY:Executive Committee Meeting
DESCRIPTION:Zoom information will be transmitted to Executive Committee members prior to the meeting.
URL:https://staging.bethormiami.com/event/executive-committee-meeting-6/
LOCATION:Beth Or\, 11715 SW 87th Ave\, Miami\, FL 33176\, USA\, 8901 SW 87th Ct\, United States
CATEGORIES:Governance
ATTACH;FMTTYPE=image/jpeg:https://staging.bethormiami.com/wp-content/uploads/2020/05/unnamed-1.jpg
END:VEVENT
BEGIN:VEVENT
DTSTART;TZID=America/New_York:20200516T100000
DTEND;TZID=America/New_York:20200516T120000
DTSTAMP:20260424T200935
CREATED:20200514T185856Z
LAST-MODIFIED:20200514T185856Z
UID:6374-1589623200-1589630400@staging.bethormiami.com
SUMMARY:High Holiday Study and Planning with Jewish Learning Team
DESCRIPTION:A team of Beth Or volunteers are serving to plan for the upcoming High Holidays \nZoom Meeting for designated Team members: \nhttps://us02web.zoom.us/j/84597359121?pwd=UHpCVFUrZkVlOHRLZnh1NklhZ2szUT09 \nMeeting ID 859 7251 2460 \nPassword 345212
URL:https://staging.bethormiami.com/event/high-holiday-study-and-planning-with-jewish-learning-team/
LOCATION:Beth Or\, 11715 SW 87th Ave\, Miami\, FL 33176\, USA\, 8901 SW 87th Ct\, United States
CATEGORIES:Governance
END:VEVENT
END:VCALENDAR