BEGIN:VCALENDAR
VERSION:2.0
PRODID:-//Beth Or Miami - ECPv6.3.2//NONSGML v1.0//EN
CALSCALE:GREGORIAN
METHOD:PUBLISH
X-WR-CALNAME:Beth Or Miami
X-ORIGINAL-URL:https://staging.bethormiami.com
X-WR-CALDESC:Events for Beth Or Miami
REFRESH-INTERVAL;VALUE=DURATION:PT1H
X-Robots-Tag:noindex
X-PUBLISHED-TTL:PT1H
BEGIN:VTIMEZONE
TZID:America/New_York
BEGIN:DAYLIGHT
TZOFFSETFROM:-0500
TZOFFSETTO:-0400
TZNAME:EDT
DTSTART:20190310T070000
END:DAYLIGHT
BEGIN:STANDARD
TZOFFSETFROM:-0400
TZOFFSETTO:-0500
TZNAME:EST
DTSTART:20191103T060000
END:STANDARD
BEGIN:DAYLIGHT
TZOFFSETFROM:-0500
TZOFFSETTO:-0400
TZNAME:EDT
DTSTART:20200308T070000
END:DAYLIGHT
BEGIN:STANDARD
TZOFFSETFROM:-0400
TZOFFSETTO:-0500
TZNAME:EST
DTSTART:20201101T060000
END:STANDARD
END:VTIMEZONE
BEGIN:VEVENT
DTSTART;TZID=America/New_York:20200903T160000
DTEND;TZID=America/New_York:20200903T170000
DTSTAMP:20260424T171500
CREATED:20200806T023611Z
LAST-MODIFIED:20200902T205329Z
UID:6851-1599148800-1599152400@staging.bethormiami.com
SUMMARY:Memories from the Kitchen
DESCRIPTION:Memories from the Kitchen: Exploring Jewish recipes for the High Holy Days from the kitchen of some special friends and their accompanying memories. Thursdays at 4:00 PM August 27\, September 3\, 10\, 17 \n\n\n\nHoney cake with Danielle Berrin & Jessie Berrin 8/27\nMatzah Ball Soup with Susan Linder\, Jewish educator\, Child entertainer and song writer 9/3\nPerfect Lemon Preserved Chicken with Chef David Schwadron 9/10\nApple Pudding with JoAnne Lederman\, founder of Joanna’s Marketplace 9/17\n\n\n\nZoom link: https://us02web.zoom.us/meeting/register/tZwkdeGsqzsjH9W4WxPEXphMEUmIi6Zwge2r \nMeeting ID 889 2845 0951 \nPassword 660556 \n 
URL:https://staging.bethormiami.com/event/memories-from-the-kitchen/
LOCATION:Beth Or\, 11715 SW 87th Ave\, Miami\, FL 33176\, USA\, 8901 SW 87th Ct\, United States
CATEGORIES:Community,Food,Holidays
ATTACH;FMTTYPE=image/jpeg:https://staging.bethormiami.com/wp-content/uploads/2020/08/memories-from-the-kitchen-min.jpg
END:VEVENT
BEGIN:VEVENT
DTSTART;VALUE=DATE:20190730
DTEND;VALUE=DATE:20190801
DTSTAMP:20260424T171500
CREATED:20190726T171517Z
LAST-MODIFIED:20190726T171653Z
UID:5255-1564444800-1564617599@staging.bethormiami.com
SUMMARY:Bring your friends to play Canasta & Mahjong at Beth Or
DESCRIPTION:We are excited to announce that Beth Or has embarked on an enjoyable way to have fun.\n\nWe will be housing Canasta card games on Tuesdays and Mahjong games on Wednesdays in the Oneg room.\n\nTuesdays canasta from 1 p.m. to 4 p.m.\nWednesdays Mahjong will be from 11 a.m. to 3 p.m.\n\nWe are charging non-members $5 and members $3 per session\n\nTables and chairs will be set up. We’ve purchased some new card tables expressly for this purpose. We already have several non-members signed up for these events.\n\nCoffee and tea fixings will be available for use.\n\nPlease contact Annette Katz at\n305-542-8573 or via email at annette.katz@gmail.com\n\nAdditional times and days are available with advance.
URL:https://staging.bethormiami.com/event/bring-your-friends-to-play-canasta-mahjong-at-beth-or/
CATEGORIES:Community,Food
END:VEVENT
BEGIN:VEVENT
DTSTART;TZID=America/New_York:20190628T193000
DTEND;TZID=America/New_York:20190628T210000
DTSTAMP:20260424T171500
CREATED:20190529T002054Z
LAST-MODIFIED:20190628T235505Z
UID:3894-1561750200-1561755600@staging.bethormiami.com
SUMMARY:Kabbalat Shabbat Service
DESCRIPTION:
URL:https://staging.bethormiami.com/event/kabbalat-shabbat-service-34/
CATEGORIES:Community,Food,Holidays,Music
END:VEVENT
END:VCALENDAR