BEGIN:VCALENDAR
VERSION:2.0
PRODID:-//Beth Or Miami - ECPv6.3.2//NONSGML v1.0//EN
CALSCALE:GREGORIAN
METHOD:PUBLISH
X-WR-CALNAME:Beth Or Miami
X-ORIGINAL-URL:https://staging.bethormiami.com
X-WR-CALDESC:Events for Beth Or Miami
REFRESH-INTERVAL;VALUE=DURATION:PT1H
X-Robots-Tag:noindex
X-PUBLISHED-TTL:PT1H
BEGIN:VTIMEZONE
TZID:America/New_York
BEGIN:DAYLIGHT
TZOFFSETFROM:-0500
TZOFFSETTO:-0400
TZNAME:EDT
DTSTART:20240310T070000
END:DAYLIGHT
BEGIN:STANDARD
TZOFFSETFROM:-0400
TZOFFSETTO:-0500
TZNAME:EST
DTSTART:20241103T060000
END:STANDARD
END:VTIMEZONE
BEGIN:VEVENT
DTSTART;TZID=America/New_York:20241110T130000
DTEND;TZID=America/New_York:20241110T150000
DTSTAMP:20260423T073441
CREATED:20230524T174323Z
LAST-MODIFIED:20230524T174323Z
UID:9630-1731243600-1731250800@staging.bethormiami.com
SUMMARY:Red Tent Book Club Meeting
DESCRIPTION:
URL:https://staging.bethormiami.com/event/red-tent-book-club-meeting-26/
CATEGORIES:Community
ATTACH;FMTTYPE=image/jpeg:https://staging.bethormiami.com/wp-content/uploads/2022/07/bookreview.jpg
END:VEVENT
END:VCALENDAR